BEGIN:VCALENDAR
VERSION:2.0
PRODID:-//OntarioDance.com - ECPv6.1.2.2//NONSGML v1.0//EN
CALSCALE:GREGORIAN
METHOD:PUBLISH
X-ORIGINAL-URL:https://ontariodance.com
X-WR-CALDESC:Events for OntarioDance.com
REFRESH-INTERVAL;VALUE=DURATION:PT1H
X-Robots-Tag:noindex
X-PUBLISHED-TTL:PT1H
BEGIN:VTIMEZONE
TZID:America/Toronto
BEGIN:DAYLIGHT
TZOFFSETFROM:-0500
TZOFFSETTO:-0400
TZNAME:EDT
DTSTART:20230312T070000
END:DAYLIGHT
BEGIN:STANDARD
TZOFFSETFROM:-0400
TZOFFSETTO:-0500
TZNAME:EST
DTSTART:20231105T060000
END:STANDARD
END:VTIMEZONE
BEGIN:VEVENT
DTSTART;VALUE=DATE:20230216
DTEND;VALUE=DATE:20230220
DTSTAMP:20260424T212839
CREATED:20230403T121247Z
LAST-MODIFIED:20230913T130334Z
UID:68-1676505600-1676851199@ontariodance.com
SUMMARY:Dance Canada - Thunder Bay
DESCRIPTION:Dance Canada is committed to making each competition an exceptional experience for all dancers\, parents and studios. The Dance Canada family has always and will continue to provide the opportunity for dancers to dance on stage\, educate dancers in a meaningful way\, and leave a positive impact on each performer.
URL:https://ontariodance.com/event/dance-canada-thunder-bay/
LOCATION:Thunder Bay Community Auditorium\, 1 Paul Shaffer Drive\, Thunder Bay\, ON\, P7B 6C7\, Canada
ORGANIZER;CN="Dance%20Canada":MAILTO:jrkovarikdc@gmail.com
END:VEVENT
END:VCALENDAR