BEGIN:VCALENDAR
VERSION:2.0
PRODID:-//OntarioDance.com - ECPv6.1.2.2//NONSGML v1.0//EN
CALSCALE:GREGORIAN
METHOD:PUBLISH
X-ORIGINAL-URL:https://ontariodance.com
X-WR-CALDESC:Events for OntarioDance.com
REFRESH-INTERVAL;VALUE=DURATION:PT1H
X-Robots-Tag:noindex
X-PUBLISHED-TTL:PT1H
BEGIN:VTIMEZONE
TZID:America/Toronto
BEGIN:DAYLIGHT
TZOFFSETFROM:-0500
TZOFFSETTO:-0400
TZNAME:EDT
DTSTART:20230312T070000
END:DAYLIGHT
BEGIN:STANDARD
TZOFFSETFROM:-0400
TZOFFSETTO:-0500
TZNAME:EST
DTSTART:20231105T060000
END:STANDARD
END:VTIMEZONE
BEGIN:VEVENT
DTSTART;VALUE=DATE:20230302
DTEND;VALUE=DATE:20230306
DTSTAMP:20260424T201833
CREATED:20230403T121626Z
LAST-MODIFIED:20230913T130330Z
UID:72-1677715200-1678060799@ontariodance.com
SUMMARY:Dance Canada - Brantford 1
DESCRIPTION:Dance Canada is committed to making each competition an exceptional experience for all dancers\, parents and studios. The Dance Canada family has always and will continue to provide the opportunity for dancers to dance on stage\, educate dancers in a meaningful way\, and leave a positive impact on each performer.
URL:https://ontariodance.com/event/dance-canada-brantford-1/
LOCATION:Sanderson Centre\, 88 Dalhousie Street\, Brantford\, ON\, N3T 2J2\, Canada
ORGANIZER;CN="Dance%20Canada":MAILTO:jrkovarikdc@gmail.com
END:VEVENT
BEGIN:VEVENT
DTSTART;VALUE=DATE:20230302
DTEND;VALUE=DATE:20230306
DTSTAMP:20260424T201833
CREATED:20230412T102512Z
LAST-MODIFIED:20230412T102512Z
UID:221-1677715200-1678060799@ontariodance.com
SUMMARY:Xtreme Dance Champions - Alliston 1
DESCRIPTION:Xtreme Dance Champions (XDC) is a novel and creative competition that aims to infuse the dance world with a lively and dynamic spirit\, while upholding the highest standards of integrity\, Xcitement and competitiveness. Our competition is open to everyone\, regardless of whether they are first-time competitors or dancers with years of Xperience\, and offers a platform for showcasing their unique talents. \n  \n 
URL:https://ontariodance.com/event/xtreme-dance-champions-alliston-1/
LOCATION:Nottawasaga Inn Resort & Conference Centre\, 6015 Highway 89\, Alliston\, ON\, L9R 1A4\, Canada
ORGANIZER;CN="Xtreme%20Dance%20Champions":MAILTO:info@xtremedance.ca
END:VEVENT
BEGIN:VEVENT
DTSTART;VALUE=DATE:20230303
DTEND;VALUE=DATE:20230306
DTSTAMP:20260424T201833
CREATED:20230413T092621Z
LAST-MODIFIED:20230413T092621Z
UID:237-1677801600-1678060799@ontariodance.com
SUMMARY:Bedazzled Dance - Guelph 1
DESCRIPTION:Bedazzled is one of North America’s leading Dance Competitions. We pride ourselves in providing a safe\, fun\, friendly\, inclusive atmosphere for all our dancers\, studios and families. We know how hard our directors and dancers work\, and the long hours of dedication that goes into all the routines that we see on our stage\, which is why here at Bedazzled recognizing all our dancers and expanding our overalls is something we take pride in. With over 155 overalls per event\, there is no one who does it quite like Bedazzled. Qualified judges\, customized awards\, live streamed events\, MC mark awards and SO MUCH MORE offered each weekend. We want our dancers leaving our competition proud\, smiling\, and with memories to last a lifetime. Bedazzled is an experience you DON’T want to miss\, join the fun and register for one of our events!
URL:https://ontariodance.com/event/bedazzled-dance-guelph-1/
LOCATION:River Run Centre\, 35 Woolwich St\, Guelph\, ON\, N1H 3V1\, Canada
ORGANIZER;CN="Bedazzled%20Dance":MAILTO:bedazzled@bellnet.ca
END:VEVENT
BEGIN:VEVENT
DTSTART;VALUE=DATE:20230303
DTEND;VALUE=DATE:20230306
DTSTAMP:20260424T201833
CREATED:20230417T091745Z
LAST-MODIFIED:20230417T091745Z
UID:339-1677801600-1678060799@ontariodance.com
SUMMARY:Dance Attack - London 1
DESCRIPTION:We are excited to present the DANCE ATTACK COMPETITION\, an outstanding event presented by DANCE ATTACK. Beginning in 2017\, we are elevating our dance passion to new heights. Our expertise in arranging pleasurable and structured dance events ensures an unparalleled experience. Our aim is to bring the DANCE ATTACK vibe to you\, regardless of whether you are based in your city or studio. You do not want to miss out on this fantastic opportunity! Prepare yourself to encounter the extraordinary with DANCE ATTACK.
URL:https://ontariodance.com/event/dance-attack-london-1/
LOCATION:Centennial Hall\, 550 Wellington Street\, London\, ON\, N6A 3P9\, Canada
ORGANIZER;CN="Dance%20Attack":MAILTO:kent@dance-attack.com
END:VEVENT
BEGIN:VEVENT
DTSTART;VALUE=DATE:20230303
DTEND;VALUE=DATE:20230306
DTSTAMP:20260424T201833
CREATED:20230420T012826Z
LAST-MODIFIED:20230420T013146Z
UID:533-1677801600-1678060799@ontariodance.com
SUMMARY:Kick It Up Dance - Toronto
DESCRIPTION:Having raised two children in the competitive dance scene for over 20 years\, we were inspired to offer child dancers a more positive experience than what we had encountered. Our events are infused with genuine care and encouragement\, and we apply this philosophy to every aspect of our organization. Now in our 18th season\, we continue to strive for improvement and innovation. One of our clients recently reminded us that we have achieved the perfect balance between competition and family fun\, making it an incredible weekend for everyone. \nOur primary objective is to give child performers the recognition they deserve\, and for the memories of Kick It Up to last a lifetime. As well as providing entertainment for the entire family.
URL:https://ontariodance.com/event/kick-it-up-dance-toronto/
LOCATION:Hilton Toronto Airport Hotel & Suites\, 5875 Airport Road\, Mississauga\, ON\, L4V 1N1\, Canada
ORGANIZER;CN="Kick%20It%20Up%20Dance":MAILTO:info@kickitup.ca
END:VEVENT
BEGIN:VEVENT
DTSTART;VALUE=DATE:20230303
DTEND;VALUE=DATE:20230306
DTSTAMP:20260424T201833
CREATED:20230424T092442Z
LAST-MODIFIED:20230424T093532Z
UID:681-1677801600-1678060799@ontariodance.com
SUMMARY:Star Catchers Dance - Toronto 1
DESCRIPTION:The StarCatchers Competition has an impressive history spanning two decades\, but it continually strives to meet the current demands of the dance industry and its participants. It is widely regarded as one of the premier dance competitions in Ontario\, providing dancers with enjoyable and enriching experiences. To ensure convenience for both parents and performers\, StarCatchers limits its events to three days and carefully plans the schedule.
URL:https://ontariodance.com/event/star-catcher-dance-toronto-1/
LOCATION:The Armenian Youth Centre Theatre\, 50 Hallcrown Place\, North York\, ON\, M2J 1P6\, Canada
ORGANIZER;CN="Star%20Catchers%20Dance":MAILTO:directors@starcatchersdance.com
END:VEVENT
BEGIN:VEVENT
DTSTART;VALUE=DATE:20230305
DTEND;VALUE=DATE:20230307
DTSTAMP:20260424T201833
CREATED:20230424T101302Z
LAST-MODIFIED:20230424T101320Z
UID:706-1677974400-1678147199@ontariodance.com
SUMMARY:Strive Dance Challenge - Scarborough 1
DESCRIPTION:Strive Dance Challenge originated in 2003 as a way to contribute to the dance community by incorporating the best practices learned through years of experience at competitions. It began with two successful events in 2004 and has since expanded to include School and University Dance in its yearly locations. Strive Dance Challenge values customer satisfaction and has a high rate of returning studios and schools\, achieving this by taking into account the feedback received and making necessary improvements to provide a fair and efficient competition in a positive atmosphere. The competition is designed with the competitors\, parents\, teachers\, and studio directors in mind\, and this remains the core principle behind every event. Strive Dance Challenge remains small and runs fewer venues than most competitions to ensure that each event is tailored to the participants’ needs and nothing is left unattended.
URL:https://ontariodance.com/event/strive-dance-challenge-scarborough/
LOCATION:Chinese Cultural Centre Of Greater Toronto\, 5183 Sheppard Avenue East\, Scarborough\, ON\, M1B 5Z5\, Canada
ORGANIZER;CN="Strive%20Dance%20Challenge":MAILTO:strivedance@hotmail.com
END:VEVENT
END:VCALENDAR