BEGIN:VCALENDAR
VERSION:2.0
PRODID:-//OntarioDance.com - ECPv6.1.2.2//NONSGML v1.0//EN
CALSCALE:GREGORIAN
METHOD:PUBLISH
X-ORIGINAL-URL:https://ontariodance.com
X-WR-CALDESC:Events for OntarioDance.com
REFRESH-INTERVAL;VALUE=DURATION:PT1H
X-Robots-Tag:noindex
X-PUBLISHED-TTL:PT1H
BEGIN:VTIMEZONE
TZID:America/Toronto
BEGIN:DAYLIGHT
TZOFFSETFROM:-0500
TZOFFSETTO:-0400
TZNAME:EDT
DTSTART:20230312T070000
END:DAYLIGHT
BEGIN:STANDARD
TZOFFSETFROM:-0400
TZOFFSETTO:-0500
TZNAME:EST
DTSTART:20231105T060000
END:STANDARD
END:VTIMEZONE
BEGIN:VEVENT
DTSTART;VALUE=DATE:20230322
DTEND;VALUE=DATE:20230327
DTSTAMP:20260424T201833
CREATED:20230425T094346Z
LAST-MODIFIED:20230425T094715Z
UID:733-1679443200-1679875199@ontariodance.com
SUMMARY:Shine Dance Competition - Gatineau - Ottawa 1
DESCRIPTION:We aim to provide a well-managed\, punctual\, and professional event that will create positive and lasting memories for the dancers. Our award ceremonies are not only enjoyable but also encourage team morale. Shine Team works diligently to maintain order and tranquility during performances\, ensuring that each dancer gets the opportunity to shine.
URL:https://ontariodance.com/event/shine-dance-competition-gatineu-ottawa-1/
LOCATION:Canadian Museum of History\, 100 Laurier Street\, Gatineau\, QC\, K1A 0M8\, Canada
ORGANIZER;CN="Shine%20Dance%20Competition":MAILTO:info@shinedance.com
END:VEVENT
BEGIN:VEVENT
DTSTART;VALUE=DATE:20230323
DTEND;VALUE=DATE:20230326
DTSTAMP:20260424T201833
CREATED:20230420T114258Z
LAST-MODIFIED:20230425T091850Z
UID:579-1679529600-1679788799@ontariodance.com
SUMMARY:On The Floor - Niagara Falls 1
DESCRIPTION:On The Floor® (OTF) has a mission to provide a modern\, family-friendly dance competition that leaves all participants feeling motivated and inspired. By incorporating innovative concepts and exceptional adjudication\, OTF aims to be the leading dance competition in the industry. The founders of OTF\, Mitchell Jackson and Lisa Hupé\, shared a dream of creating a one-of-a-kind dance competition\, and worked tirelessly to make it a reality. \nSince its inception in 2012\, Mitchell and Lisa have been committed to making OTF an enjoyable and fulfilling experience for all participants. Drawing on their extensive dance backgrounds\, they aimed to create a competition that would offer dancers the opportunity to win scholarships to prestigious dance institutions\, while also learning from and connecting with industry professionals. To establish Canada’s premier dance competition\, it was essential to assemble the perfect team. Mitchell and Lisa have brought on board a prestigious faculty consisting of the industry’s top professionals\, providing outstanding opportunities for OTF competitors.
URL:https://ontariodance.com/event/on-the-floor-niagara-falls-1/
LOCATION:Greg Frewin Theatre\, 81 Ellen Avenue\, Niagara Falls\, ON\, L2G 3P8\, Canada
ORGANIZER;CN="On%20The%20Floor":MAILTO:dance@onthefloor.ca
END:VEVENT
BEGIN:VEVENT
DTSTART;VALUE=DATE:20230323
DTEND;VALUE=DATE:20230327
DTSTAMP:20260424T201833
CREATED:20230321T024302Z
LAST-MODIFIED:20230321T024302Z
UID:46-1679529600-1679875199@ontariodance.com
SUMMARY:Star Beat Dance Champions - Burlington 1
DESCRIPTION:At Star Beat we promote a family friendly atmosphere\, where every dancer is a Star! We love seeing dancers having fun\, making friends\, learning new things and enjoying an overall dance experience that they will remember forever! \nWe love giving back to the dancers through our overall cash awards\, trophies\, medals\, LED pins\, ribbons\, ongoing audience raffles\, guessing games & much more! Come dance with us this season to experience the fun and excitement\, you won’t want to miss it!
URL:https://ontariodance.com/event/star-beat-dance-champions-burlington-1/
LOCATION:The Burlington Performing Arts Centre (BPAC)\, 440 Locust Street\, Burlington\, ON\, L7S 1T7\, Canada
ORGANIZER;CN="Star%20Beat%20Dance%20Champions":MAILTO:contact@starbeatdance.com
END:VEVENT
BEGIN:VEVENT
DTSTART;VALUE=DATE:20230323
DTEND;VALUE=DATE:20230327
DTSTAMP:20260424T201833
CREATED:20230404T114052Z
LAST-MODIFIED:20230913T130326Z
UID:75-1679529600-1679875199@ontariodance.com
SUMMARY:Dance Canada - Blue Mountain 1
DESCRIPTION:Dance Canada is committed to making each competition an exceptional experience for all dancers\, parents and studios. The Dance Canada family has always and will continue to provide the opportunity for dancers to dance on stage\, educate dancers in a meaningful way\, and leave a positive impact on each performer. \nThis competition in Blue Mountain is a small to medium studio location.
URL:https://ontariodance.com/event/dance-canada-blue-mountain/
LOCATION:Blue Mountain Inn Conference Centre\, 242 Jozo Weider Blvd\, Town Of The Blue Mountains\, ON\, L9Y 3Z2\, Canada
ORGANIZER;CN="Dance%20Canada":MAILTO:jrkovarikdc@gmail.com
END:VEVENT
BEGIN:VEVENT
DTSTART;VALUE=DATE:20230323
DTEND;VALUE=DATE:20230327
DTSTAMP:20260424T201833
CREATED:20230412T102722Z
LAST-MODIFIED:20230412T102722Z
UID:225-1679529600-1679875199@ontariodance.com
SUMMARY:Xtreme Dance Champions - Alliston 2
DESCRIPTION:Xtreme Dance Champions (XDC) is a novel and creative competition that aims to infuse the dance world with a lively and dynamic spirit\, while upholding the highest standards of integrity\, Xcitement and competitiveness. Our competition is open to everyone\, regardless of whether they are first-time competitors or dancers with years of Xperience\, and offers a platform for showcasing their unique talents. \n  \n  \n 
URL:https://ontariodance.com/event/xtreme-dance-champions-alliston-2/
LOCATION:Nottawasaga Inn Resort & Conference Centre\, 6015 Highway 89\, Alliston\, ON\, L9R 1A4\, Canada
ORGANIZER;CN="Xtreme%20Dance%20Champions":MAILTO:info@xtremedance.ca
END:VEVENT
BEGIN:VEVENT
DTSTART;VALUE=DATE:20230323
DTEND;VALUE=DATE:20230327
DTSTAMP:20260424T201833
CREATED:20230413T103456Z
LAST-MODIFIED:20230413T103456Z
UID:280-1679529600-1679875199@ontariodance.com
SUMMARY:Breakthru Dance Challenge - Markham
DESCRIPTION:Breakthru Dance Challenge has been tailored based on feedback from studio owners and teachers. After conducting numerous surveys and interviews\, the team has incorporated their valuable advice\, concerns\, and suggestions to make Breakthru Dance Challenge the most comprehensive dance competition available today. \nBreakthru Dance Challenge aims to bring together the most exceptional aspects of a dance competition for everyone involved. It provides an exciting\, supportive\, and educational environment for competitors\, with opportunities to meet and learn from professionals in the industry. For studio owners and teachers\, it offers a stress-free\, well-organized\, and punctual event. For families and friends\, it ensures a comfortable and enjoyable atmosphere. \nThe team at Breakthru Dance Challenge understands the commitment and hard work of the dancer\, teacher\, studio\, and family. They strive to promote healthy competition\, encourage team spirit\, and cultivate family values in the environment. The objective is to ensure that every performer has the chance to grow and attain personal success beyond their expectations.
URL:https://ontariodance.com/event/breakthru-dance-challenge-markham/
LOCATION:Flato Markham Theatre\, 171 Town Centre Boulevard\, Markham\, ON\, L3R 8G5\, Canada
ORGANIZER;CN="Breakthru%20Dance%20Challenge":MAILTO:info@breakthrudancechallenge.com
END:VEVENT
BEGIN:VEVENT
DTSTART;VALUE=DATE:20230323
DTEND;VALUE=DATE:20230327
DTSTAMP:20260424T201833
CREATED:20230419T034157Z
LAST-MODIFIED:20230419T035804Z
UID:466-1679529600-1679875199@ontariodance.com
SUMMARY:Inspire Dance Challenge - Hamilton 1
DESCRIPTION:In 2010\, Inspire was launched with the goal of giving every child the chance to succeed through public performance. Our aim is to provide opportunities for all performers to feel accomplished\, regardless of their skill level. \nAlthough we do have winners and scores in this competition\, we believe that every effort is worthy of recognition. Each performance represents a moment in time where there are factors that are within and outside of the performer’s control. For example\, a performer cannot control who they are competing against or how hard that person has worked. Sometimes\, the competition may have a better execution\, but that does not diminish the bravery and effort that the performer put into their own performance. At Inspire\, we reward excellence\, but we also value every performer’s courage and hard work.
URL:https://ontariodance.com/event/inspire-dance-challenge-hamilton/
LOCATION:Hamilton Convention Centre\, 1 Summers Lane\, Hamilton\, ON\, L8P 4Y2\, Canada
ORGANIZER;CN="Inspire%20Dance%20Challenge":MAILTO:info@inspiredancechallenge.com
END:VEVENT
BEGIN:VEVENT
DTSTART;VALUE=DATE:20230323
DTEND;VALUE=DATE:20230327
DTSTAMP:20260424T201833
CREATED:20230427T033812Z
LAST-MODIFIED:20230427T033812Z
UID:838-1679529600-1679875199@ontariodance.com
SUMMARY:The Knockout Dance Challenge - Toronto 1
DESCRIPTION:The Knockout Dance Challenge. Each member of the TKO Collective has over twenty-five years of experience in competitive dance throughout North America as performers\, choreographers\, certified teachers\, and judges.The TKO Collective believes that dance is an inspiring\, educational\, and joyful art form for both performers and audiences. The Knockout Dance Challenge strive to create a positive and welcoming environment that fosters fun and friendship among participants. At the end of each competition\, students not only have a chance to win cash awards or scholarships\, but also walk away with a smile on their face and potentially long-lasting friendships. Join the excitement by registering now for The Knockout Dance Challenge.
URL:https://ontariodance.com/event/the-knockout-dance-challenge-toronto-1/
LOCATION:Hilton Toronto Airport Hotel & Suites\, 5875 Airport Road\, Mississauga\, ON\, L4V 1N1\, Canada
ORGANIZER;CN="The%20Knockout%20Dance%20Challenge":MAILTO:info@theknockoutdance.com
END:VEVENT
END:VCALENDAR