BEGIN:VCALENDAR
VERSION:2.0
PRODID:-//OntarioDance.com - ECPv6.1.2.2//NONSGML v1.0//EN
CALSCALE:GREGORIAN
METHOD:PUBLISH
X-ORIGINAL-URL:https://ontariodance.com
X-WR-CALDESC:Events for OntarioDance.com
REFRESH-INTERVAL;VALUE=DURATION:PT1H
X-Robots-Tag:noindex
X-PUBLISHED-TTL:PT1H
BEGIN:VTIMEZONE
TZID:America/Toronto
BEGIN:DAYLIGHT
TZOFFSETFROM:-0500
TZOFFSETTO:-0400
TZNAME:EDT
DTSTART:20230312T070000
END:DAYLIGHT
BEGIN:STANDARD
TZOFFSETFROM:-0400
TZOFFSETTO:-0500
TZNAME:EST
DTSTART:20231105T060000
END:STANDARD
END:VTIMEZONE
BEGIN:VEVENT
DTSTART;VALUE=DATE:20230418
DTEND;VALUE=DATE:20230422
DTSTAMP:20260424T190152
CREATED:20230913T081010Z
LAST-MODIFIED:20230913T081010Z
UID:2194-1681776000-1682121599@ontariodance.com
SUMMARY:Dance Attack - St. Catharines 1
DESCRIPTION:We are excited to present the DANCE ATTACK COMPETITION\, an outstanding event presented by DANCE ATTACK. Beginning in 2017\, we are elevating our dance passion to new heights. Our expertise in arranging pleasurable and structured dance events ensures an unparalleled experience. Our aim is to bring the DANCE ATTACK vibe to you\, regardless of whether you are based in your city or studio. You do not want to miss out on this fantastic opportunity! Prepare yourself to encounter the extraordinary with DANCE ATTACK. \nThis is a Small Studio Event.
URL:https://ontariodance.com/event/dance-attack-st-catharines-1-3/
LOCATION:Holiday Inn & Suites St. Catharines\, 327 Ontario Street\, St. Catharines\, ON\, L2R 5L3\, Canada
ORGANIZER;CN="Dance%20Attack":MAILTO:kent@dance-attack.com
END:VEVENT
BEGIN:VEVENT
DTSTART;VALUE=DATE:20230418
DTEND;VALUE=DATE:20230422
DTSTAMP:20260424T190152
CREATED:20230925T041915Z
LAST-MODIFIED:20230925T041915Z
UID:2660-1681776000-1682121599@ontariodance.com
SUMMARY:The Knockout Dance Challenge - Gatineau
DESCRIPTION:The Knockout Dance Challenge. Each member of the TKO Collective has over twenty-five years of experience in competitive dance throughout North America as performers\, choreographers\, certified teachers\, and judges.The TKO Collective believes that dance is an inspiring\, educational\, and joyful art form for both performers and audiences. The Knockout Dance Challenge strive to create a positive and welcoming environment that fosters fun and friendship among participants. At the end of each competition\, students not only have a chance to win cash awards or scholarships\, but also walk away with a smile on their face and potentially long-lasting friendships. Join the excitement by registering now for The Knockout Dance Challenge.
URL:https://ontariodance.com/event/the-knockout-dance-challenge-gatineau/
LOCATION:Palais des Congres\, 50 Boulevard Maisonneuve – 3rd Floor\, Gatineau\, QC\, J8X 4H4\, Canada
ORGANIZER;CN="The%20Knockout%20Dance%20Challenge":MAILTO:info@theknockoutdance.com
END:VEVENT
BEGIN:VEVENT
DTSTART;VALUE=DATE:20230419
DTEND;VALUE=DATE:20230420
DTSTAMP:20260424T190152
CREATED:20230424T102208Z
LAST-MODIFIED:20230426T125149Z
UID:713-1681862400-1681948799@ontariodance.com
SUMMARY:Strive Dance Challenge - Milton 1
DESCRIPTION:Strive Dance Challenge originated in 2003 as a way to contribute to the dance community by incorporating the best practices learned through years of experience at competitions. It began with two successful events in 2004 and has since expanded to include School and University Dance in its yearly locations. Strive Dance Challenge values customer satisfaction and has a high rate of returning studios and schools\, achieving this by taking into account the feedback received and making necessary improvements to provide a fair and efficient competition in a positive atmosphere. The competition is designed with the competitors\, parents\, teachers\, and studio directors in mind\, and this remains the core principle behind every event. Strive Dance Challenge remains small and runs fewer venues than most competitions to ensure that each event is tailored to the participants’ needs and nothing is left unattended.
URL:https://ontariodance.com/event/strive-dance-challenge-milton/
LOCATION:FirstOntario Arts Centre Milton\, 1010 Main South East\, Milton\, ON\, L9T 6H7\, Canada
ORGANIZER;CN="Strive%20Dance%20Challenge":MAILTO:strivedance@hotmail.com
END:VEVENT
END:VCALENDAR