BEGIN:VCALENDAR
VERSION:2.0
PRODID:-//OntarioDance.com - ECPv6.1.2.2//NONSGML v1.0//EN
CALSCALE:GREGORIAN
METHOD:PUBLISH
X-ORIGINAL-URL:https://ontariodance.com
X-WR-CALDESC:Events for OntarioDance.com
REFRESH-INTERVAL;VALUE=DURATION:PT1H
X-Robots-Tag:noindex
X-PUBLISHED-TTL:PT1H
BEGIN:VTIMEZONE
TZID:America/Toronto
BEGIN:DAYLIGHT
TZOFFSETFROM:-0500
TZOFFSETTO:-0400
TZNAME:EDT
DTSTART:20230312T070000
END:DAYLIGHT
BEGIN:STANDARD
TZOFFSETFROM:-0400
TZOFFSETTO:-0500
TZNAME:EST
DTSTART:20231105T060000
END:STANDARD
END:VTIMEZONE
BEGIN:VEVENT
DTSTART;VALUE=DATE:20230420
DTEND;VALUE=DATE:20230425
DTSTAMP:20260424T190152
CREATED:20230424T094641Z
LAST-MODIFIED:20230424T094641Z
UID:696-1681948800-1682380799@ontariodance.com
SUMMARY:Star Catchers Dance - Niagara Falls
DESCRIPTION:The StarCatchers Competition has an impressive history spanning two decades\, but it continually strives to meet the current demands of the dance industry and its participants. It is widely regarded as one of the premier dance competitions in Ontario\, providing dancers with enjoyable and enriching experiences. To ensure convenience for both parents and performers\, StarCatchers limits its events to three days and carefully plans the schedule.
URL:https://ontariodance.com/event/star-catchers-dance-niagara-falls/
LOCATION:Crowne Plaza Niagara Falls-Fallsview\, 5685 Falls Avenue\, Niagara Falls\, ON\, L2E 6W7\, Canada
ORGANIZER;CN="Star%20Catchers%20Dance":MAILTO:directors@starcatchersdance.com
END:VEVENT
END:VCALENDAR