BEGIN:VCALENDAR
VERSION:2.0
PRODID:-//OntarioDance.com - ECPv6.1.2.2//NONSGML v1.0//EN
CALSCALE:GREGORIAN
METHOD:PUBLISH
X-ORIGINAL-URL:https://ontariodance.com
X-WR-CALDESC:Events for OntarioDance.com
REFRESH-INTERVAL;VALUE=DURATION:PT1H
X-Robots-Tag:noindex
X-PUBLISHED-TTL:PT1H
BEGIN:VTIMEZONE
TZID:America/Toronto
BEGIN:DAYLIGHT
TZOFFSETFROM:-0500
TZOFFSETTO:-0400
TZNAME:EDT
DTSTART:20230312T070000
END:DAYLIGHT
BEGIN:STANDARD
TZOFFSETFROM:-0400
TZOFFSETTO:-0500
TZNAME:EST
DTSTART:20231105T060000
END:STANDARD
END:VTIMEZONE
BEGIN:VEVENT
DTSTART;VALUE=DATE:20230425
DTEND;VALUE=DATE:20230429
DTSTAMP:20260424T190152
CREATED:20230913T073035Z
LAST-MODIFIED:20230913T073035Z
UID:2167-1682380800-1682726399@ontariodance.com
SUMMARY:View Dance Challenge - Hamilton 3
DESCRIPTION:VIEW Dance Challenge is Canada’s top dance competition\, which is celebrating its 10th year of production. VIEW’s primary objective has always been to provide an exceptional dance experience that stands out from the rest\, by offering a platform for young and aspiring dancers to celebrate their passion for dance. VIEW has become a community and a second home for dancers from around the world. Over the past decade\, VIEW has evolved and grown through innovative and creative approaches. \nVIEW is an internationally recognized dance competition\, known for its professionalism\, uniqueness\, and reputation. It currently operates in nine Canadian provinces and three different countries\, with plans to expand even further. The VIEW family has also grown significantly\, which is evident in the exceptional roster of event directors\, staff\, and adjudicators who all share a common goal of dedicating their skills to the art of dance.
URL:https://ontariodance.com/event/view-dance-challenge-hamilton-3-2/
LOCATION:Hamilton Convention Centre\, 1 Summers Lane\, Hamilton\, ON\, L8P 4Y2\, Canada
ORGANIZER;CN="View%20Dance%20Challenge":MAILTO:info@viewdancechallenge.com
END:VEVENT
END:VCALENDAR