BEGIN:VCALENDAR
VERSION:2.0
PRODID:-//OntarioDance.com - ECPv6.1.2.2//NONSGML v1.0//EN
CALSCALE:GREGORIAN
METHOD:PUBLISH
X-WR-CALNAME:OntarioDance.com
X-ORIGINAL-URL:https://ontariodance.com
X-WR-CALDESC:Events for OntarioDance.com
REFRESH-INTERVAL;VALUE=DURATION:PT1H
X-Robots-Tag:noindex
X-PUBLISHED-TTL:PT1H
BEGIN:VTIMEZONE
TZID:America/Toronto
BEGIN:DAYLIGHT
TZOFFSETFROM:-0500
TZOFFSETTO:-0400
TZNAME:EDT
DTSTART:20230312T070000
END:DAYLIGHT
BEGIN:STANDARD
TZOFFSETFROM:-0400
TZOFFSETTO:-0500
TZNAME:EST
DTSTART:20231105T060000
END:STANDARD
END:VTIMEZONE
BEGIN:VEVENT
DTSTART;VALUE=DATE:20230425
DTEND;VALUE=DATE:20230429
DTSTAMP:20260424T190143
CREATED:20230913T073035Z
LAST-MODIFIED:20230913T073035Z
UID:2167-1682380800-1682726399@ontariodance.com
SUMMARY:View Dance Challenge - Hamilton 3
DESCRIPTION:VIEW Dance Challenge is Canada’s top dance competition\, which is celebrating its 10th year of production. VIEW’s primary objective has always been to provide an exceptional dance experience that stands out from the rest\, by offering a platform for young and aspiring dancers to celebrate their passion for dance. VIEW has become a community and a second home for dancers from around the world. Over the past decade\, VIEW has evolved and grown through innovative and creative approaches. \nVIEW is an internationally recognized dance competition\, known for its professionalism\, uniqueness\, and reputation. It currently operates in nine Canadian provinces and three different countries\, with plans to expand even further. The VIEW family has also grown significantly\, which is evident in the exceptional roster of event directors\, staff\, and adjudicators who all share a common goal of dedicating their skills to the art of dance.
URL:https://ontariodance.com/event/view-dance-challenge-hamilton-3-2/
LOCATION:Hamilton Convention Centre\, 1 Summers Lane\, Hamilton\, ON\, L8P 4Y2\, Canada
ORGANIZER;CN="View%20Dance%20Challenge":MAILTO:info@viewdancechallenge.com
END:VEVENT
BEGIN:VEVENT
DTSTART;VALUE=DATE:20230426
DTEND;VALUE=DATE:20230427
DTSTAMP:20260424T190143
CREATED:20230426T125319Z
LAST-MODIFIED:20230426T125319Z
UID:810-1682467200-1682553599@ontariodance.com
SUMMARY:Strive Dance Challenge - Milton 2
DESCRIPTION:Strive Dance Challenge originated in 2003 as a way to contribute to the dance community by incorporating the best practices learned through years of experience at competitions. It began with two successful events in 2004 and has since expanded to include School and University Dance in its yearly locations. Strive Dance Challenge values customer satisfaction and has a high rate of returning studios and schools\, achieving this by taking into account the feedback received and making necessary improvements to provide a fair and efficient competition in a positive atmosphere. The competition is designed with the competitors\, parents\, teachers\, and studio directors in mind\, and this remains the core principle behind every event. Strive Dance Challenge remains small and runs fewer venues than most competitions to ensure that each event is tailored to the participants’ needs and nothing is left unattended.
URL:https://ontariodance.com/event/strive-dance-challenge-milton-2/
LOCATION:FirstOntario Arts Centre Milton\, 1010 Main South East\, Milton\, ON\, L9T 6H7\, Canada
ORGANIZER;CN="Strive%20Dance%20Challenge":MAILTO:strivedance@hotmail.com
END:VEVENT
BEGIN:VEVENT
DTSTART;VALUE=DATE:20230426
DTEND;VALUE=DATE:20230429
DTSTAMP:20260424T190143
CREATED:20230925T044406Z
LAST-MODIFIED:20230925T044406Z
UID:2681-1682467200-1682726399@ontariodance.com
SUMMARY:This Is It Dance - Ottawa 2
DESCRIPTION:This Is It Dance Competition is the top pick for Ontario residents\, offering a secure and thrilling atmosphere for emerging dance artists to showcase their skills\, gain knowledge\, and develop their craft. Our judges offer valuable feedback and support to dancers\, acknowledging their talent and devotion to dance. At This Is It Dance Competition\, we endeavor to make each competition a remarkable and unforgettable experience for everyone involved in the community.
URL:https://ontariodance.com/event/this-is-it-dance-ottawa-2/
LOCATION:Algonquin Commons Theatre\, Robert C. Gillett Student Commons\, 1385 Woodroffe Ave Room E 104\, Nepean\, ON\, K2G 1V8\, Canada
ORGANIZER;CN="This%20Is%20It%20Dance":MAILTO:info@thisisitdance.com
END:VEVENT
END:VCALENDAR