BEGIN:VCALENDAR
VERSION:2.0
PRODID:-//OntarioDance.com - ECPv6.1.2.2//NONSGML v1.0//EN
CALSCALE:GREGORIAN
METHOD:PUBLISH
X-ORIGINAL-URL:https://ontariodance.com
X-WR-CALDESC:Events for OntarioDance.com
REFRESH-INTERVAL;VALUE=DURATION:PT1H
X-Robots-Tag:noindex
X-PUBLISHED-TTL:PT1H
BEGIN:VTIMEZONE
TZID:America/Toronto
BEGIN:DAYLIGHT
TZOFFSETFROM:-0500
TZOFFSETTO:-0400
TZNAME:EDT
DTSTART:20230312T070000
END:DAYLIGHT
BEGIN:STANDARD
TZOFFSETFROM:-0400
TZOFFSETTO:-0500
TZNAME:EST
DTSTART:20231105T060000
END:STANDARD
END:VTIMEZONE
BEGIN:VEVENT
DTSTART;VALUE=DATE:20230518
DTEND;VALUE=DATE:20230521
DTSTAMP:20260424T174607
CREATED:20230405T120703Z
LAST-MODIFIED:20230913T130247Z
UID:112-1684368000-1684627199@ontariodance.com
SUMMARY:Dance Canada - Kitchener
DESCRIPTION:Dance Canada is committed to making each competition an exceptional experience for all dancers\, parents and studios. The Dance Canada family has always and will continue to provide the opportunity for dancers to dance on stage\, educate dancers in a meaningful way\, and leave a positive impact on each performer.
URL:https://ontariodance.com/event/dance-canada-kitchener/
LOCATION:Centre in the Square\, 101 Queen Street North\, Kitchener\, ON\, N2H 6P7\, Canada
ORGANIZER;CN="Dance%20Canada":MAILTO:jrkovarikdc@gmail.com
END:VEVENT
BEGIN:VEVENT
DTSTART;VALUE=DATE:20230518
DTEND;VALUE=DATE:20230522
DTSTAMP:20260424T174607
CREATED:20230321T055824Z
LAST-MODIFIED:20230321T023309Z
UID:27-1684368000-1684713599@ontariodance.com
SUMMARY:MOVE Dance Competition - Blue Mountain
DESCRIPTION:MOVE Dance Competition brings you a competition with professional and experienced staff\, coupled with a format that is unique\, fresh\, modern and sure to offer you a competition environment like no other.
URL:https://ontariodance.com/event/move-dance-competition-blue-mountain/
LOCATION:Blue Mountain Inn\, 110 Jozo Weider Blvd\, The Blue Mountains\, ON\, L9Y 3Z2\, Canada
END:VEVENT
BEGIN:VEVENT
DTSTART;VALUE=DATE:20230518
DTEND;VALUE=DATE:20230522
DTSTAMP:20260424T174607
CREATED:20230412T093502Z
LAST-MODIFIED:20230412T093601Z
UID:203-1684368000-1684713599@ontariodance.com
SUMMARY:Star Beat Dance Champions - Burlington 2
DESCRIPTION:At Star Beat we promote a family friendly atmosphere\, where every dancer is a Star! We love seeing dancers having fun\, making friends\, learning new things and enjoying an overall dance experience that they will remember forever! \nWe love giving back to the dancers through our overall cash awards\, trophies\, medals\, LED pins\, ribbons\, ongoing audience raffles\, guessing games & much more! Come dance with us this season to experience the fun and excitement\, you won’t want to miss it!
URL:https://ontariodance.com/event/star-beat-dance-champions-burlington/
LOCATION:The Burlington Performing Arts Centre (BPAC)\, 440 Locust Street\, Burlington\, ON\, L7S 1T7\, Canada
ORGANIZER;CN="Star%20Beat%20Dance%20Champions":MAILTO:contact@starbeatdance.com
END:VEVENT
BEGIN:VEVENT
DTSTART;VALUE=DATE:20230518
DTEND;VALUE=DATE:20230522
DTSTAMP:20260424T174607
CREATED:20230414T083422Z
LAST-MODIFIED:20230414T083422Z
UID:307-1684368000-1684713599@ontariodance.com
SUMMARY:Breaking Bounds Dance - Alliston 1
DESCRIPTION:Annie Wood’s immense pride and excitement are evident as she brings forth this competition\, offering the dance community an exceptional platform to celebrate dance education’s progress. Breaking Bounds Dance Challenge is Annie’s dream come true\, fueled by her unwavering passion for dance and the entire community involved in studio and competition dance life. Annie’s remarkable devotion to care and excellence in the dance industry sets her apart\, evident in all of her produced events. \nThank you for taking part in our event and sharing your love for dance with us!
URL:https://ontariodance.com/event/breaking-bounds-dance-alliston-1/
LOCATION:Nottawasaga Inn Resort & Conference Centre\, 6015 Highway 89\, Alliston\, ON\, L9R 1A4\, Canada
ORGANIZER;CN="Breaking%20Bounds%20Dance":MAILTO:info@breakingboundsdance.com
END:VEVENT
BEGIN:VEVENT
DTSTART;VALUE=DATE:20230518
DTEND;VALUE=DATE:20230522
DTSTAMP:20260424T174607
CREATED:20230414T090651Z
LAST-MODIFIED:20230414T090651Z
UID:321-1684368000-1684713599@ontariodance.com
SUMMARY:Candance - Huntsville 2
DESCRIPTION:We are a prominent provider in the dance industry in North America\, promoting our brand as a family-friendly\, fun\, and professional experience. Our primary focus is on producing high-quality events that cater to dancers of all ages and abilities. We maintain our standards and continuously strive to innovate as the dance world evolves. \nWith over 20 tour dates in Canada and the United States\, Candance dance competition is the perfect choice for your dancers. Our competition provides a professional\, stimulating\, challenging\, and enjoyable experience for dancers this season. Discover why Candance has been the top choice for most dance studios year after year\, and let your dancers revel in the experience.
URL:https://ontariodance.com/event/candance-huntsville-2/
LOCATION:Deerhurst Resort\, 1235 Deerhurst Drive\, Huntsville\, ON\, P1H 2E8\, Canada
ORGANIZER;CN="Candance":MAILTO:info@candancecompetition.ca
END:VEVENT
BEGIN:VEVENT
DTSTART;VALUE=DATE:20230518
DTEND;VALUE=DATE:20230522
DTSTAMP:20260424T174607
CREATED:20230417T094915Z
LAST-MODIFIED:20230417T094915Z
UID:359-1684368000-1684713599@ontariodance.com
SUMMARY:Dance Attack  - Mississauga
DESCRIPTION:We are excited to present the DANCE ATTACK COMPETITION\, an outstanding event presented by DANCE ATTACK. Beginning in 2017\, we are elevating our dance passion to new heights. Our expertise in arranging pleasurable and structured dance events ensures an unparalleled experience. Our aim is to bring the DANCE ATTACK vibe to you\, regardless of whether you are based in your city or studio. You do not want to miss out on this fantastic opportunity! Prepare yourself to encounter the extraordinary with DANCE ATTACK.
URL:https://ontariodance.com/event/dance-attack-mississauga/
LOCATION:Hilton Mississauga/Meadowvale\, 6750 Mississauga Road\, Mississauga\, ON\, L5N 2L3\, Canada
ORGANIZER;CN="Dance%20Attack":MAILTO:kent@dance-attack.com
END:VEVENT
BEGIN:VEVENT
DTSTART;VALUE=DATE:20230518
DTEND;VALUE=DATE:20230522
DTSTAMP:20260424T174607
CREATED:20230419T041328Z
LAST-MODIFIED:20230419T041328Z
UID:485-1684368000-1684713599@ontariodance.com
SUMMARY:Inspire Dance Challenge  - Scarborough
DESCRIPTION:In 2010\, Inspire was launched with the goal of giving every child the chance to succeed through public performance. Our aim is to provide opportunities for all performers to feel accomplished\, regardless of their skill level. \nAlthough we do have winners and scores in this competition\, we believe that every effort is worthy of recognition. Each performance represents a moment in time where there are factors that are within and outside of the performer’s control. For example\, a performer cannot control who they are competing against or how hard that person has worked. Sometimes\, the competition may have a better execution\, but that does not diminish the bravery and effort that the performer put into their own performance. At Inspire\, we reward excellence\, but we also value every performer’s courage and hard work.
URL:https://ontariodance.com/event/inspire-dance-challenge-scarborough/
LOCATION:Chinese Cultural Centre\, 5183 Sheppard Ave East\, Scarborough\, ON\, M1B 5Z5\, Canada
ORGANIZER;CN="Inspire%20Dance%20Challenge":MAILTO:info@inspiredancechallenge.com
END:VEVENT
BEGIN:VEVENT
DTSTART;VALUE=DATE:20230518
DTEND;VALUE=DATE:20230522
DTSTAMP:20260424T174607
CREATED:20230420T121047Z
LAST-MODIFIED:20230420T121047Z
UID:600-1684368000-1684713599@ontariodance.com
SUMMARY:On The Floor - Kitchener
DESCRIPTION:On The Floor® (OTF) has a mission to provide a modern\, family-friendly dance competition that leaves all participants feeling motivated and inspired. By incorporating innovative concepts and exceptional adjudication\, OTF aims to be the leading dance competition in the industry. The founders of OTF\, Mitchell Jackson and Lisa Hupé\, shared a dream of creating a one-of-a-kind dance competition\, and worked tirelessly to make it a reality. \nSince its inception in 2012\, Mitchell and Lisa have been committed to making OTF an enjoyable and fulfilling experience for all participants. Drawing on their extensive dance backgrounds\, they aimed to create a competition that would offer dancers the opportunity to win scholarships to prestigious dance institutions\, while also learning from and connecting with industry professionals. To establish Canada’s premier dance competition\, it was essential to assemble the perfect team. Mitchell and Lisa have brought on board a prestigious faculty consisting of the industry’s top professionals\, providing outstanding opportunities for OTF competitors.
URL:https://ontariodance.com/event/on-the-floor-kitchener/
LOCATION:Bingemans\, 425 Bingemans Centre Drive\, Kitchener\, ON\, N2B 3X7\, Canada
ORGANIZER;CN="On%20The%20Floor":MAILTO:dance@onthefloor.ca
END:VEVENT
BEGIN:VEVENT
DTSTART;VALUE=DATE:20230518
DTEND;VALUE=DATE:20230522
DTSTAMP:20260424T174607
CREATED:20230421T083833Z
LAST-MODIFIED:20230421T083833Z
UID:653-1684368000-1684713599@ontariodance.com
SUMMARY:Shock Dance Challenge - St. Catharines 2
DESCRIPTION:Describing SHOCK as just another typical dance competition would be an inadequate representation. In the dance industry\, SHOCK is highly regarded and has gained significant recognition in a short amount of time. By offering a more intimate dance experience\, SHOCK is able to work closely and efficiently to ensure every aspect is taken care of. The SHOCK experience has been refined since its establishment in 2010\, ensuring that everyone who attends is eager to return. \nOperated by a team of enthusiastic and imaginative individuals\, SHOCK aims to provide the most exceptional dance competition experience possible. Picture a professionally managed dance competition that still maintains a relaxed and comfortable atmosphere – that’s precisely what you can expect from SHOCK!
URL:https://ontariodance.com/event/shock-dance-challenge-st-catharines-2/
LOCATION:FirstOntario Performing Arts Centre\, 250 St Paul Street\, St. Catharines\, ON\, L2R 3M2\, Canada
ORGANIZER;CN="Shock%20Dance%20Challenge":MAILTO:info@shockdancechallenge.com
END:VEVENT
BEGIN:VEVENT
DTSTART;VALUE=DATE:20230518
DTEND;VALUE=DATE:20230522
DTSTAMP:20260424T174607
CREATED:20230428T040046Z
LAST-MODIFIED:20230428T040046Z
UID:896-1684368000-1684713599@ontariodance.com
SUMMARY:View Dance Challenge - Hamilton 3
DESCRIPTION:VIEW Dance Challenge is Canada’s top dance competition\, which is celebrating its 10th year of production. VIEW’s primary objective has always been to provide an exceptional dance experience that stands out from the rest\, by offering a platform for young and aspiring dancers to celebrate their passion for dance. VIEW has become a community and a second home for dancers from around the world. Over the past decade\, VIEW has evolved and grown through innovative and creative approaches. \nVIEW is an internationally recognized dance competition\, known for its professionalism\, uniqueness\, and reputation. It currently operates in nine Canadian provinces and three different countries\, with plans to expand even further. The VIEW family has also grown significantly\, which is evident in the exceptional roster of event directors\, staff\, and adjudicators who all share a common goal of dedicating their skills to the art of dance. \nThis is a Small Studio Exclusive event.
URL:https://ontariodance.com/event/view-dance-challenge-hamilton-3/
LOCATION:Hamilton Convention Centre\, 1 Summers Lane\, Hamilton\, ON\, L8P 4Y2\, Canada
ORGANIZER;CN="View%20Dance%20Challenge":MAILTO:info@viewdancechallenge.com
END:VEVENT
BEGIN:VEVENT
DTSTART;VALUE=DATE:20230518
DTEND;VALUE=DATE:20230522
DTSTAMP:20260424T174607
CREATED:20230428T040727Z
LAST-MODIFIED:20230428T040727Z
UID:898-1684368000-1684713599@ontariodance.com
SUMMARY:View Dance Challenge - Toronto 3
DESCRIPTION:VIEW Dance Challenge is Canada’s top dance competition\, which is celebrating its 10th year of production. VIEW’s primary objective has always been to provide an exceptional dance experience that stands out from the rest\, by offering a platform for young and aspiring dancers to celebrate their passion for dance. VIEW has become a community and a second home for dancers from around the world. Over the past decade\, VIEW has evolved and grown through innovative and creative approaches. \nVIEW is an internationally recognized dance competition\, known for its professionalism\, uniqueness\, and reputation. It currently operates in nine Canadian provinces and three different countries\, with plans to expand even further. The VIEW family has also grown significantly\, which is evident in the exceptional roster of event directors\, staff\, and adjudicators who all share a common goal of dedicating their skills to the art of dance.
URL:https://ontariodance.com/event/view-dance-challenge-toronto-3/
LOCATION:Delta Hotels by Marriott Toronto Airport & Conference Centre\, 655 Dixon Road\, Toronto\, ON\, M9W 1J3\, Canada
ORGANIZER;CN="View%20Dance%20Challenge":MAILTO:info@viewdancechallenge.com
END:VEVENT
END:VCALENDAR