BEGIN:VCALENDAR
VERSION:2.0
PRODID:-//OntarioDance.com - ECPv6.1.2.2//NONSGML v1.0//EN
CALSCALE:GREGORIAN
METHOD:PUBLISH
X-WR-CALNAME:OntarioDance.com
X-ORIGINAL-URL:https://ontariodance.com
X-WR-CALDESC:Events for OntarioDance.com
REFRESH-INTERVAL;VALUE=DURATION:PT1H
X-Robots-Tag:noindex
X-PUBLISHED-TTL:PT1H
BEGIN:VTIMEZONE
TZID:America/Toronto
BEGIN:DAYLIGHT
TZOFFSETFROM:-0500
TZOFFSETTO:-0400
TZNAME:EDT
DTSTART:20230312T070000
END:DAYLIGHT
BEGIN:STANDARD
TZOFFSETFROM:-0400
TZOFFSETTO:-0500
TZNAME:EST
DTSTART:20231105T060000
END:STANDARD
END:VTIMEZONE
BEGIN:VEVENT
DTSTART;VALUE=DATE:20230702
DTEND;VALUE=DATE:20230704
DTSTAMP:20260424T153644
CREATED:20230413T094245Z
LAST-MODIFIED:20230413T094245Z
UID:251-1688256000-1688428799@ontariodance.com
SUMMARY:Bedazzled Dance - Collingwood 3
DESCRIPTION:Bedazzled is one of North America’s leading Dance Competitions. We pride ourselves in providing a safe\, fun\, friendly\, inclusive atmosphere for all our dancers\, studios and families. We know how hard our directors and dancers work\, and the long hours of dedication that goes into all the routines that we see on our stage\, which is why here at Bedazzled recognizing all our dancers and expanding our overalls is something we take pride in. With over 155 overalls per event\, there is no one who does it quite like Bedazzled. Qualified judges\, customized awards\, live streamed events\, MC mark awards and SO MUCH MORE offered each weekend. We want our dancers leaving our competition proud\, smiling\, and with memories to last a lifetime. Bedazzled is an experience you DON’T want to miss\, join the fun and register for one of our events!
URL:https://ontariodance.com/event/bedazzled-dance-collingwood-3/
LOCATION:Blue Mountain Village\, 156 Jozo Weider Boulevard Town Of The Blue Mountains\, Collingwood\, ON\, L9Y 3Z2\, Canada
ORGANIZER;CN="Bedazzled%20Dance":MAILTO:bedazzled@bellnet.ca
END:VEVENT
BEGIN:VEVENT
DTSTART;VALUE=DATE:20230702
DTEND;VALUE=DATE:20230710
DTSTAMP:20260424T153644
CREATED:20230420T120801Z
LAST-MODIFIED:20230420T120801Z
UID:598-1688256000-1688947199@ontariodance.com
SUMMARY:On The Floor - Alliston 6
DESCRIPTION:On The Floor® (OTF) has a mission to provide a modern\, family-friendly dance competition that leaves all participants feeling motivated and inspired. By incorporating innovative concepts and exceptional adjudication\, OTF aims to be the leading dance competition in the industry. The founders of OTF\, Mitchell Jackson and Lisa Hupé\, shared a dream of creating a one-of-a-kind dance competition\, and worked tirelessly to make it a reality. \nSince its inception in 2012\, Mitchell and Lisa have been committed to making OTF an enjoyable and fulfilling experience for all participants. Drawing on their extensive dance backgrounds\, they aimed to create a competition that would offer dancers the opportunity to win scholarships to prestigious dance institutions\, while also learning from and connecting with industry professionals. To establish Canada’s premier dance competition\, it was essential to assemble the perfect team. Mitchell and Lisa have brought on board a prestigious faculty consisting of the industry’s top professionals\, providing outstanding opportunities for OTF competitors.
URL:https://ontariodance.com/event/on-the-floor-alliston-6/
LOCATION:Nottawasaga Inn Resort & Conference Centre\, 6015 Highway 89\, Alliston\, ON\, L9R 1A4\, Canada
ORGANIZER;CN="On%20The%20Floor":MAILTO:dance@onthefloor.ca
END:VEVENT
END:VCALENDAR