BEGIN:VCALENDAR
VERSION:2.0
PRODID:-//OntarioDance.com - ECPv6.1.2.2//NONSGML v1.0//EN
CALSCALE:GREGORIAN
METHOD:PUBLISH
X-ORIGINAL-URL:https://ontariodance.com
X-WR-CALDESC:Events for OntarioDance.com
REFRESH-INTERVAL;VALUE=DURATION:PT1H
X-Robots-Tag:noindex
X-PUBLISHED-TTL:PT1H
BEGIN:VTIMEZONE
TZID:America/Toronto
BEGIN:DAYLIGHT
TZOFFSETFROM:-0500
TZOFFSETTO:-0400
TZNAME:EDT
DTSTART:20230312T070000
END:DAYLIGHT
BEGIN:STANDARD
TZOFFSETFROM:-0400
TZOFFSETTO:-0500
TZNAME:EST
DTSTART:20231105T060000
END:STANDARD
END:VTIMEZONE
BEGIN:VEVENT
DTSTART;VALUE=DATE:20231005
DTEND;VALUE=DATE:20231010
DTSTAMP:20260424T115234
CREATED:20230417T123851Z
LAST-MODIFIED:20230417T123851Z
UID:373-1696464000-1696895999@ontariodance.com
SUMMARY:Canada Salsa and Bachata Congress - Toronto
DESCRIPTION:The Canadian Salsa Event of the Year!\nThis is the longest running event in Canada & one of the largest & most anticipated events in North America. There will be 50 artists from different countries\, 70 dance companies from around the world\, and 45 top-notch instructors attending. Workshops will be provided for individuals of all skill levels\, including beginner boot camps and intensive sessions for experts. You’ll have the opportunity to dance socially for 22 hours in three ballrooms\, while enjoying the musical stylings of 10 DJs. Additionally\, there will be 20 vendors present. The 16th Annual Canadian Championships\, featuring Professional\, Amateur\, and Pro-Am heats and showcases\, will also take place.
URL:https://ontariodance.com/event/canada-salsa-and-bachata-congress-toronto/
LOCATION:Fairmont Royal York\, 100 Front Street West\, Toronto\, ON\, M5J 1E3\, Canada
ORGANIZER;CN="Canada%20Salsa%20Congress":MAILTO:info@canadasalsacongress.com
END:VEVENT
BEGIN:VEVENT
DTSTART;VALUE=DATE:20231006
DTEND;VALUE=DATE:20231009
DTSTAMP:20260424T115234
CREATED:20230414T122008Z
LAST-MODIFIED:20230414T122008Z
UID:334-1696550400-1696809599@ontariodance.com
SUMMARY:Can-Am DanceSport Gala - Toronto
DESCRIPTION:The Can-Am DanceSport Gala is coming back to Toronto and it’s going to be an amazing event! This year’s competition will be the 13th edition of this spectacular international event\, and it will also feature the North American Championships! Dancers from all over the world will come together for this exciting competition.  Don’t miss out on this incredible event happening this fall!
URL:https://ontariodance.com/event/can-am-dancesport-gala-toronto/
ORGANIZER;CN="Can-Am%20Dancesport%20Gala":MAILTO:canam.dance@gmail.com
END:VEVENT
END:VCALENDAR