BEGIN:VCALENDAR
VERSION:2.0
PRODID:-//OntarioDance.com - ECPv6.1.2.2//NONSGML v1.0//EN
CALSCALE:GREGORIAN
METHOD:PUBLISH
X-WR-CALNAME:OntarioDance.com
X-ORIGINAL-URL:https://ontariodance.com
X-WR-CALDESC:Events for OntarioDance.com
REFRESH-INTERVAL;VALUE=DURATION:PT1H
X-Robots-Tag:noindex
X-PUBLISHED-TTL:PT1H
BEGIN:VTIMEZONE
TZID:America/Toronto
BEGIN:DAYLIGHT
TZOFFSETFROM:-0500
TZOFFSETTO:-0400
TZNAME:EDT
DTSTART:20240310T070000
END:DAYLIGHT
BEGIN:STANDARD
TZOFFSETFROM:-0400
TZOFFSETTO:-0500
TZNAME:EST
DTSTART:20241103T060000
END:STANDARD
END:VTIMEZONE
BEGIN:VEVENT
DTSTART;VALUE=DATE:20240119
DTEND;VALUE=DATE:20240120
DTSTAMP:20260423T143450
CREATED:20240125T075326Z
LAST-MODIFIED:20240213T122906Z
UID:4408-1705622400-1705708799@ontariodance.com
SUMMARY:CTRL Acrobatic Dance Co. - Acro Clinic 1
DESCRIPTION:CTRL Acrobatics is not just another acro studio. We’re a pioneering junction where the grace of acro seamlessly melds with the wonders of circus arts. Rooted deeply in inclusivity\, our vision goes beyond traditional realms\, drawing inspiration from the enchanting world of the circus —a safe haven for unique talents\, where magic is real and every performance is a story.
URL:https://ontariodance.com/event/ctrl-acrobatic-dance-co-acro-clinic-2/
LOCATION:CTRL Acrobatic Dance Co.\, 12-153 Bridgeland Ave\, North York\, ON\, M6A 2V1\, Canada
END:VEVENT
END:VCALENDAR