BEGIN:VCALENDAR
VERSION:2.0
PRODID:-//OntarioDance.com - ECPv6.1.2.2//NONSGML v1.0//EN
CALSCALE:GREGORIAN
METHOD:PUBLISH
X-ORIGINAL-URL:https://ontariodance.com
X-WR-CALDESC:Events for OntarioDance.com
REFRESH-INTERVAL;VALUE=DURATION:PT1H
X-Robots-Tag:noindex
X-PUBLISHED-TTL:PT1H
BEGIN:VTIMEZONE
TZID:America/Toronto
BEGIN:DAYLIGHT
TZOFFSETFROM:-0500
TZOFFSETTO:-0400
TZNAME:EDT
DTSTART:20240310T070000
END:DAYLIGHT
BEGIN:STANDARD
TZOFFSETFROM:-0400
TZOFFSETTO:-0500
TZNAME:EST
DTSTART:20241103T060000
END:STANDARD
END:VTIMEZONE
BEGIN:VEVENT
DTSTART;VALUE=DATE:20240209
DTEND;VALUE=DATE:20240210
DTSTAMP:20260423T130950
CREATED:20240124T125751Z
LAST-MODIFIED:20240124T125751Z
UID:4358-1707436800-1707523199@ontariodance.com
SUMMARY:Matricks Acro - Combo Acro Drop In Clinics 2
DESCRIPTION:Matricks Acro is a nationally-renowned acrobatics intensive that offers unique and challenging courses to participants of all levels. They’re proud to be The Leading Acro Intensive in Canada and are dedicated to providing their students with the best training possible. Their expert instructors emphasize on training flexibility\, strength\, and coordination to create strong and capable acrobats. Through their comprehensive curriculum\, participants will learn walkovers\, aerials\, tumbling\, contortion\, balances\, double tricks\, and much more.
URL:https://ontariodance.com/event/matricks-acro-combo-acro-drop-in-clinics-2/
LOCATION:Vaughan\, Ontario\, Vaughan\, Ontario\, Canada
END:VEVENT
END:VCALENDAR