BEGIN:VCALENDAR
VERSION:2.0
PRODID:-//OntarioDance.com - ECPv6.1.2.2//NONSGML v1.0//EN
CALSCALE:GREGORIAN
METHOD:PUBLISH
X-WR-CALNAME:OntarioDance.com
X-ORIGINAL-URL:https://ontariodance.com
X-WR-CALDESC:Events for OntarioDance.com
REFRESH-INTERVAL;VALUE=DURATION:PT1H
X-Robots-Tag:noindex
X-PUBLISHED-TTL:PT1H
BEGIN:VTIMEZONE
TZID:America/Toronto
BEGIN:DAYLIGHT
TZOFFSETFROM:-0500
TZOFFSETTO:-0400
TZNAME:EDT
DTSTART:20240310T070000
END:DAYLIGHT
BEGIN:STANDARD
TZOFFSETFROM:-0400
TZOFFSETTO:-0500
TZNAME:EST
DTSTART:20241103T060000
END:STANDARD
END:VTIMEZONE
BEGIN:VEVENT
DTSTART;VALUE=DATE:20240215
DTEND;VALUE=DATE:20240218
DTSTAMP:20260423T130917
CREATED:20230921T075559Z
LAST-MODIFIED:20230921T075559Z
UID:2588-1707955200-1708214399@ontariodance.com
SUMMARY:Terpsichore Dance Celebration - Ottawa
DESCRIPTION:Terpsichore is a place where dancers of all skill levels\, body types\, and backgrounds come together to celebrate their love of dance. We strive to foster a safe\, positive\, and inclusive space for all dancers. Our goal this convention season is to encourage\, unify and inspire young dancers nation-wide.
URL:https://ontariodance.com/event/terpsichore-dance-celebration-ottawa/
LOCATION:Algonquin Commons Theatre\, Robert C. Gillett Student Commons\, 1385 Woodroffe Ave Room E 104\, Nepean\, ON\, K2G 1V8\, Canada
ORGANIZER;CN="Terpsichore%20Dance%20Celebration":MAILTO:info@terpsichore.ca
END:VEVENT
BEGIN:VEVENT
DTSTART;VALUE=DATE:20240216
DTEND;VALUE=DATE:20240219
DTSTAMP:20260423T130917
CREATED:20230913T130117Z
LAST-MODIFIED:20230913T130435Z
UID:2231-1708041600-1708300799@ontariodance.com
SUMMARY:Dance Canada - Thunder Bay
DESCRIPTION:Dance Canada is committed to making each competition an exceptional experience for all dancers\, parents and studios. The Dance Canada family has always and will continue to provide the opportunity for dancers to dance on stage\, educate dancers in a meaningful way\, and leave a positive impact on each performer.
URL:https://ontariodance.com/event/dance-canada-thunder-bay-2/
LOCATION:Thunder Bay Community Auditorium\, 1 Paul Shaffer Drive\, Thunder Bay\, ON\, P7B 6C7\, Canada
ORGANIZER;CN="Dance%20Canada":MAILTO:jrkovarikdc@gmail.com
END:VEVENT
BEGIN:VEVENT
DTSTART;VALUE=DATE:20240216
DTEND;VALUE=DATE:20240217
DTSTAMP:20260423T130917
CREATED:20240124T125339Z
LAST-MODIFIED:20240124T125339Z
UID:4350-1708041600-1708127999@ontariodance.com
SUMMARY:Matricks Acro - Contortion Drop In Clinics 2
DESCRIPTION:Matricks Acro is a nationally-renowned acrobatics intensive that offers unique and challenging courses to participants of all levels. They’re proud to be The Leading Acro Intensive in Canada and are dedicated to providing their students with the best training possible. Their expert instructors emphasize on training flexibility\, strength\, and coordination to create strong and capable acrobats. Through their comprehensive curriculum\, participants will learn walkovers\, aerials\, tumbling\, contortion\, balances\, double tricks\, and much more.
URL:https://ontariodance.com/event/matricks-acro-contortion-drop-in-clinics-2/
LOCATION:Vaughan\, Ontario\, Vaughan\, Ontario\, Canada
END:VEVENT
BEGIN:VEVENT
DTSTART;VALUE=DATE:20240216
DTEND;VALUE=DATE:20240217
DTSTAMP:20260423T130917
CREATED:20240124T130445Z
LAST-MODIFIED:20240124T130445Z
UID:4370-1708041600-1708127999@ontariodance.com
SUMMARY:Matricks Acro - P.A Day Acro Camp 3
DESCRIPTION:Matricks Acro is a nationally-renowned acrobatics intensive that offers unique and challenging courses to participants of all levels. They’re proud to be The Leading Acro Intensive in Canada and are dedicated to providing their students with the best training possible. Their expert instructors emphasize on training flexibility\, strength\, and coordination to create strong and capable acrobats. Through their comprehensive curriculum\, participants will learn walkovers\, aerials\, tumbling\, contortion\, balances\, double tricks\, and much more.
URL:https://ontariodance.com/event/matricks-acro-p-a-day-acro-camp-3/
LOCATION:Vaughan\, Ontario\, Vaughan\, Ontario\, Canada
END:VEVENT
BEGIN:VEVENT
DTSTART;VALUE=DATE:20240216
DTEND;VALUE=DATE:20240217
DTSTAMP:20260423T130917
CREATED:20240125T074858Z
LAST-MODIFIED:20240213T123925Z
UID:4402-1708041600-1708127999@ontariodance.com
SUMMARY:CTRL Acrobatic Dance Co. - Acro Clinic 2
DESCRIPTION:CTRL Acrobatics is not just another acro studio. We’re a pioneering junction where the grace of acro seamlessly melds with the wonders of circus arts. Rooted deeply in inclusivity\, our vision goes beyond traditional realms\, drawing inspiration from the enchanting world of the circus —a safe haven for unique talents\, where magic is real and every performance is a story.
URL:https://ontariodance.com/event/ctrl-acrobatic-dance-co-acro-clinic/
LOCATION:CTRL Acrobatic Dance Co.\, 12-153 Bridgeland Ave\, North York\, ON\, M6A 2V1\, Canada
END:VEVENT
END:VCALENDAR