BEGIN:VCALENDAR
VERSION:2.0
PRODID:-//OntarioDance.com - ECPv6.1.2.2//NONSGML v1.0//EN
CALSCALE:GREGORIAN
METHOD:PUBLISH
X-ORIGINAL-URL:https://ontariodance.com
X-WR-CALDESC:Events for OntarioDance.com
REFRESH-INTERVAL;VALUE=DURATION:PT1H
X-Robots-Tag:noindex
X-PUBLISHED-TTL:PT1H
BEGIN:VTIMEZONE
TZID:America/Toronto
BEGIN:DAYLIGHT
TZOFFSETFROM:-0500
TZOFFSETTO:-0400
TZNAME:EDT
DTSTART:20240310T070000
END:DAYLIGHT
BEGIN:STANDARD
TZOFFSETFROM:-0400
TZOFFSETTO:-0500
TZNAME:EST
DTSTART:20241103T060000
END:STANDARD
END:VTIMEZONE
BEGIN:VEVENT
DTSTART;VALUE=DATE:20240216
DTEND;VALUE=DATE:20240219
DTSTAMP:20260423T130950
CREATED:20230913T130117Z
LAST-MODIFIED:20230913T130435Z
UID:2231-1708041600-1708300799@ontariodance.com
SUMMARY:Dance Canada - Thunder Bay
DESCRIPTION:Dance Canada is committed to making each competition an exceptional experience for all dancers\, parents and studios. The Dance Canada family has always and will continue to provide the opportunity for dancers to dance on stage\, educate dancers in a meaningful way\, and leave a positive impact on each performer.
URL:https://ontariodance.com/event/dance-canada-thunder-bay-2/
LOCATION:Thunder Bay Community Auditorium\, 1 Paul Shaffer Drive\, Thunder Bay\, ON\, P7B 6C7\, Canada
ORGANIZER;CN="Dance%20Canada":MAILTO:jrkovarikdc@gmail.com
END:VEVENT
BEGIN:VEVENT
DTSTART;VALUE=DATE:20240217
DTEND;VALUE=DATE:20240219
DTSTAMP:20260423T130950
CREATED:20230922T112101Z
LAST-MODIFIED:20230922T112101Z
UID:2621-1708128000-1708300799@ontariodance.com
SUMMARY:The Dance Rage - Brantford
DESCRIPTION:TDR offers more than just a dance competition as they provide intensive programs for dancers aged 6 and above. The professional choreographers offer different styles to learn\, new friends to meet\, and potential professional opportunities that could lead dancers to the industry. TDR also has a “Rage Wage” system that promotes respect for all dancers and studios\, and encourages studio spirit. They believe in supporting and learning from each other\, and their stage is a safe place where dancers can confidently express themselves. Any kind acts witnessed by TDR staff members can be rewarded with a “Rage Wage” that can be redeemed at their Swag Shop. TDR promises to make each competition exciting\, fun\, and filled with positive energy and memories that will last a lifetime for every family\, studio\, and dancer that joins the rage.
URL:https://ontariodance.com/event/the-dance-rage-brantford-2/
LOCATION:Sanderson Centre\, 88 Dalhousie Street\, Brantford\, ON\, N3T 2J2\, Canada
ORGANIZER;CN="The%20Dance%20Rage":MAILTO:thedancerage@gmail.com
END:VEVENT
BEGIN:VEVENT
DTSTART;VALUE=DATE:20240218
DTEND;VALUE=DATE:20240220
DTSTAMP:20260423T130950
CREATED:20230426T130916Z
LAST-MODIFIED:20230426T130916Z
UID:816-1708214400-1708387199@ontariodance.com
SUMMARY:The Dance Rage - Brantford
DESCRIPTION:TDR offers more than just a dance competition as they provide intensive programs for dancers aged 6 and above. The professional choreographers offer different styles to learn\, new friends to meet\, and potential professional opportunities that could lead dancers to the industry. TDR also has a “Rage Wage” system that promotes respect for all dancers and studios\, and encourages studio spirit. They believe in supporting and learning from each other\, and their stage is a safe place where dancers can confidently express themselves. Any kind acts witnessed by TDR staff members can be rewarded with a “Rage Wage” that can be redeemed at their Swag Shop. TDR promises to make each competition exciting\, fun\, and filled with positive energy and memories that will last a lifetime for every family\, studio\, and dancer that joins the rage.
URL:https://ontariodance.com/event/the-dance-rage-brantford/
LOCATION:Sanderson Centre\, 88 Dalhousie Street\, Brantford\, ON\, N3T 2J2\, Canada
ORGANIZER;CN="The%20Dance%20Rage":MAILTO:thedancerage@gmail.com
END:VEVENT
END:VCALENDAR