BEGIN:VCALENDAR
VERSION:2.0
PRODID:-//OntarioDance.com - ECPv6.1.2.2//NONSGML v1.0//EN
CALSCALE:GREGORIAN
METHOD:PUBLISH
X-ORIGINAL-URL:https://ontariodance.com
X-WR-CALDESC:Events for OntarioDance.com
REFRESH-INTERVAL;VALUE=DURATION:PT1H
X-Robots-Tag:noindex
X-PUBLISHED-TTL:PT1H
BEGIN:VTIMEZONE
TZID:America/Toronto
BEGIN:DAYLIGHT
TZOFFSETFROM:-0500
TZOFFSETTO:-0400
TZNAME:EDT
DTSTART:20240310T070000
END:DAYLIGHT
BEGIN:STANDARD
TZOFFSETFROM:-0400
TZOFFSETTO:-0500
TZNAME:EST
DTSTART:20241103T060000
END:STANDARD
END:VTIMEZONE
BEGIN:VEVENT
DTSTART;VALUE=DATE:20240223
DTEND;VALUE=DATE:20240226
DTSTAMP:20260423T130951
CREATED:20230912T123439Z
LAST-MODIFIED:20230912T123550Z
UID:2097-1708646400-1708905599@ontariodance.com
SUMMARY:Bedazzled Dance - Richmond Hill 1
DESCRIPTION:Bedazzled is one of North America’s leading Dance Competitions. We pride ourselves in providing a safe\, fun\, friendly\, inclusive atmosphere for all our dancers\, studios and families. We know how hard our directors and dancers work\, and the long hours of dedication that goes into all the routines that we see on our stage\, which is why here at Bedazzled recognizing all our dancers and expanding our overalls is something we take pride in. With over 155 overalls per event\, there is no one who does it quite like Bedazzled. Qualified judges\, customized awards\, live streamed events\, MC mark awards and SO MUCH MORE offered each weekend. We want our dancers leaving our competition proud\, smiling\, and with memories to last a lifetime. Bedazzled is an experience you DON’T want to miss\, join the fun and register for one of our events!
URL:https://ontariodance.com/event/bedazzled-dance-richmond-hill-3/
LOCATION:Richmond Hill Centre For the Arts\, 10268 Yonge Street\, Richmond Hill\, ON\, L4C 3B7\, Canada
ORGANIZER;CN="Bedazzled%20Dance":MAILTO:bedazzled@bellnet.ca
END:VEVENT
BEGIN:VEVENT
DTSTART;VALUE=DATE:20240223
DTEND;VALUE=DATE:20240224
DTSTAMP:20260423T130951
CREATED:20230915T111923Z
LAST-MODIFIED:20240320T114716Z
UID:2365-1708646400-1708732799@ontariodance.com
SUMMARY:Fever International Dance Championships - Burlington (SOLO HEAT: Live On Air Broadcast)
DESCRIPTION:Our company aims to create an environment where Canadian dance studios and their talented young dancers experience more than just a competitive atmosphere. We motivate and support young dancers to pursue and achieve their dreams\, and we offer professional opportunities to our dancers in a nurturing environment that upholds family values. Fever events guarantee a positive and enjoyable ambiance\, accommodating staff\, experienced judges\, and unique awards packages. \nOur competition program is professional and unparalleled\, as we provide both spirited competition and education in dance culture to ensure artistic growth and development. When things heat up\, there’s no place better to be than Fever! \nThis is a Pre-Season competition.
URL:https://ontariodance.com/event/fever-international-dance-championships-burlington-cdx-the-discipline-series/
ORGANIZER;CN="Fever%20International%20Dance%20Championships":MAILTO:soloheat@feveridc.com
END:VEVENT
BEGIN:VEVENT
DTSTART;VALUE=DATE:20240223
DTEND;VALUE=DATE:20240224
DTSTAMP:20260423T130951
CREATED:20240124T125842Z
LAST-MODIFIED:20240124T125842Z
UID:4360-1708646400-1708732799@ontariodance.com
SUMMARY:Matricks Acro - Combo Acro Drop In Clinics 3
DESCRIPTION:Matricks Acro is a nationally-renowned acrobatics intensive that offers unique and challenging courses to participants of all levels. They’re proud to be The Leading Acro Intensive in Canada and are dedicated to providing their students with the best training possible. Their expert instructors emphasize on training flexibility\, strength\, and coordination to create strong and capable acrobats. Through their comprehensive curriculum\, participants will learn walkovers\, aerials\, tumbling\, contortion\, balances\, double tricks\, and much more.
URL:https://ontariodance.com/event/matricks-acro-combo-acro-drop-in-clinics-3/
LOCATION:Vaughan\, Ontario\, Vaughan\, Ontario\, Canada
END:VEVENT
BEGIN:VEVENT
DTSTART;VALUE=DATE:20240223
DTEND;VALUE=DATE:20240224
DTSTAMP:20260423T130951
CREATED:20240205T130429Z
LAST-MODIFIED:20240205T160714Z
UID:4528-1708646400-1708732799@ontariodance.com
SUMMARY:Premier Dance Academy - 2024 Competitive Team Showcase
DESCRIPTION:
URL:https://ontariodance.com/event/premier-dance-academy-2024-competitive-team-showcase/
LOCATION:Humanities Theatre\, 200 University Avenue West\, Waterloo\, ON\, N2L 3G1\, Canada
END:VEVENT
BEGIN:VEVENT
DTSTART;VALUE=DATE:20240223
DTEND;VALUE=DATE:20240226
DTSTAMP:20260423T130951
CREATED:20230426T113332Z
LAST-MODIFIED:20230426T113332Z
UID:766-1708646400-1708905599@ontariodance.com
SUMMARY:Shooting Stars Dance Competition - Orillia
DESCRIPTION:Shooting Stars Dance Company (SSDC) has reached its 10th year and established a remarkable reputation. Our dance events are greatly appreciated by dancers\, their families\, and instructors alike. Our philosophy centers around the ideals of performing\, celebrating\, and growing. We prioritize providing performers the chance to showcase their skills in a theater environment with a live audience\, receive applause\, rewards\, and ample feedback to enhance their abilities\, rather than focusing solely on competing.
URL:https://ontariodance.com/event/shooting-stars-dance-competition-orillia-2/
LOCATION:Orillia Opera House\, 20 Mississaga Street West\, Orillia\, ON\, L3V 3A6\, Canada
ORGANIZER;CN="Shooting%20Stars":MAILTO:ssdcomp@gmail.com
END:VEVENT
BEGIN:VEVENT
DTSTART;VALUE=DATE:20240223
DTEND;VALUE=DATE:20240226
DTSTAMP:20260423T130951
CREATED:20230922T112952Z
LAST-MODIFIED:20230922T112952Z
UID:2623-1708646400-1708905599@ontariodance.com
SUMMARY:The Dance Rage - Hamilton 1
DESCRIPTION:TDR offers more than just a dance competition as they provide intensive programs for dancers aged 6 and above. The professional choreographers offer different styles to learn\, new friends to meet\, and potential professional opportunities that could lead dancers to the industry. TDR also has a “Rage Wage” system that promotes respect for all dancers and studios\, and encourages studio spirit. They believe in supporting and learning from each other\, and their stage is a safe place where dancers can confidently express themselves. Any kind acts witnessed by TDR staff members can be rewarded with a “Rage Wage” that can be redeemed at their Swag Shop. TDR promises to make each competition exciting\, fun\, and filled with positive energy and memories that will last a lifetime for every family\, studio\, and dancer that joins the rage.
URL:https://ontariodance.com/event/the-dance-rage-hamilton-1/
LOCATION:Mohawk College\, 135 Fennell Avenue West\, Hamilton\, ON\, L9C 0E5\, Canada
ORGANIZER;CN="The%20Dance%20Rage":MAILTO:thedancerage@gmail.com
END:VEVENT
END:VCALENDAR