BEGIN:VCALENDAR
VERSION:2.0
PRODID:-//OntarioDance.com - ECPv6.1.2.2//NONSGML v1.0//EN
CALSCALE:GREGORIAN
METHOD:PUBLISH
X-ORIGINAL-URL:https://ontariodance.com
X-WR-CALDESC:Events for OntarioDance.com
REFRESH-INTERVAL;VALUE=DURATION:PT1H
X-Robots-Tag:noindex
X-PUBLISHED-TTL:PT1H
BEGIN:VTIMEZONE
TZID:America/Toronto
BEGIN:DAYLIGHT
TZOFFSETFROM:-0500
TZOFFSETTO:-0400
TZNAME:EDT
DTSTART:20240310T070000
END:DAYLIGHT
BEGIN:STANDARD
TZOFFSETFROM:-0400
TZOFFSETTO:-0500
TZNAME:EST
DTSTART:20241103T060000
END:STANDARD
END:VTIMEZONE
BEGIN:VEVENT
DTSTART;VALUE=DATE:20240228
DTEND;VALUE=DATE:20240303
DTSTAMP:20260423T114728
CREATED:20230921T075736Z
LAST-MODIFIED:20230921T075756Z
UID:2590-1709078400-1709423999@ontariodance.com
SUMMARY:Terpsichore Dance Celebration - Mississauga 1
DESCRIPTION:Terpsichore is a place where dancers of all skill levels\, body types\, and backgrounds come together to celebrate their love of dance. We strive to foster a safe\, positive\, and inclusive space for all dancers. Our goal this convention season is to encourage\, unify and inspire young dancers nation-wide.
URL:https://ontariodance.com/event/terpsichore-dance-celebration-mississauga-2/
LOCATION:Living Arts Centre\, 4141 Living Arts Drive\, Mississauga\, ON\, L5B 4B8\, Canada
ORGANIZER;CN="Terpsichore%20Dance%20Celebration":MAILTO:info@terpsichore.ca
END:VEVENT
END:VCALENDAR