BEGIN:VCALENDAR
VERSION:2.0
PRODID:-//OntarioDance.com - ECPv6.1.2.2//NONSGML v1.0//EN
CALSCALE:GREGORIAN
METHOD:PUBLISH
X-ORIGINAL-URL:https://ontariodance.com
X-WR-CALDESC:Events for OntarioDance.com
REFRESH-INTERVAL;VALUE=DURATION:PT1H
X-Robots-Tag:noindex
X-PUBLISHED-TTL:PT1H
BEGIN:VTIMEZONE
TZID:America/Toronto
BEGIN:DAYLIGHT
TZOFFSETFROM:-0500
TZOFFSETTO:-0400
TZNAME:EDT
DTSTART:20240310T070000
END:DAYLIGHT
BEGIN:STANDARD
TZOFFSETFROM:-0400
TZOFFSETTO:-0500
TZNAME:EST
DTSTART:20241103T060000
END:STANDARD
END:VTIMEZONE
BEGIN:VEVENT
DTSTART;VALUE=DATE:20240307
DTEND;VALUE=DATE:20240310
DTSTAMP:20260423T114727
CREATED:20230925T043854Z
LAST-MODIFIED:20230925T043854Z
UID:2671-1709769600-1710028799@ontariodance.com
SUMMARY:This Is It Dance - Niagara Falls 1
DESCRIPTION:This Is It Dance Competition is the top pick for Ontario residents\, offering a secure and thrilling atmosphere for emerging dance artists to showcase their skills\, gain knowledge\, and develop their craft. Our judges offer valuable feedback and support to dancers\, acknowledging their talent and devotion to dance. At This Is It Dance Competition\, we endeavor to make each competition a remarkable and unforgettable experience for everyone involved in the community.
URL:https://ontariodance.com/event/this-is-it-dance-niagara-falls-1/
LOCATION:The Americana Conference Resort and Spa\, 8444 Lundy's Lane\, Niagara Falls\, ON\, L2H 1H4\, Canada
ORGANIZER;CN="This%20Is%20It%20Dance":MAILTO:info@thisisitdance.com
END:VEVENT
BEGIN:VEVENT
DTSTART;VALUE=DATE:20240307
DTEND;VALUE=DATE:20240311
DTSTAMP:20260423T114727
CREATED:20230918T050315Z
LAST-MODIFIED:20230918T050315Z
UID:2418-1709769600-1710115199@ontariodance.com
SUMMARY:On The Floor - Niagara Falls 1
DESCRIPTION:On The Floor® (OTF) has a mission to provide a modern\, family-friendly dance competition that leaves all participants feeling motivated and inspired. By incorporating innovative concepts and exceptional adjudication\, OTF aims to be the leading dance competition in the industry. The founders of OTF\, Mitchell Jackson and Lisa Hupé\, shared a dream of creating a one-of-a-kind dance competition\, and worked tirelessly to make it a reality. \nSince its inception in 2012\, Mitchell and Lisa have been committed to making OTF an enjoyable and fulfilling experience for all participants. Drawing on their extensive dance backgrounds\, they aimed to create a competition that would offer dancers the opportunity to win scholarships to prestigious dance institutions\, while also learning from and connecting with industry professionals. To establish Canada’s premier dance competition\, it was essential to assemble the perfect team. Mitchell and Lisa have brought on board a prestigious faculty consisting of the industry’s top professionals\, providing outstanding opportunities for OTF competitors.
URL:https://ontariodance.com/event/on-the-floor-niagara-falls-1-2/
LOCATION:Greg Frewin Theatre\, 81 Ellen Avenue\, Niagara Falls\, ON\, L2G 3P8\, Canada
ORGANIZER;CN="On%20The%20Floor":MAILTO:dance@onthefloor.ca
END:VEVENT
BEGIN:VEVENT
DTSTART;VALUE=DATE:20240307
DTEND;VALUE=DATE:20240311
DTSTAMP:20260423T114727
CREATED:20230918T050446Z
LAST-MODIFIED:20230918T052452Z
UID:2420-1709769600-1710115199@ontariodance.com
SUMMARY:On The Floor - Toronto 2
DESCRIPTION:On The Floor® (OTF) has a mission to provide a modern\, family-friendly dance competition that leaves all participants feeling motivated and inspired. By incorporating innovative concepts and exceptional adjudication\, OTF aims to be the leading dance competition in the industry. The founders of OTF\, Mitchell Jackson and Lisa Hupé\, shared a dream of creating a one-of-a-kind dance competition\, and worked tirelessly to make it a reality. \nSince its inception in 2012\, Mitchell and Lisa have been committed to making OTF an enjoyable and fulfilling experience for all participants. Drawing on their extensive dance backgrounds\, they aimed to create a competition that would offer dancers the opportunity to win scholarships to prestigious dance institutions\, while also learning from and connecting with industry professionals. To establish Canada’s premier dance competition\, it was essential to assemble the perfect team. Mitchell and Lisa have brought on board a prestigious faculty consisting of the industry’s top professionals\, providing outstanding opportunities for OTF competitors. \n  \nThis is a Small Studio Event.
URL:https://ontariodance.com/event/on-the-floor-toronto-2-2/
LOCATION:Japanese Canadian Cultural Centre\, 6 Garamond Court\, M3C 1Z5\, ON\, M3C 1Z5\, Canada
ORGANIZER;CN="On%20The%20Floor":MAILTO:dance@onthefloor.ca
END:VEVENT
BEGIN:VEVENT
DTSTART;VALUE=DATE:20240308
DTEND;VALUE=DATE:20240309
DTSTAMP:20260423T114727
CREATED:20240124T130015Z
LAST-MODIFIED:20240124T130015Z
UID:4362-1709856000-1709942399@ontariodance.com
SUMMARY:Matricks Acro - Combo Acro Drop In Clinics 4
DESCRIPTION:Matricks Acro is a nationally-renowned acrobatics intensive that offers unique and challenging courses to participants of all levels. They’re proud to be The Leading Acro Intensive in Canada and are dedicated to providing their students with the best training possible. Their expert instructors emphasize on training flexibility\, strength\, and coordination to create strong and capable acrobats. Through their comprehensive curriculum\, participants will learn walkovers\, aerials\, tumbling\, contortion\, balances\, double tricks\, and much more.
URL:https://ontariodance.com/event/matricks-acro-combo-acro-drop-in-clinics-4/
LOCATION:Vaughan\, Ontario\, Vaughan\, Ontario\, Canada
END:VEVENT
BEGIN:VEVENT
DTSTART;VALUE=DATE:20240308
DTEND;VALUE=DATE:20240309
DTSTAMP:20260423T114727
CREATED:20240214T111501Z
LAST-MODIFIED:20240214T111501Z
UID:4642-1709856000-1709942399@ontariodance.com
SUMMARY:Dance Fusion Studios - Basic Ballroom
DESCRIPTION:At Dance Fusion Studios (DFS)\, they believe every body can dance – and every body deserves respect and a safe space. They value every dancer\, regardless of race\, sexuality\, gender\, size\, age\, or religion\, and they commit to listening and learning from people who have different experiences from their own.
URL:https://ontariodance.com/event/dance-fusion-studios-basic-ballroom/
LOCATION:Dance Fusion Studios\, A2-2212 Gladwin Crescent\, Ottawa\, ON\, K1B 5N1\, Canada
END:VEVENT
BEGIN:VEVENT
DTSTART;VALUE=DATE:20240308
DTEND;VALUE=DATE:20240311
DTSTAMP:20260423T114727
CREATED:20230921T115903Z
LAST-MODIFIED:20230921T120002Z
UID:2598-1709856000-1710115199@ontariodance.com
SUMMARY:Terpsichore Dance Celebration - Guelph 2
DESCRIPTION:Terpsichore is a place where dancers of all skill levels\, body types\, and backgrounds come together to celebrate their love of dance. We strive to foster a safe\, positive\, and inclusive space for all dancers. Our goal this convention season is to encourage\, unify and inspire young dancers nation-wide.
URL:https://ontariodance.com/event/terpsichore-dance-celebration-guelph-2-2/
LOCATION:River Run Centre\, 35 Woolwich St\, Guelph\, ON\, N1H 3V1\, Canada
ORGANIZER;CN="Terpsichore%20Dance%20Celebration":MAILTO:info@terpsichore.ca
END:VEVENT
END:VCALENDAR