BEGIN:VCALENDAR
VERSION:2.0
PRODID:-//OntarioDance.com - ECPv6.1.2.2//NONSGML v1.0//EN
CALSCALE:GREGORIAN
METHOD:PUBLISH
X-ORIGINAL-URL:https://ontariodance.com
X-WR-CALDESC:Events for OntarioDance.com
REFRESH-INTERVAL;VALUE=DURATION:PT1H
X-Robots-Tag:noindex
X-PUBLISHED-TTL:PT1H
BEGIN:VTIMEZONE
TZID:America/Toronto
BEGIN:DAYLIGHT
TZOFFSETFROM:-0500
TZOFFSETTO:-0400
TZNAME:EDT
DTSTART:20240310T070000
END:DAYLIGHT
BEGIN:STANDARD
TZOFFSETFROM:-0400
TZOFFSETTO:-0500
TZNAME:EST
DTSTART:20241103T060000
END:STANDARD
END:VTIMEZONE
BEGIN:VEVENT
DTSTART;VALUE=DATE:20240311
DTEND;VALUE=DATE:20240312
DTSTAMP:20260423T114822
CREATED:20240213T123417Z
LAST-MODIFIED:20240213T123417Z
UID:4629-1710115200-1710201599@ontariodance.com
SUMMARY:CTRL Acrobatics March Break Intensives - Inter
DESCRIPTION:CTRL Acrobatics is not just another acro studio. We’re a pioneering junction where the grace of acro seamlessly melds with the wonders of circus arts. Rooted deeply in inclusivity\, our vision goes beyond traditional realms\, drawing inspiration from the enchanting world of the circus —a safe haven for unique talents\, where magic is real and every performance is a story.
URL:https://ontariodance.com/event/ctrl-acrobatics-march-break-intensives-inter/
LOCATION:CTRL Acrobatic Dance Co.\, 12-153 Bridgeland Ave\, North York\, ON\, M6A 2V1\, Canada
END:VEVENT
BEGIN:VEVENT
DTSTART;VALUE=DATE:20240311
DTEND;VALUE=DATE:20240316
DTSTAMP:20260423T114822
CREATED:20240220T123111Z
LAST-MODIFIED:20240220T123111Z
UID:4715-1710115200-1710547199@ontariodance.com
SUMMARY:Brooks Academy of Dance - March Break Camp
DESCRIPTION:Brooks Academy of Dance are proud to be Tillsonburg’s largest dance facility boasting 3600 sq ft of space. Offering three large dance studios with viewing windows and seating for all\, a welcoming waiting area\, study nook\, toy room\, dance bag areas\, a staff room\, three washrooms AND a dance supply store!
URL:https://ontariodance.com/event/brooks-academy-of-dance-march-break-camp/
LOCATION:Brooks Academy of Dance\, 185 Broadway\, Rear Fox Alley-\, Tillsonburg\, ON\, Canada
END:VEVENT
END:VCALENDAR