BEGIN:VCALENDAR
VERSION:2.0
PRODID:-//OntarioDance.com - ECPv6.1.2.2//NONSGML v1.0//EN
CALSCALE:GREGORIAN
METHOD:PUBLISH
X-ORIGINAL-URL:https://ontariodance.com
X-WR-CALDESC:Events for OntarioDance.com
REFRESH-INTERVAL;VALUE=DURATION:PT1H
X-Robots-Tag:noindex
X-PUBLISHED-TTL:PT1H
BEGIN:VTIMEZONE
TZID:America/Toronto
BEGIN:DAYLIGHT
TZOFFSETFROM:-0500
TZOFFSETTO:-0400
TZNAME:EDT
DTSTART:20240310T070000
END:DAYLIGHT
BEGIN:STANDARD
TZOFFSETFROM:-0400
TZOFFSETTO:-0500
TZNAME:EST
DTSTART:20241103T060000
END:STANDARD
END:VTIMEZONE
BEGIN:VEVENT
DTSTART;VALUE=DATE:20240315
DTEND;VALUE=DATE:20240318
DTSTAMP:20260423T114726
CREATED:20230912T111842Z
LAST-MODIFIED:20231011T112852Z
UID:2070-1710460800-1710719999@ontariodance.com
SUMMARY:Be Dance - Be U: Varsity Dance Challenge Mississauga
DESCRIPTION:The Competition You KNOW and TRUST! \nBe Dance was established in 2008 and held its inaugural dance contest in Toronto in 2009. The two Co-Directors\, Julie Gabriele and Christina Morgani\, have been involved in the dance industry since childhood. They founded Be Dance as a means of giving back to the dance community and motivating young dancers in a constructive and competitive setting. As they approach their 16th year of operation\, they are thrilled to introduce a new and innovative perspective to the competition circuit.
URL:https://ontariodance.com/event/be-dance-mississauga-2/
LOCATION:Living Arts Centre\, 4141 Living Arts Drive\, Mississauga\, ON\, L5B 4B8\, Canada
ORGANIZER;CN="Be%20Dance":MAILTO:info@bedance.ca
END:VEVENT
BEGIN:VEVENT
DTSTART;VALUE=DATE:20240315
DTEND;VALUE=DATE:20240318
DTSTAMP:20260423T114726
CREATED:20230925T044033Z
LAST-MODIFIED:20230925T044033Z
UID:2675-1710460800-1710719999@ontariodance.com
SUMMARY:This Is It Dance - Niagara Falls 2 (Varsity Challenge)
DESCRIPTION:This Is It Dance Competition is the top pick for Ontario residents\, offering a secure and thrilling atmosphere for emerging dance artists to showcase their skills\, gain knowledge\, and develop their craft. Our judges offer valuable feedback and support to dancers\, acknowledging their talent and devotion to dance. At This Is It Dance Competition\, we endeavor to make each competition a remarkable and unforgettable experience for everyone involved in the community.
URL:https://ontariodance.com/event/this-is-it-dance-niagara-falls-2-varsity-challenge/
LOCATION:Niagara Falls Convention Centre\, 6815 Stanley Avenue\, Niagara Falls\, ON\, L2G 3Y9\, Canada
ORGANIZER;CN="This%20Is%20It%20Dance":MAILTO:info@thisisitdance.com
END:VEVENT
BEGIN:VEVENT
DTSTART;VALUE=DATE:20240315
DTEND;VALUE=DATE:20240318
DTSTAMP:20260423T114726
CREATED:20231013T113414Z
LAST-MODIFIED:20231013T113414Z
UID:2936-1710460800-1710719999@ontariodance.com
SUMMARY:Dynamite Dance Championship - Richmond Hill
DESCRIPTION:TIRED OF THE SAME OLD DANCE COMPETITIONS?\nSo. Are. We.\nThat’s why we’re redefining what it means to compete. Say goodbye to boring\, outdated dance competitions and hello to a fresh\, new approach. With innovative judging\, CASH prizes\, and exclusive perks for studio owners\, dancers\, and parents\, everyone gets to walk away feeling like a true champion.
URL:https://ontariodance.com/event/dynamite-dance-championship-richmond-hill/
LOCATION:Richmond Hill Centre for Performing Arts\, 10268 Yonge Street\, Richmond Hill\, ON\, L4C 3B7\, Canada
ORGANIZER;CN="Dynamite%20Dance%20Championship":MAILTO:Info@dynamitedancechampionship.com
END:VEVENT
END:VCALENDAR