BEGIN:VCALENDAR
VERSION:2.0
PRODID:-//OntarioDance.com - ECPv6.1.2.2//NONSGML v1.0//EN
CALSCALE:GREGORIAN
METHOD:PUBLISH
X-WR-CALNAME:OntarioDance.com
X-ORIGINAL-URL:https://ontariodance.com
X-WR-CALDESC:Events for OntarioDance.com
REFRESH-INTERVAL;VALUE=DURATION:PT1H
X-Robots-Tag:noindex
X-PUBLISHED-TTL:PT1H
BEGIN:VTIMEZONE
TZID:America/Toronto
BEGIN:DAYLIGHT
TZOFFSETFROM:-0500
TZOFFSETTO:-0400
TZNAME:EDT
DTSTART:20240310T070000
END:DAYLIGHT
BEGIN:STANDARD
TZOFFSETFROM:-0400
TZOFFSETTO:-0500
TZNAME:EST
DTSTART:20241103T060000
END:STANDARD
END:VTIMEZONE
BEGIN:VEVENT
DTSTART;VALUE=DATE:20240424
DTEND;VALUE=DATE:20240428
DTSTAMP:20260423T102755
CREATED:20240820T081310Z
LAST-MODIFIED:20240820T081310Z
UID:8620-1713916800-1714262399@ontariodance.com
SUMMARY:Inspire Dance Challenge - North York
DESCRIPTION:
URL:https://ontariodance.com/event/inspire-dance-challenge-north-york-2/
LOCATION:Inspire Dance Challenge\, Cambridge\, ON\, Canada
ORGANIZER;CN="Inspire%20Dance%20Challenge":MAILTO:info@inspiredancechallenge.com
END:VEVENT
BEGIN:VEVENT
DTSTART;VALUE=DATE:20240424
DTEND;VALUE=DATE:20240429
DTSTAMP:20260423T102755
CREATED:20230419T115045Z
LAST-MODIFIED:20230419T115045Z
UID:503-1713916800-1714348799@ontariodance.com
SUMMARY:Inspire Dance Challenge  - Hamilton 2
DESCRIPTION:In 2010\, Inspire was launched with the goal of giving every child the chance to succeed through public performance. Our aim is to provide opportunities for all performers to feel accomplished\, regardless of their skill level. \nAlthough we do have winners and scores in this competition\, we believe that every effort is worthy of recognition. Each performance represents a moment in time where there are factors that are within and outside of the performer’s control. For example\, a performer cannot control who they are competing against or how hard that person has worked. Sometimes\, the competition may have a better execution\, but that does not diminish the bravery and effort that the performer put into their own performance. At Inspire\, we reward excellence\, but we also value every performer’s courage and hard work.
URL:https://ontariodance.com/event/inspire-dance-challenge-hamilton-2-2/
LOCATION:Hamilton Convention Centre\, 1 Summers Lane\, Hamilton\, ON\, L8P 4Y2\, Canada
ORGANIZER;CN="Inspire%20Dance%20Challenge":MAILTO:info@inspiredancechallenge.com
END:VEVENT
BEGIN:VEVENT
DTSTART;VALUE=DATE:20240424
DTEND;VALUE=DATE:20240429
DTSTAMP:20260423T102755
CREATED:20230915T071942Z
LAST-MODIFIED:20230915T072138Z
UID:2355-1713916800-1714348799@ontariodance.com
SUMMARY:Inspire Dance Challenge - Toronto 2
DESCRIPTION:In 2010\, Inspire was launched with the goal of giving every child the chance to succeed through public performance. Our aim is to provide opportunities for all performers to feel accomplished\, regardless of their skill level. \nAlthough we do have winners and scores in this competition\, we believe that every effort is worthy of recognition. Each performance represents a moment in time where there are factors that are within and outside of the performer’s control. For example\, a performer cannot control who they are competing against or how hard that person has worked. Sometimes\, the competition may have a better execution\, but that does not diminish the bravery and effort that the performer put into their own performance. At Inspire\, we reward excellence\, but we also value every performer’s courage and hard work.
URL:https://ontariodance.com/event/inspire-dance-challenge-toronto-2-2/
LOCATION:The Armenian Youth Centre Theatre\, 50 Hallcrown Place\, North York\, ON\, M2J 1P6\, Canada
ORGANIZER;CN="Inspire%20Dance%20Challenge":MAILTO:info@inspiredancechallenge.com
END:VEVENT
END:VCALENDAR