BEGIN:VCALENDAR
VERSION:2.0
PRODID:-//OntarioDance.com - ECPv6.1.2.2//NONSGML v1.0//EN
CALSCALE:GREGORIAN
METHOD:PUBLISH
X-WR-CALNAME:OntarioDance.com
X-ORIGINAL-URL:https://ontariodance.com
X-WR-CALDESC:Events for OntarioDance.com
REFRESH-INTERVAL;VALUE=DURATION:PT1H
X-Robots-Tag:noindex
X-PUBLISHED-TTL:PT1H
BEGIN:VTIMEZONE
TZID:America/Toronto
BEGIN:DAYLIGHT
TZOFFSETFROM:-0500
TZOFFSETTO:-0400
TZNAME:EDT
DTSTART:20240310T070000
END:DAYLIGHT
BEGIN:STANDARD
TZOFFSETFROM:-0400
TZOFFSETTO:-0500
TZNAME:EST
DTSTART:20241103T060000
END:STANDARD
END:VTIMEZONE
BEGIN:VEVENT
DTSTART;VALUE=DATE:20240515
DTEND;VALUE=DATE:20240519
DTSTAMP:20260423T091122
CREATED:20240808T083932Z
LAST-MODIFIED:20240808T084505Z
UID:8318-1715731200-1716076799@ontariodance.com
SUMMARY:Candance - Huntsville 2
DESCRIPTION:We are a prominent provider in the dance industry in North America\, promoting our brand as a family-friendly\, fun\, and professional experience. Our primary focus is on producing high-quality events that cater to dancers of all ages and abilities. We maintain our standards and continuously strive to innovate as the dance world evolves. \nWith over 20 tour dates in Canada and the United States\, Candance dance competition is the perfect choice for your dancers. Our competition provides a professional\, stimulating\, challenging\, and enjoyable experience for dancers this season. Discover why Candance has been the top choice for most dance studios year after year\, and let your dancers revel in the experience.
URL:https://ontariodance.com/event/candance-huntsville-2-3/
LOCATION:Brockville Arts Centre\, 235 King Street West\, Brockville\, ON\, K6V 7A5\, Canada
ORGANIZER;CN="Candance":MAILTO:info@candancecompetition.ca
END:VEVENT
BEGIN:VEVENT
DTSTART;VALUE=DATE:20240516
DTEND;VALUE=DATE:20240519
DTSTAMP:20260423T091122
CREATED:20230914T063722Z
LAST-MODIFIED:20240426T110440Z
UID:2276-1715817600-1716076799@ontariodance.com
SUMMARY:Dance Canada - Kitchener
DESCRIPTION:Dance Canada is committed to making each competition an exceptional experience for all dancers\, parents and studios. The Dance Canada family has always and will continue to provide the opportunity for dancers to dance on stage\, educate dancers in a meaningful way\, and leave a positive impact on each performer.
URL:https://ontariodance.com/event/dance-canada-kitchener-2/
LOCATION:Centre in the Square\, 101 Queen Street North\, Kitchener\, ON\, N2H 6P7\, Canada
ORGANIZER;CN="Dance%20Canada":MAILTO:jrkovarikdc@gmail.com
END:VEVENT
BEGIN:VEVENT
DTSTART;VALUE=DATE:20240516
DTEND;VALUE=DATE:20240519
DTSTAMP:20260423T091122
CREATED:20230922T114330Z
LAST-MODIFIED:20230922T114330Z
UID:2635-1715817600-1716076799@ontariodance.com
SUMMARY:The Dance Rage - Richmond Hill 2
DESCRIPTION:TDR offers more than just a dance competition as they provide intensive programs for dancers aged 6 and above. The professional choreographers offer different styles to learn\, new friends to meet\, and potential professional opportunities that could lead dancers to the industry. TDR also has a “Rage Wage” system that promotes respect for all dancers and studios\, and encourages studio spirit. They believe in supporting and learning from each other\, and their stage is a safe place where dancers can confidently express themselves. Any kind acts witnessed by TDR staff members can be rewarded with a “Rage Wage” that can be redeemed at their Swag Shop. TDR promises to make each competition exciting\, fun\, and filled with positive energy and memories that will last a lifetime for every family\, studio\, and dancer that joins the rage.
URL:https://ontariodance.com/event/the-dance-rage-richmond-hill-2-2/
LOCATION:Richmond Hill Centre for the Performing Arts\, 10268 Yonge St\, Richmond Hill\, ON\, L4C 3B7\, Canada
ORGANIZER;CN="The%20Dance%20Rage":MAILTO:thedancerage@gmail.com
END:VEVENT
BEGIN:VEVENT
DTSTART;VALUE=DATE:20240516
DTEND;VALUE=DATE:20240520
DTSTAMP:20260423T091122
CREATED:20230501T093441Z
LAST-MODIFIED:20230928T120823Z
UID:933-1715817600-1716163199@ontariodance.com
SUMMARY:KARV Dance Challenge - Burlington 2
DESCRIPTION:KARV Dance Challenge aims to help young children carve out a positive and stimulating path in life by offering them a platform to express themselves creatively through movement and artistry. With over 20 years of experience in the dance industry and eight years of professionally organizing dance competitions\, Caitlin Decristoforo is driven to provide a competition that gives back to all the participants\, including dancers\, parents\, teachers\, and directors. KARV wants to offer the best dance competition experience in Canada to those who have dedicated countless hours to perfecting their craft. The organizers recognize that the memories created at the competition will shape the dancers into becoming the best versions of themselves. Ultimately\, KARV’s aim is to ensure that everyone who attends the competition has an unforgettable experience.
URL:https://ontariodance.com/event/karv-dance-challenge-burlington-2/
LOCATION:The Burlington Performing Arts Centre (BPAC)\, 440 Locust Street\, Burlington\, ON\, L7S 1T7\, Canada
ORGANIZER;CN="KARV%20Dance%20Challenge":MAILTO:caitlin@karvdancechallenge.com
END:VEVENT
BEGIN:VEVENT
DTSTART;VALUE=DATE:20240516
DTEND;VALUE=DATE:20240520
DTSTAMP:20260423T091122
CREATED:20230912T123204Z
LAST-MODIFIED:20230914T114126Z
UID:2094-1715817600-1716163199@ontariodance.com
SUMMARY:Candance - Huntsville 2
DESCRIPTION:We are a prominent provider in the dance industry in North America\, promoting our brand as a family-friendly\, fun\, and professional experience. Our primary focus is on producing high-quality events that cater to dancers of all ages and abilities. We maintain our standards and continuously strive to innovate as the dance world evolves. \nWith over 20 tour dates in Canada and the United States\, Candance dance competition is the perfect choice for your dancers. Our competition provides a professional\, stimulating\, challenging\, and enjoyable experience for dancers this season. Discover why Candance has been the top choice for most dance studios year after year\, and let your dancers revel in the experience.
URL:https://ontariodance.com/event/candance-huntsville-2-2/
LOCATION:Deerhurst Resort\, 1235 Deerhurst Drive\, Huntsville\, ON\, P1H 2E8\, Canada
ORGANIZER;CN="Candance":MAILTO:info@candancecompetition.ca
END:VEVENT
BEGIN:VEVENT
DTSTART;VALUE=DATE:20240516
DTEND;VALUE=DATE:20240520
DTSTAMP:20260423T091122
CREATED:20230912T124027Z
LAST-MODIFIED:20230912T124622Z
UID:2105-1715817600-1716163199@ontariodance.com
SUMMARY:Bedazzled Dance - Guelph 2
DESCRIPTION:Bedazzled is one of North America’s leading Dance Competitions. We pride ourselves in providing a safe\, fun\, friendly\, inclusive atmosphere for all our dancers\, studios and families. We know how hard our directors and dancers work\, and the long hours of dedication that goes into all the routines that we see on our stage\, which is why here at Bedazzled recognizing all our dancers and expanding our overalls is something we take pride in. With over 155 overalls per event\, there is no one who does it quite like Bedazzled. Qualified judges\, customized awards\, live streamed events\, MC mark awards and SO MUCH MORE offered each weekend. We want our dancers leaving our competition proud\, smiling\, and with memories to last a lifetime. Bedazzled is an experience you DON’T want to miss\, join the fun and register for one of our events!
URL:https://ontariodance.com/event/bedazzled-dance-guelph-2-2/
LOCATION:River Run Centre\, 35 Woolwich St\, Guelph\, ON\, N1H 3V1\, Canada
ORGANIZER;CN="Bedazzled%20Dance":MAILTO:bedazzled@bellnet.ca
END:VEVENT
BEGIN:VEVENT
DTSTART;VALUE=DATE:20240516
DTEND;VALUE=DATE:20240520
DTSTAMP:20260423T091122
CREATED:20230913T071625Z
LAST-MODIFIED:20230913T071625Z
UID:2153-1715817600-1716163199@ontariodance.com
SUMMARY:View Dance Challenge - Toronto 3
DESCRIPTION:VIEW Dance Challenge is Canada’s top dance competition\, which is celebrating its 10th year of production. VIEW’s primary objective has always been to provide an exceptional dance experience that stands out from the rest\, by offering a platform for young and aspiring dancers to celebrate their passion for dance. VIEW has become a community and a second home for dancers from around the world. Over the past decade\, VIEW has evolved and grown through innovative and creative approaches. \nVIEW is an internationally recognized dance competition\, known for its professionalism\, uniqueness\, and reputation. It currently operates in nine Canadian provinces and three different countries\, with plans to expand even further. The VIEW family has also grown significantly\, which is evident in the exceptional roster of event directors\, staff\, and adjudicators who all share a common goal of dedicating their skills to the art of dance.
URL:https://ontariodance.com/event/view-dance-challenge-toronto-3-2/
LOCATION:Delta Hotels by Marriott Toronto Airport & Conference Centre\, 655 Dixon Road\, Toronto\, ON\, M9W 1J3\, Canada
ORGANIZER;CN="View%20Dance%20Challenge":MAILTO:info@viewdancechallenge.com
END:VEVENT
BEGIN:VEVENT
DTSTART;VALUE=DATE:20240516
DTEND;VALUE=DATE:20240520
DTSTAMP:20260423T091122
CREATED:20230913T072527Z
LAST-MODIFIED:20230913T072527Z
UID:2160-1715817600-1716163199@ontariodance.com
SUMMARY:View Dance Challenge - Hamilton 4
DESCRIPTION:VIEW Dance Challenge is Canada’s top dance competition\, which is celebrating its 10th year of production. VIEW’s primary objective has always been to provide an exceptional dance experience that stands out from the rest\, by offering a platform for young and aspiring dancers to celebrate their passion for dance. VIEW has become a community and a second home for dancers from around the world. Over the past decade\, VIEW has evolved and grown through innovative and creative approaches. \nVIEW is an internationally recognized dance competition\, known for its professionalism\, uniqueness\, and reputation. It currently operates in nine Canadian provinces and three different countries\, with plans to expand even further. The VIEW family has also grown significantly\, which is evident in the exceptional roster of event directors\, staff\, and adjudicators who all share a common goal of dedicating their skills to the art of dance. \nThis is a small studio exclusive.
URL:https://ontariodance.com/event/view-dance-challenge-hamilton-4/
LOCATION:Hamilton Convention Centre\, 1 Summers Lane\, Hamilton\, ON\, L8P 4Y2\, Canada
ORGANIZER;CN="View%20Dance%20Challenge":MAILTO:info@viewdancechallenge.com
END:VEVENT
BEGIN:VEVENT
DTSTART;VALUE=DATE:20240516
DTEND;VALUE=DATE:20240520
DTSTAMP:20260423T091122
CREATED:20230915T120754Z
LAST-MODIFIED:20230915T120754Z
UID:2381-1715817600-1716163199@ontariodance.com
SUMMARY:MOVE Dance Competition - Blue Mountain
DESCRIPTION:MOVE Dance Competition brings you a competition with professional and experienced staff\, coupled with a format that is unique\, fresh\, modern and sure to offer you a competition environment like no other.
URL:https://ontariodance.com/event/move-dance-competition-blue-mountain-3/
LOCATION:Blue Mountain Inn Resort\, 110 Jozo Weider Boulevard\, Blue Mountain\, ON\, L9Y 0P7\, Canada
END:VEVENT
BEGIN:VEVENT
DTSTART;VALUE=DATE:20240516
DTEND;VALUE=DATE:20240520
DTSTAMP:20260423T091122
CREATED:20230918T051809Z
LAST-MODIFIED:20230918T051809Z
UID:2438-1715817600-1716163199@ontariodance.com
SUMMARY:On The Floor - Alliston 6
DESCRIPTION:On The Floor® (OTF) has a mission to provide a modern\, family-friendly dance competition that leaves all participants feeling motivated and inspired. By incorporating innovative concepts and exceptional adjudication\, OTF aims to be the leading dance competition in the industry. The founders of OTF\, Mitchell Jackson and Lisa Hupé\, shared a dream of creating a one-of-a-kind dance competition\, and worked tirelessly to make it a reality. \nSince its inception in 2012\, Mitchell and Lisa have been committed to making OTF an enjoyable and fulfilling experience for all participants. Drawing on their extensive dance backgrounds\, they aimed to create a competition that would offer dancers the opportunity to win scholarships to prestigious dance institutions\, while also learning from and connecting with industry professionals. To establish Canada’s premier dance competition\, it was essential to assemble the perfect team. Mitchell and Lisa have brought on board a prestigious faculty consisting of the industry’s top professionals\, providing outstanding opportunities for OTF competitors.
URL:https://ontariodance.com/event/on-the-floor-alliston-6-2/
LOCATION:Nottawasaga Inn Resort & Conference Centre\, 6015 Highway 89\, Alliston\, ON\, L9R 1A4\, Canada
ORGANIZER;CN="On%20The%20Floor":MAILTO:dance@onthefloor.ca
END:VEVENT
BEGIN:VEVENT
DTSTART;VALUE=DATE:20240516
DTEND;VALUE=DATE:20240520
DTSTAMP:20260423T091122
CREATED:20230918T051946Z
LAST-MODIFIED:20230918T051946Z
UID:2440-1715817600-1716163199@ontariodance.com
SUMMARY:On The Floor - Kitchener
DESCRIPTION:On The Floor® (OTF) has a mission to provide a modern\, family-friendly dance competition that leaves all participants feeling motivated and inspired. By incorporating innovative concepts and exceptional adjudication\, OTF aims to be the leading dance competition in the industry. The founders of OTF\, Mitchell Jackson and Lisa Hupé\, shared a dream of creating a one-of-a-kind dance competition\, and worked tirelessly to make it a reality. \nSince its inception in 2012\, Mitchell and Lisa have been committed to making OTF an enjoyable and fulfilling experience for all participants. Drawing on their extensive dance backgrounds\, they aimed to create a competition that would offer dancers the opportunity to win scholarships to prestigious dance institutions\, while also learning from and connecting with industry professionals. To establish Canada’s premier dance competition\, it was essential to assemble the perfect team. Mitchell and Lisa have brought on board a prestigious faculty consisting of the industry’s top professionals\, providing outstanding opportunities for OTF competitors.
URL:https://ontariodance.com/event/on-the-floor-kitchener-2/
LOCATION:Bingemans\, 425 Bingemans Centre Drive\, Kitchener\, ON\, N2B 3X7\, Canada
ORGANIZER;CN="On%20The%20Floor":MAILTO:dance@onthefloor.ca
END:VEVENT
BEGIN:VEVENT
DTSTART;VALUE=DATE:20240516
DTEND;VALUE=DATE:20240520
DTSTAMP:20260423T091122
CREATED:20230920T085346Z
LAST-MODIFIED:20230920T085346Z
UID:2540-1715817600-1716163199@ontariodance.com
SUMMARY:Star Beat Dance Champions - Hamilton 2
DESCRIPTION:At Star Beat we promote a family friendly atmosphere\, where every dancer is a Star! We love seeing dancers having fun\, making friends\, learning new things and enjoying an overall dance experience that they will remember forever! \nWe love giving back to the dancers through our overall cash awards\, trophies\, medals\, LED pins\, ribbons\, ongoing audience raffles\, guessing games & much more! Come dance with us this season to experience the fun and excitement\, you won’t want to miss it!Star Beat Dance Champions – Niagara-on-the-Lake
URL:https://ontariodance.com/event/star-beat-dance-champions-hamilton-2/
LOCATION:McIntyre Performing Arts Centre\, 135 Fennell Avenue West\, Hamilton\, ON\, L9C 7V7\, Canada
ORGANIZER;CN="Star%20Beat%20Dance%20Champions":MAILTO:contact@starbeatdance.com
END:VEVENT
BEGIN:VEVENT
DTSTART;VALUE=DATE:20240517
DTEND;VALUE=DATE:20240520
DTSTAMP:20260423T091122
CREATED:20230418T100925Z
LAST-MODIFIED:20230418T101627Z
UID:419-1715904000-1716163199@ontariodance.com
SUMMARY:Dance Attack - St. Catharines 3
DESCRIPTION:We are excited to present the DANCE ATTACK COMPETITION\, an outstanding event presented by DANCE ATTACK. Beginning in 2017\, we are elevating our dance passion to new heights. Our expertise in arranging pleasurable and structured dance events ensures an unparalleled experience. Our aim is to bring the DANCE ATTACK vibe to you\, regardless of whether you are based in your city or studio. You do not want to miss out on this fantastic opportunity! Prepare yourself to encounter the extraordinary with DANCE ATTACK.
URL:https://ontariodance.com/event/dance-attack-st-catharines-3/
LOCATION:Holiday Inn & Suites St. Catharines\, 327 Ontario Street\, St. Catharines\, ON\, L2R 5L3\, Canada
ORGANIZER;CN="Dance%20Attack":MAILTO:kent@dance-attack.com
END:VEVENT
BEGIN:VEVENT
DTSTART;VALUE=DATE:20240517
DTEND;VALUE=DATE:20240520
DTSTAMP:20260423T091122
CREATED:20230419T120621Z
LAST-MODIFIED:20230419T120621Z
UID:512-1715904000-1716163199@ontariodance.com
SUMMARY:Inspire Dance Challenge  - Toronto 3
DESCRIPTION:In 2010\, Inspire was launched with the goal of giving every child the chance to succeed through public performance. Our aim is to provide opportunities for all performers to feel accomplished\, regardless of their skill level. \nAlthough we do have winners and scores in this competition\, we believe that every effort is worthy of recognition. Each performance represents a moment in time where there are factors that are within and outside of the performer’s control. For example\, a performer cannot control who they are competing against or how hard that person has worked. Sometimes\, the competition may have a better execution\, but that does not diminish the bravery and effort that the performer put into their own performance. At Inspire\, we reward excellence\, but we also value every performer’s courage and hard work.
URL:https://ontariodance.com/event/inspire-dance-challenge-toronto-3/
LOCATION:Chinese Cultural Centre Of Greater Toronto\, 5183 Sheppard Avenue East\, Scarborough\, ON\, M1B 5Z5\, Canada
ORGANIZER;CN="Inspire%20Dance%20Challenge":MAILTO:info@inspiredancechallenge.com
END:VEVENT
BEGIN:VEVENT
DTSTART;VALUE=DATE:20240517
DTEND;VALUE=DATE:20240520
DTSTAMP:20260423T091122
CREATED:20230913T065646Z
LAST-MODIFIED:20230913T065646Z
UID:2145-1715904000-1716163199@ontariodance.com
SUMMARY:Believe Dance - Brockville
DESCRIPTION:At “Believe\,” everything is designed with children in consideration. The team recognizes that every child is unique and special\, and every studio has its exceptional dancers. Therefore\, it is their responsibility to recognize and celebrate these exceptional qualities. “Believe” urges everyone to collaborate in promoting values such as kindness\, confidence\, empathy\, and inclusivity at all events. “Believe” extends a warm invitation to everyone to join them in one of their amazing events!
URL:https://ontariodance.com/event/believe-dance-brockville-2/
LOCATION:Brockville Arts Centre\, 235 King Street West\, Brockville\, ON\, K6V 7A5\, Canada
ORGANIZER;CN="Believe%20Dance":MAILTO:admin@believedance.ca
END:VEVENT
BEGIN:VEVENT
DTSTART;VALUE=DATE:20240517
DTEND;VALUE=DATE:20240520
DTSTAMP:20260423T091122
CREATED:20230913T120851Z
LAST-MODIFIED:20230913T120851Z
UID:2222-1715904000-1716163199@ontariodance.com
SUMMARY:Breaking Bounds Dance - Niagara Falls 1
DESCRIPTION:Annie Wood’s immense pride and excitement are evident as she brings forth this competition\, offering the dance community an exceptional platform to celebrate dance education’s progress. Breaking Bounds Dance Challenge is Annie’s dream come true\, fueled by her unwavering passion for dance and the entire community involved in studio and competition dance life. Annie’s remarkable devotion to care and excellence in the dance industry sets her apart\, evident in all of her produced events. \nThank you for taking part in our event and sharing your love for dance with us!
URL:https://ontariodance.com/event/breaking-bounds-dance-niagara-falls-1-2/
LOCATION:Niagara Falls Marriott on the Falls\, 6755 Fallsview Boulevard\, Niagara Falls\, ON\, L2G 3W7\, Canada
ORGANIZER;CN="Breaking%20Bounds%20Dance":MAILTO:info@breakingboundsdance.com
END:VEVENT
BEGIN:VEVENT
DTSTART;VALUE=DATE:20240517
DTEND;VALUE=DATE:20240520
DTSTAMP:20260423T091122
CREATED:20230919T114520Z
LAST-MODIFIED:20230919T114520Z
UID:2513-1715904000-1716163199@ontariodance.com
SUMMARY:Luv2Dance - Toronto 2
DESCRIPTION:Luv 2 Dance invites dancers with varying ages and skill levels to showcase their love for dance and achieve their aspirations on our stunning stages. Our competitions cater to both young and small studios\, as well as more seasoned dancers\, with divisions like Novice\, Classic\, Elite\, Pro-Am\, Professional\, and Adult. Each division has its own awards\, resulting in numerous champions. \nOur aim is to celebrate each dancer’s unique abilities by providing a cheerful and healthy competitive environment\, and we strive to become the top provider of such an atmosphere in the dance industry. It brings us great joy to witness the proud moments of each dancer. \nWe welcome you to join us at one of our events\, where Luv 2 Dance guarantees a memorable and fulfilling competition experience.
URL:https://ontariodance.com/event/luv2dance-toronto-2/
LOCATION:Sheraton Toronto Airport Hotel & Conference Centre\, 801 Dixon Road\, Toronto\, ON\, M9W 1J5\, Canada
ORGANIZER;CN="Luv2Dance":MAILTO:registration@luv2dancecompetition.com
END:VEVENT
END:VCALENDAR