BEGIN:VCALENDAR
VERSION:2.0
PRODID:-//OntarioDance.com - ECPv6.1.2.2//NONSGML v1.0//EN
CALSCALE:GREGORIAN
METHOD:PUBLISH
X-ORIGINAL-URL:https://ontariodance.com
X-WR-CALDESC:Events for OntarioDance.com
REFRESH-INTERVAL;VALUE=DURATION:PT1H
X-Robots-Tag:noindex
X-PUBLISHED-TTL:PT1H
BEGIN:VTIMEZONE
TZID:America/Toronto
BEGIN:DAYLIGHT
TZOFFSETFROM:-0500
TZOFFSETTO:-0400
TZNAME:EDT
DTSTART:20240310T070000
END:DAYLIGHT
BEGIN:STANDARD
TZOFFSETFROM:-0400
TZOFFSETTO:-0500
TZNAME:EST
DTSTART:20241103T060000
END:STANDARD
END:VTIMEZONE
BEGIN:VEVENT
DTSTART;VALUE=DATE:20240522
DTEND;VALUE=DATE:20240527
DTSTAMP:20260423T091117
CREATED:20230915T063139Z
LAST-MODIFIED:20230915T063139Z
UID:2333-1716336000-1716767999@ontariodance.com
SUMMARY:Fever International Dance Championships - Niagara Falls
DESCRIPTION:Our company aims to create an environment where Canadian dance studios and their talented young dancers experience more than just a competitive atmosphere. We motivate and support young dancers to pursue and achieve their dreams\, and we offer professional opportunities to our dancers in a nurturing environment that upholds family values. Fever events guarantee a positive and enjoyable ambiance\, accommodating staff\, experienced judges\, and unique awards packages. \nOur competition program is professional and unparalleled\, as we provide both spirited competition and education in dance culture to ensure artistic growth and development. When things heat up\, there’s no place better to be than Fever!
URL:https://ontariodance.com/event/fever-international-dance-championships-niagara-falls-2/
LOCATION:Americana Conference Resort Spa & Waterpark\, 8444 Lundy's Lane\, Niagara Falls\, ON\, L2H 1H4\, Canada
ORGANIZER;CN="Fever%20International%20Dance%20Championships":MAILTO:soloheat@feveridc.com
END:VEVENT
BEGIN:VEVENT
DTSTART;VALUE=DATE:20240523
DTEND;VALUE=DATE:20240527
DTSTAMP:20260423T091117
CREATED:20230421T081740Z
LAST-MODIFIED:20230421T081740Z
UID:642-1716422400-1716767999@ontariodance.com
SUMMARY:Shine Dance Competition - Kingston
DESCRIPTION:We aim to provide a well-managed\, punctual\, and professional event that will create positive and lasting memories for the dancers. Our award ceremonies are not only enjoyable but also encourage team morale. Shine Team works diligently to maintain order and tranquility during performances\, ensuring that each dancer gets the opportunity to shine. \n 
URL:https://ontariodance.com/event/shine-dance-competition-kingston-2/
LOCATION:St. Lawrence College\, 100 Portsmouth Avenue\, Kingston\, ON\, K7L 5A6\, Canada
ORGANIZER;CN="Shine%20Dance%20Competition":MAILTO:info@shinedance.com
END:VEVENT
BEGIN:VEVENT
DTSTART;VALUE=DATE:20240523
DTEND;VALUE=DATE:20240527
DTSTAMP:20260423T091117
CREATED:20230912T124717Z
LAST-MODIFIED:20230912T124717Z
UID:2107-1716422400-1716767999@ontariodance.com
SUMMARY:Bedazzled Dance - Guelph 3
DESCRIPTION:Bedazzled is one of North America’s leading Dance Competitions. We pride ourselves in providing a safe\, fun\, friendly\, inclusive atmosphere for all our dancers\, studios and families. We know how hard our directors and dancers work\, and the long hours of dedication that goes into all the routines that we see on our stage\, which is why here at Bedazzled recognizing all our dancers and expanding our overalls is something we take pride in. With over 155 overalls per event\, there is no one who does it quite like Bedazzled. Qualified judges\, customized awards\, live streamed events\, MC mark awards and SO MUCH MORE offered each weekend. We want our dancers leaving our competition proud\, smiling\, and with memories to last a lifetime. Bedazzled is an experience you DON’T want to miss\, join the fun and register for one of our events! \nThis is a small studio event.
URL:https://ontariodance.com/event/bedazzled-dance-guelph-3-2/
LOCATION:Delta Guelph Hotel and Conference Centre\, 50 Stone Road West\, Guelph\, ON\, N1G 0A9\, Canada
ORGANIZER;CN="Bedazzled%20Dance":MAILTO:bedazzled@bellnet.ca
END:VEVENT
BEGIN:VEVENT
DTSTART;VALUE=DATE:20240523
DTEND;VALUE=DATE:20240527
DTSTAMP:20260423T091117
CREATED:20230913T073210Z
LAST-MODIFIED:20230913T073210Z
UID:2169-1716422400-1716767999@ontariodance.com
SUMMARY:View Dance Challenge - London
DESCRIPTION:VIEW Dance Challenge is Canada’s top dance competition\, which is celebrating its 10th year of production. VIEW’s primary objective has always been to provide an exceptional dance experience that stands out from the rest\, by offering a platform for young and aspiring dancers to celebrate their passion for dance. VIEW has become a community and a second home for dancers from around the world. Over the past decade\, VIEW has evolved and grown through innovative and creative approaches. \nVIEW is an internationally recognized dance competition\, known for its professionalism\, uniqueness\, and reputation. It currently operates in nine Canadian provinces and three different countries\, with plans to expand even further. The VIEW family has also grown significantly\, which is evident in the exceptional roster of event directors\, staff\, and adjudicators who all share a common goal of dedicating their skills to the art of dance.
URL:https://ontariodance.com/event/view-dance-challenge-london-2/
LOCATION:DoubleTree by Hilton Hotel London Ontario\, 300 King Street\, London\, ON\, N6B 1S2\, Canada
ORGANIZER;CN="View%20Dance%20Challenge":MAILTO:info@viewdancechallenge.com
END:VEVENT
BEGIN:VEVENT
DTSTART;VALUE=DATE:20240523
DTEND;VALUE=DATE:20240527
DTSTAMP:20260423T091117
CREATED:20230913T121325Z
LAST-MODIFIED:20230913T124542Z
UID:2227-1716422400-1716767999@ontariodance.com
SUMMARY:Breaking Bounds Dance - Alliston
DESCRIPTION:Annie Wood’s immense pride and excitement are evident as she brings forth this competition\, offering the dance community an exceptional platform to celebrate dance education’s progress. Breaking Bounds Dance Challenge is Annie’s dream come true\, fueled by her unwavering passion for dance and the entire community involved in studio and competition dance life. Annie’s remarkable devotion to care and excellence in the dance industry sets her apart\, evident in all of her produced events. \nThank you for taking part in our event and sharing your love for dance with us!
URL:https://ontariodance.com/event/breaking-bounds-dance-nottawasaga/
LOCATION:Nottawasaga Inn Resort & Conference Centre\, 6015 Highway 89\, Alliston\, ON\, L9R 1A4\, Canada
ORGANIZER;CN="Breaking%20Bounds%20Dance":MAILTO:info@breakingboundsdance.com
END:VEVENT
BEGIN:VEVENT
DTSTART;VALUE=DATE:20240523
DTEND;VALUE=DATE:20240527
DTSTAMP:20260423T091117
CREATED:20230914T073437Z
LAST-MODIFIED:20230914T073437Z
UID:2302-1716422400-1716767999@ontariodance.com
SUMMARY:Elite Dance Challenge - Scarborough 2
DESCRIPTION:Skilled and well-educated judges will provide guaranteed feedback for dancers. This competition  is designed to be healthy and competitive\, inspiring and uplifting each competitor. Throughout the day\, there are frequent entertaining and educational award ceremonies. Winners will receive stunning medals\, pins\, trophies\, and ribbons\, with separate overalls for all divisions. There are also incredible scholarships\, special awards\, and recognition for dancers. Additionally\, there are title winners and an improv challenge. The competition schedule is provided well in advance to assist dance families with planning. Online registration is available through Dance Bug\, and the competition takes place in amazing venues with high-end production values.
URL:https://ontariodance.com/event/elite-dance-challenge-scarborough-2/
LOCATION:Chinese Cultural Centre Of Greater Toronto\, 5183 Sheppard Avenue East\, Scarborough\, ON\, M1B 5Z5\, Canada
ORGANIZER;CN="Elite%20Dance%20Challenge":MAILTO:katie@elitedancechallenge.ca
END:VEVENT
BEGIN:VEVENT
DTSTART;VALUE=DATE:20240523
DTEND;VALUE=DATE:20240527
DTSTAMP:20260423T091117
CREATED:20230918T052128Z
LAST-MODIFIED:20230918T052128Z
UID:2442-1716422400-1716767999@ontariodance.com
SUMMARY:On The Floor - Niagara Falls 2
DESCRIPTION:On The Floor® (OTF) has a mission to provide a modern\, family-friendly dance competition that leaves all participants feeling motivated and inspired. By incorporating innovative concepts and exceptional adjudication\, OTF aims to be the leading dance competition in the industry. The founders of OTF\, Mitchell Jackson and Lisa Hupé\, shared a dream of creating a one-of-a-kind dance competition\, and worked tirelessly to make it a reality. \nSince its inception in 2012\, Mitchell and Lisa have been committed to making OTF an enjoyable and fulfilling experience for all participants. Drawing on their extensive dance backgrounds\, they aimed to create a competition that would offer dancers the opportunity to win scholarships to prestigious dance institutions\, while also learning from and connecting with industry professionals. To establish Canada’s premier dance competition\, it was essential to assemble the perfect team. Mitchell and Lisa have brought on board a prestigious faculty consisting of the industry’s top professionals\, providing outstanding opportunities for OTF competitors.
URL:https://ontariodance.com/event/on-the-floor-niagara-falls-2/
LOCATION:Greg Frewin Theatre\, 81 Ellen Avenue\, Niagara Falls\, ON\, L2G 3P8\, Canada
ORGANIZER;CN="On%20The%20Floor":MAILTO:dance@onthefloor.ca
END:VEVENT
BEGIN:VEVENT
DTSTART;VALUE=DATE:20240523
DTEND;VALUE=DATE:20240527
DTSTAMP:20260423T091117
CREATED:20230918T112213Z
LAST-MODIFIED:20230918T112213Z
UID:2459-1716422400-1716767999@ontariodance.com
SUMMARY:Rhythm Dance - Brantford
DESCRIPTION:Rhythm Dance has always taken pride and care in selecting judges based on professional training and experience\, broad background\, and fairness. Rhythm Dance judges are also selected for their compassion and experience with children and their desire to provide useful\, positive critiques to dancers and teachers. \nWe believe that healthy competition can enrich the lives of our children by teaching them about their own strengths and weaknesses and how to set realistic goals\, cope with disappointment\, and find acceptable ways to react to the adversities they will encounter throughout their lives. \nWith more than 30 years of competition experience\, we strive to be innovative\, organized\, fair\, and friendly. Your Rhythm experience is important to us!
URL:https://ontariodance.com/event/rhythm-dance-brantford-2/
LOCATION:Sanderson Centre\, 88 Dalhousie Street\, Brantford\, ON\, N3T 2J2\, Canada
END:VEVENT
BEGIN:VEVENT
DTSTART;VALUE=DATE:20240523
DTEND;VALUE=DATE:20240527
DTSTAMP:20260423T091117
CREATED:20230920T085632Z
LAST-MODIFIED:20230920T085632Z
UID:2543-1716422400-1716767999@ontariodance.com
SUMMARY:Star Beat Dance Champions - Burlington 2
DESCRIPTION:At Star Beat we promote a family friendly atmosphere\, where every dancer is a Star! We love seeing dancers having fun\, making friends\, learning new things and enjoying an overall dance experience that they will remember forever! \nWe love giving back to the dancers through our overall cash awards\, trophies\, medals\, LED pins\, ribbons\, ongoing audience raffles\, guessing games & much more! Come dance with us this season to experience the fun and excitement\, you won’t want to miss it!Star Beat Dance Champions – Niagara-on-the-Lake
URL:https://ontariodance.com/event/star-beat-dance-champions-burlington-2/
LOCATION:Holiday Inn Burlington-Hotel & Conf Centre\, 3063 South Service Road\, Burlington\, ON\, L7N 3E9\, Canada
ORGANIZER;CN="Star%20Beat%20Dance%20Champions":MAILTO:contact@starbeatdance.com
END:VEVENT
END:VCALENDAR