BEGIN:VCALENDAR
VERSION:2.0
PRODID:-//OntarioDance.com - ECPv6.1.2.2//NONSGML v1.0//EN
CALSCALE:GREGORIAN
METHOD:PUBLISH
X-WR-CALNAME:OntarioDance.com
X-ORIGINAL-URL:https://ontariodance.com
X-WR-CALDESC:Events for OntarioDance.com
REFRESH-INTERVAL;VALUE=DURATION:PT1H
X-Robots-Tag:noindex
X-PUBLISHED-TTL:PT1H
BEGIN:VTIMEZONE
TZID:America/Toronto
BEGIN:DAYLIGHT
TZOFFSETFROM:-0500
TZOFFSETTO:-0400
TZNAME:EDT
DTSTART:20240310T070000
END:DAYLIGHT
BEGIN:STANDARD
TZOFFSETFROM:-0400
TZOFFSETTO:-0500
TZNAME:EST
DTSTART:20241103T060000
END:STANDARD
END:VTIMEZONE
BEGIN:VEVENT
DTSTART;VALUE=DATE:20240525
DTEND;VALUE=DATE:20240529
DTSTAMP:20260423T075457
CREATED:20230919T045316Z
LAST-MODIFIED:20230919T045316Z
UID:2492-1716595200-1716940799@ontariodance.com
SUMMARY:Kick It Up Dance - Blue Mountain 3
DESCRIPTION:Having raised two children in the competitive dance scene for over 20 years\, we were inspired to offer child dancers a more positive experience than what we had encountered. Our events are infused with genuine care and encouragement\, and we apply this philosophy to every aspect of our organization. Now in our 18th season\, we continue to strive for improvement and innovation. One of our clients recently reminded us that we have achieved the perfect balance between competition and family fun\, making it an incredible weekend for everyone. \nOur primary objective is to give child performers the recognition they deserve\, and for the memories of Kick It Up to last a lifetime. As well as providing entertainment for the entire family.
URL:https://ontariodance.com/event/kick-it-up-dance-blue-mountain-3-2/
LOCATION:Blue Mountain Inn Resort\, 110 Jozo Weider Boulevard\, Blue Mountain\, ON\, L9Y 0P7\, Canada
ORGANIZER;CN="Kick%20It%20Up%20Dance":MAILTO:info@kickitup.ca
END:VEVENT
END:VCALENDAR