BEGIN:VCALENDAR
VERSION:2.0
PRODID:-//OntarioDance.com - ECPv6.1.2.2//NONSGML v1.0//EN
CALSCALE:GREGORIAN
METHOD:PUBLISH
X-WR-CALNAME:OntarioDance.com
X-ORIGINAL-URL:https://ontariodance.com
X-WR-CALDESC:Events for OntarioDance.com
REFRESH-INTERVAL;VALUE=DURATION:PT1H
X-Robots-Tag:noindex
X-PUBLISHED-TTL:PT1H
BEGIN:VTIMEZONE
TZID:America/Toronto
BEGIN:DAYLIGHT
TZOFFSETFROM:-0500
TZOFFSETTO:-0400
TZNAME:EDT
DTSTART:20240310T070000
END:DAYLIGHT
BEGIN:STANDARD
TZOFFSETFROM:-0400
TZOFFSETTO:-0500
TZNAME:EST
DTSTART:20241103T060000
END:STANDARD
END:VTIMEZONE
BEGIN:VEVENT
DTSTART;VALUE=DATE:20240529
DTEND;VALUE=DATE:20240603
DTSTAMP:20260423T080201
CREATED:20230419T120902Z
LAST-MODIFIED:20230419T120902Z
UID:515-1716940800-1717372799@ontariodance.com
SUMMARY:Inspire Dance Challenge  - Collingwood (Nationals)
DESCRIPTION:In 2010\, Inspire was launched with the goal of giving every child the chance to succeed through public performance. Our aim is to provide opportunities for all performers to feel accomplished\, regardless of their skill level. \nAlthough we do have winners and scores in this competition\, we believe that every effort is worthy of recognition. Each performance represents a moment in time where there are factors that are within and outside of the performer’s control. For example\, a performer cannot control who they are competing against or how hard that person has worked. Sometimes\, the competition may have a better execution\, but that does not diminish the bravery and effort that the performer put into their own performance. At Inspire\, we reward excellence\, but we also value every performer’s courage and hard work.
URL:https://ontariodance.com/event/inspire-dance-challenge-collingwood-nationals/
LOCATION:Blue Mountain Inn Conference Centre\, 242 Jozo Weider Blvd\, Town Of The Blue Mountains\, ON\, L9Y 3Z2\, Canada
ORGANIZER;CN="Inspire%20Dance%20Challenge":MAILTO:info@inspiredancechallenge.com
END:VEVENT
END:VCALENDAR