BEGIN:VCALENDAR
VERSION:2.0
PRODID:-//OntarioDance.com - ECPv6.1.2.2//NONSGML v1.0//EN
CALSCALE:GREGORIAN
METHOD:PUBLISH
X-WR-CALNAME:OntarioDance.com
X-ORIGINAL-URL:https://ontariodance.com
X-WR-CALDESC:Events for OntarioDance.com
REFRESH-INTERVAL;VALUE=DURATION:PT1H
X-Robots-Tag:noindex
X-PUBLISHED-TTL:PT1H
BEGIN:VTIMEZONE
TZID:America/Toronto
BEGIN:DAYLIGHT
TZOFFSETFROM:-0500
TZOFFSETTO:-0400
TZNAME:EDT
DTSTART:20240310T070000
END:DAYLIGHT
BEGIN:STANDARD
TZOFFSETFROM:-0400
TZOFFSETTO:-0500
TZNAME:EST
DTSTART:20241103T060000
END:STANDARD
END:VTIMEZONE
BEGIN:VEVENT
DTSTART;VALUE=DATE:20240529
DTEND;VALUE=DATE:20240603
DTSTAMP:20260423T080201
CREATED:20230419T120902Z
LAST-MODIFIED:20230419T120902Z
UID:515-1716940800-1717372799@ontariodance.com
SUMMARY:Inspire Dance Challenge  - Collingwood (Nationals)
DESCRIPTION:In 2010\, Inspire was launched with the goal of giving every child the chance to succeed through public performance. Our aim is to provide opportunities for all performers to feel accomplished\, regardless of their skill level. \nAlthough we do have winners and scores in this competition\, we believe that every effort is worthy of recognition. Each performance represents a moment in time where there are factors that are within and outside of the performer’s control. For example\, a performer cannot control who they are competing against or how hard that person has worked. Sometimes\, the competition may have a better execution\, but that does not diminish the bravery and effort that the performer put into their own performance. At Inspire\, we reward excellence\, but we also value every performer’s courage and hard work.
URL:https://ontariodance.com/event/inspire-dance-challenge-collingwood-nationals/
LOCATION:Blue Mountain Inn Conference Centre\, 242 Jozo Weider Blvd\, Town Of The Blue Mountains\, ON\, L9Y 3Z2\, Canada
ORGANIZER;CN="Inspire%20Dance%20Challenge":MAILTO:info@inspiredancechallenge.com
END:VEVENT
BEGIN:VEVENT
DTSTART;VALUE=DATE:20240530
DTEND;VALUE=DATE:20240603
DTSTAMP:20260423T080201
CREATED:20230912T131050Z
LAST-MODIFIED:20230912T131050Z
UID:2127-1717027200-1717372799@ontariodance.com
SUMMARY:Bedazzled Dance - Toronto
DESCRIPTION:Bedazzled is one of North America’s leading Dance Competitions. We pride ourselves in providing a safe\, fun\, friendly\, inclusive atmosphere for all our dancers\, studios and families. We know how hard our directors and dancers work\, and the long hours of dedication that goes into all the routines that we see on our stage\, which is why here at Bedazzled recognizing all our dancers and expanding our overalls is something we take pride in. With over 155 overalls per event\, there is no one who does it quite like Bedazzled. Qualified judges\, customized awards\, live streamed events\, MC mark awards and SO MUCH MORE offered each weekend. We want our dancers leaving our competition proud\, smiling\, and with memories to last a lifetime. Bedazzled is an experience you DON’T want to miss\, join the fun and register for one of our events!
URL:https://ontariodance.com/event/bedazzled-dance-toronto-2/
LOCATION:Chinese Cultural Centre Of Greater Toronto\, 5183 Sheppard Avenue East\, Scarborough\, ON\, M1B 5Z5\, Canada
ORGANIZER;CN="Bedazzled%20Dance":MAILTO:bedazzled@bellnet.ca
END:VEVENT
BEGIN:VEVENT
DTSTART;VALUE=DATE:20240530
DTEND;VALUE=DATE:20240603
DTSTAMP:20260423T080201
CREATED:20230913T121021Z
LAST-MODIFIED:20230913T121021Z
UID:2224-1717027200-1717372799@ontariodance.com
SUMMARY:Breaking Bounds Dance - Niagara Falls 2
DESCRIPTION:Annie Wood’s immense pride and excitement are evident as she brings forth this competition\, offering the dance community an exceptional platform to celebrate dance education’s progress. Breaking Bounds Dance Challenge is Annie’s dream come true\, fueled by her unwavering passion for dance and the entire community involved in studio and competition dance life. Annie’s remarkable devotion to care and excellence in the dance industry sets her apart\, evident in all of her produced events. \nThank you for taking part in our event and sharing your love for dance with us!
URL:https://ontariodance.com/event/breaking-bounds-dance-niagara-falls-2-2/
LOCATION:Americana Conference Resort Spa & Waterpark\, 8444 Lundy's Lane\, Niagara Falls\, ON\, L2H 1H4\, Canada
ORGANIZER;CN="Breaking%20Bounds%20Dance":MAILTO:info@breakingboundsdance.com
END:VEVENT
BEGIN:VEVENT
DTSTART;VALUE=DATE:20240530
DTEND;VALUE=DATE:20240603
DTSTAMP:20260423T080201
CREATED:20230920T085743Z
LAST-MODIFIED:20230920T085743Z
UID:2548-1717027200-1717372799@ontariodance.com
SUMMARY:Star Beat Dance Champions - Niagara Falls
DESCRIPTION:At Star Beat we promote a family friendly atmosphere\, where every dancer is a Star! We love seeing dancers having fun\, making friends\, learning new things and enjoying an overall dance experience that they will remember forever! \nWe love giving back to the dancers through our overall cash awards\, trophies\, medals\, LED pins\, ribbons\, ongoing audience raffles\, guessing games & much more! Come dance with us this season to experience the fun and excitement\, you won’t want to miss it!Star Beat Dance Champions – Niagara-on-the-Lake
URL:https://ontariodance.com/event/star-beat-dance-champions-niagara-falls/
LOCATION:Niagara Falls Convention Centre\, 6815 Stanley Avenue\, Niagara Falls\, ON\, L2G 3Y9\, Canada
ORGANIZER;CN="Star%20Beat%20Dance%20Champions":MAILTO:contact@starbeatdance.com
END:VEVENT
END:VCALENDAR