BEGIN:VCALENDAR
VERSION:2.0
PRODID:-//OntarioDance.com - ECPv6.1.2.2//NONSGML v1.0//EN
CALSCALE:GREGORIAN
METHOD:PUBLISH
X-WR-CALNAME:OntarioDance.com
X-ORIGINAL-URL:https://ontariodance.com
X-WR-CALDESC:Events for OntarioDance.com
REFRESH-INTERVAL;VALUE=DURATION:PT1H
X-Robots-Tag:noindex
X-PUBLISHED-TTL:PT1H
BEGIN:VTIMEZONE
TZID:America/Toronto
BEGIN:DAYLIGHT
TZOFFSETFROM:-0500
TZOFFSETTO:-0400
TZNAME:EDT
DTSTART:20240310T070000
END:DAYLIGHT
BEGIN:STANDARD
TZOFFSETFROM:-0400
TZOFFSETTO:-0500
TZNAME:EST
DTSTART:20241103T060000
END:STANDARD
END:VTIMEZONE
BEGIN:VEVENT
DTSTART;VALUE=DATE:20240607
DTEND;VALUE=DATE:20240610
DTSTAMP:20260423T075457
CREATED:20240429T132828Z
LAST-MODIFIED:20240429T132828Z
UID:5972-1717718400-1717977599@ontariodance.com
SUMMARY:Versastyle Dance Competition - Ottawa
DESCRIPTION:Versastyle Dance Competition is more than just the medals and ribbons. Through our education focused lens\, we challenges dancers to rise beyond expectations by experiencing the wonders of fair and authentic competition\, exploring diverse dance styles and gaining exposure to industry professional opportunities. \nBridging dance worlds and elevating dancers to rise beyond their potential one competition at a time.
URL:https://ontariodance.com/event/versastyle-dance-competition-ottawa/
LOCATION:Ottawa\, Ottawa\, ON\, Canada
END:VEVENT
END:VCALENDAR