BEGIN:VCALENDAR
VERSION:2.0
PRODID:-//OntarioDance.com - ECPv6.1.2.2//NONSGML v1.0//EN
CALSCALE:GREGORIAN
METHOD:PUBLISH
X-WR-CALNAME:OntarioDance.com
X-ORIGINAL-URL:https://ontariodance.com
X-WR-CALDESC:Events for OntarioDance.com
REFRESH-INTERVAL;VALUE=DURATION:PT1H
X-Robots-Tag:noindex
X-PUBLISHED-TTL:PT1H
BEGIN:VTIMEZONE
TZID:America/Toronto
BEGIN:DAYLIGHT
TZOFFSETFROM:-0500
TZOFFSETTO:-0400
TZNAME:EDT
DTSTART:20240310T070000
END:DAYLIGHT
BEGIN:STANDARD
TZOFFSETFROM:-0400
TZOFFSETTO:-0500
TZNAME:EST
DTSTART:20241103T060000
END:STANDARD
END:VTIMEZONE
BEGIN:VEVENT
DTSTART;VALUE=DATE:20240630
DTEND;VALUE=DATE:20240706
DTSTAMP:20260423T015820
CREATED:20240613T070206Z
LAST-MODIFIED:20240613T070206Z
UID:6786-1719705600-1720223999@ontariodance.com
SUMMARY:Quinte Ballet School of Canada - Summer Dance Intensive 1
DESCRIPTION:
URL:https://ontariodance.com/event/quinte-ballet-school-of-canada-summer-dance-intensive-1/
LOCATION:Quinte Ballet School of Canada\, Belleville\, ON\, Canada
END:VEVENT
BEGIN:VEVENT
DTSTART;VALUE=DATE:20240701
DTEND;VALUE=DATE:20240708
DTSTAMP:20260423T015820
CREATED:20230914T113334Z
LAST-MODIFIED:20230914T113334Z
UID:2307-1719792000-1720396799@ontariodance.com
SUMMARY:Candance - Ottawa (National Finals)
DESCRIPTION:We are a prominent provider in the dance industry in North America\, promoting our brand as a family-friendly\, fun\, and professional experience. Our primary focus is on producing high-quality events that cater to dancers of all ages and abilities. We maintain our standards and continuously strive to innovate as the dance world evolves. \nWith over 20 tour dates in Canada and the United States\, Candance dance competition is the perfect choice for your dancers. Our competition provides a professional\, stimulating\, challenging\, and enjoyable experience for dancers this season. Discover why Candance has been the top choice for most dance studios year after year\, and let your dancers revel in the experience.
URL:https://ontariodance.com/event/candance-ottawa-national-finals/
LOCATION:Shaw Centre\, 5 Colonel By Drive\, Ottawa\, ON\, K1N 9J\, Canada
ORGANIZER;CN="Candance":MAILTO:info@candancecompetition.ca
END:VEVENT
BEGIN:VEVENT
DTSTART;VALUE=DATE:20240702
DTEND;VALUE=DATE:20240705
DTSTAMP:20260423T015820
CREATED:20240617T113234Z
LAST-MODIFIED:20240617T113234Z
UID:6889-1719878400-1720137599@ontariodance.com
SUMMARY:JJ DANCE Performing Arts Studio - Mini Power Camp
DESCRIPTION:
URL:https://ontariodance.com/event/jj-dance-performing-arts-studio-mini-power-camp/
LOCATION:JJ DANCE Performing Arts Studio\, Burlington\, ON\, Canada
END:VEVENT
BEGIN:VEVENT
DTSTART;VALUE=DATE:20240702
DTEND;VALUE=DATE:20240706
DTSTAMP:20260423T015820
CREATED:20240228T122942Z
LAST-MODIFIED:20240228T122942Z
UID:4837-1719878400-1720223999@ontariodance.com
SUMMARY:Clarke Dance Productions - Summer Dance Camp 1
DESCRIPTION:We offer quality dance classes in Whitby\, Ontario. Featuring small class sizes\, qualified and educated adult instructors\, classes for ages 18 months to adult\, and a beautifully clean facility!
URL:https://ontariodance.com/event/clarke-dance-productions-summer-dance-camp-1/
LOCATION:Clarke Dance Productions\, 1450 Hopkins St.\, Whitby\, L1N 2C3\, Canada
END:VEVENT
BEGIN:VEVENT
DTSTART;VALUE=DATE:20240702
DTEND;VALUE=DATE:20240706
DTSTAMP:20260423T015820
CREATED:20240611T122910Z
LAST-MODIFIED:20240611T122910Z
UID:6733-1719878400-1720223999@ontariodance.com
SUMMARY:Creative Connexions Performing Arts Centre - Summer Camp Week 1
DESCRIPTION:
URL:https://ontariodance.com/event/creative-connexions-performing-arts-centre-summer-camp-week-1/
LOCATION:Creative Connexions Performing Arts Centre\, Ajax\, ON\, Canada
END:VEVENT
BEGIN:VEVENT
DTSTART;VALUE=DATE:20240702
DTEND;VALUE=DATE:20240706
DTSTAMP:20260423T015820
CREATED:20240612T104240Z
LAST-MODIFIED:20240612T104240Z
UID:6761-1719878400-1720223999@ontariodance.com
SUMMARY:The Guelph Academy of Dance Inc. - Summer Dance Camp 1
DESCRIPTION:
URL:https://ontariodance.com/event/the-guelph-academy-of-dance-inc-summer-dance-camp-1/
LOCATION:The Guelph Academy of Dance Inc\, Guelph\, ON\, Canada
END:VEVENT
BEGIN:VEVENT
DTSTART;VALUE=DATE:20240702
DTEND;VALUE=DATE:20240706
DTSTAMP:20260423T015820
CREATED:20240613T103829Z
LAST-MODIFIED:20240613T104656Z
UID:6801-1719878400-1720223999@ontariodance.com
SUMMARY:Dance Extreme - Inside Out (4 day camp)
DESCRIPTION:
URL:https://ontariodance.com/event/dance-extreme-inside-out-4-day-camp/
LOCATION:Dance Extreme\, Notre Dame Drive\, ON\, Canada
END:VEVENT
BEGIN:VEVENT
DTSTART;VALUE=DATE:20240702
DTEND;VALUE=DATE:20240706
DTSTAMP:20260423T015820
CREATED:20240710T105823Z
LAST-MODIFIED:20240710T105823Z
UID:7313-1719878400-1720223999@ontariodance.com
SUMMARY:Artist's Play - Summer Camp
DESCRIPTION:
URL:https://ontariodance.com/event/artists-play-summer-camp/
LOCATION:Artist’s Play\, Toronto\, ON\, Canada
END:VEVENT
BEGIN:VEVENT
DTSTART;VALUE=DATE:20240702
DTEND;VALUE=DATE:20240706
DTSTAMP:20260423T015820
CREATED:20240712T103747Z
LAST-MODIFIED:20240712T103747Z
UID:7397-1719878400-1720223999@ontariodance.com
SUMMARY:Just 4 Kicks Academy of Dance - J4K Dance Camp
DESCRIPTION:
URL:https://ontariodance.com/event/just-4-kicks-academy-of-dance-j4k-dance-camp/
LOCATION:Just 4 Kicks Academy of Dance\, Gravenhurst\, ON\, Canada
END:VEVENT
BEGIN:VEVENT
DTSTART;VALUE=DATE:20240702
DTEND;VALUE=DATE:20240707
DTSTAMP:20260423T015820
CREATED:20231004T114100Z
LAST-MODIFIED:20231004T114100Z
UID:2838-1719878400-1720310399@ontariodance.com
SUMMARY:Star Catchers Dance - Canadian Dance Finals - Niagara Falls
DESCRIPTION:A Finals with a new concept using any regional. Dedicated to dancers. \nThe StarCatchers Competition has an impressive history spanning two decades\, but it continually strives to meet the current demands of the dance industry and its participants. It is widely regarded as one of the premier dance competitions in Ontario\, providing dancers with enjoyable and enriching experiences.
URL:https://ontariodance.com/event/star-catchers-dance-canadian-dance-finals-niagara-falls/
LOCATION:Americana Conference Resort\, 8444 Lundy's Lane\, Niagara Falls\, ON\, L2H 1H4\, Canada
ORGANIZER;CN="Star%20Catchers%20Dance":MAILTO:directors@starcatchersdance.com
END:VEVENT
BEGIN:VEVENT
DTSTART;VALUE=DATE:20240702
DTEND;VALUE=DATE:20240707
DTSTAMP:20260423T015820
CREATED:20240125T074114Z
LAST-MODIFIED:20240125T074114Z
UID:4399-1719878400-1720310399@ontariodance.com
SUMMARY:Canadian Dance Finals - Niagara Falls
DESCRIPTION:Studios have been competing all season long and now it’s their time to take the competition experience to the next level\, surrounded by dancers from all over our beautiful country coming together to be inspired\, motivated and challenged to achieve new goals to compete at the national level. 
URL:https://ontariodance.com/event/canadian-dance-finals-niagara-falls/
LOCATION:Americana Conference Resort Spa & Waterpark\, 8444 Lundy's Lane\, Niagara Falls\, ON\, L2H 1H4\, Canada
ORGANIZER;CN="Canadian%20Dance%20Finals":MAILTO:DANCE@CANADIANDANCEFINALS.CA
END:VEVENT
BEGIN:VEVENT
DTSTART;VALUE=DATE:20240702
DTEND;VALUE=DATE:20240708
DTSTAMP:20260423T015820
CREATED:20230912T130304Z
LAST-MODIFIED:20230912T130304Z
UID:2119-1719878400-1720396799@ontariodance.com
SUMMARY:Bedazzled Dance - Collingwood 4 (Finals)
DESCRIPTION:Bedazzled is one of North America’s leading Dance Competitions. We pride ourselves in providing a safe\, fun\, friendly\, inclusive atmosphere for all our dancers\, studios and families. We know how hard our directors and dancers work\, and the long hours of dedication that goes into all the routines that we see on our stage\, which is why here at Bedazzled recognizing all our dancers and expanding our overalls is something we take pride in. With over 155 overalls per event\, there is no one who does it quite like Bedazzled. Qualified judges\, customized awards\, live streamed events\, MC mark awards and SO MUCH MORE offered each weekend. We want our dancers leaving our competition proud\, smiling\, and with memories to last a lifetime. Bedazzled is an experience you DON’T want to miss\, join the fun and register for one of our events!
URL:https://ontariodance.com/event/bedazzled-dance-collingwood-4-finals/
LOCATION:Blue Mountain Inn Conference Centre\, 242 Jozo Weider Blvd\, Town Of The Blue Mountains\, ON\, L9Y 3Z2\, Canada
ORGANIZER;CN="Bedazzled%20Dance":MAILTO:bedazzled@bellnet.ca
END:VEVENT
BEGIN:VEVENT
DTSTART;VALUE=DATE:20240702
DTEND;VALUE=DATE:20240708
DTSTAMP:20260423T015820
CREATED:20230918T052402Z
LAST-MODIFIED:20230918T052402Z
UID:2444-1719878400-1720396799@ontariodance.com
SUMMARY:On The Floor - Alliston 7 (The Event)
DESCRIPTION:On The Floor® (OTF) has a mission to provide a modern\, family-friendly dance competition that leaves all participants feeling motivated and inspired. By incorporating innovative concepts and exceptional adjudication\, OTF aims to be the leading dance competition in the industry. The founders of OTF\, Mitchell Jackson and Lisa Hupé\, shared a dream of creating a one-of-a-kind dance competition\, and worked tirelessly to make it a reality. \nSince its inception in 2012\, Mitchell and Lisa have been committed to making OTF an enjoyable and fulfilling experience for all participants. Drawing on their extensive dance backgrounds\, they aimed to create a competition that would offer dancers the opportunity to win scholarships to prestigious dance institutions\, while also learning from and connecting with industry professionals. To establish Canada’s premier dance competition\, it was essential to assemble the perfect team. Mitchell and Lisa have brought on board a prestigious faculty consisting of the industry’s top professionals\, providing outstanding opportunities for OTF competitors.
URL:https://ontariodance.com/event/on-the-floor-alliston-7-the-event/
LOCATION:Nottawasaga Inn Resort & Conference Centre\, 6015 Highway 89\, Alliston\, ON\, L9R 1A4\, Canada
ORGANIZER;CN="On%20The%20Floor":MAILTO:dance@onthefloor.ca
END:VEVENT
BEGIN:VEVENT
DTSTART;VALUE=DATE:20240702
DTEND;VALUE=DATE:20240731
DTSTAMP:20260423T015820
CREATED:20240712T104958Z
LAST-MODIFIED:20240712T104958Z
UID:7415-1719878400-1722383999@ontariodance.com
SUMMARY:Dance Evolution
DESCRIPTION:
URL:https://ontariodance.com/event/dance-evolution/
LOCATION:Dance Evolution\, Greater Sudbury\, ON\, Canada
END:VEVENT
END:VCALENDAR