BEGIN:VCALENDAR
VERSION:2.0
PRODID:-//OntarioDance.com - ECPv6.1.2.2//NONSGML v1.0//EN
CALSCALE:GREGORIAN
METHOD:PUBLISH
X-ORIGINAL-URL:https://ontariodance.com
X-WR-CALDESC:Events for OntarioDance.com
REFRESH-INTERVAL;VALUE=DURATION:PT1H
X-Robots-Tag:noindex
X-PUBLISHED-TTL:PT1H
BEGIN:VTIMEZONE
TZID:America/Toronto
BEGIN:DAYLIGHT
TZOFFSETFROM:-0500
TZOFFSETTO:-0400
TZNAME:EDT
DTSTART:20240310T070000
END:DAYLIGHT
BEGIN:STANDARD
TZOFFSETFROM:-0400
TZOFFSETTO:-0500
TZNAME:EST
DTSTART:20241103T060000
END:STANDARD
END:VTIMEZONE
BEGIN:VEVENT
DTSTART;VALUE=DATE:20240708
DTEND;VALUE=DATE:20240817
DTSTAMP:20260421T161536
CREATED:20240717T080231Z
LAST-MODIFIED:20240717T080231Z
UID:7613-1720396800-1723852799@ontariodance.com
SUMMARY:Joy of Dance - Kids + Teen Dance Camp
DESCRIPTION:
URL:https://ontariodance.com/event/joy-of-dance-kids-teen-dance-camp/
LOCATION:Joy of Dance\, Toronto\, ON\, Canada
END:VEVENT
BEGIN:VEVENT
DTSTART;VALUE=DATE:20240709
DTEND;VALUE=DATE:20240816
DTSTAMP:20260421T161536
CREATED:20240524T014041Z
LAST-MODIFIED:20240524T020910Z
UID:6443-1720483200-1723766399@ontariodance.com
SUMMARY:Dance Inc Company - Summer All In Training
DESCRIPTION:This Summer is their Discover Dance Class! For the dancer that wants to try it all before the Fall. This is the perfect class for dancer’s trying to find their groove\, to help them choose their style. It is also a class sure to bring lots of smiles for the dancers that love taking every style!
URL:https://ontariodance.com/event/dance-inc-company-all-in-training/
LOCATION:Dance Inc\, 530 Westney Rd S\, Ajax\, ON\, L1S 6W4\, Canada
END:VEVENT
BEGIN:VEVENT
DTSTART;VALUE=DATE:20240710
DTEND;VALUE=DATE:20240815
DTSTAMP:20260421T161536
CREATED:20240524T014209Z
LAST-MODIFIED:20240524T020511Z
UID:6445-1720569600-1723679999@ontariodance.com
SUMMARY:Dance Inc - Summer Training - Mini Bootcamp
DESCRIPTION:This Summer is their Discover Dance Class! For the dancer that wants to try it all before the Fall. This is the perfect class for dancer’s trying to find their groove\, to help them choose their style. It is also a class sure to bring lots of smiles for the dancers that love taking every style!
URL:https://ontariodance.com/event/dance-inc-mini-bootcamp/
LOCATION:Dance Inc\, 530 Westney Rd S\, Ajax\, ON\, L1S 6W4\, Canada
END:VEVENT
BEGIN:VEVENT
DTSTART;VALUE=DATE:20240710
DTEND;VALUE=DATE:20240815
DTSTAMP:20260421T161536
CREATED:20240712T102952Z
LAST-MODIFIED:20240712T102952Z
UID:7386-1720569600-1723679999@ontariodance.com
SUMMARY:Waterdown Dancers Inc - 2024 Summer Schedule
DESCRIPTION:
URL:https://ontariodance.com/event/waterdown-dancers-inc-2024-summer-schedule/
LOCATION:Waterdown Dancers Inc\, Waterdown\, ON\, Canada
END:VEVENT
BEGIN:VEVENT
DTSTART;VALUE=DATE:20240710
DTEND;VALUE=DATE:20240829
DTSTAMP:20260421T161536
CREATED:20240726T114151Z
LAST-MODIFIED:20240726T114151Z
UID:7842-1720569600-1724889599@ontariodance.com
SUMMARY:Dance FX Studio - Summer Vibes
DESCRIPTION:
URL:https://ontariodance.com/event/dance-fx-studio-summer-vibes/
LOCATION:Dance FX Studio\, St. Catharines\, ON\, Canada
END:VEVENT
BEGIN:VEVENT
DTSTART;VALUE=DATE:20240716
DTEND;VALUE=DATE:20240821
DTSTAMP:20260421T161536
CREATED:20240524T024012Z
LAST-MODIFIED:20240524T024012Z
UID:6478-1721088000-1724198399@ontariodance.com
SUMMARY:Protege Dance Company - Short & Sweet Summer Program
DESCRIPTION:At Protégé Dance Company\, they hold themselves to the highest professional standards. Their team of educators\, choreographers\, directors\, and personnel is dedicated to maintaining a level of excellence in all aspects of their work. They value and embrace diversity\, welcoming individuals from all backgrounds to join their community.
URL:https://ontariodance.com/event/protege-dance-company-short-sweet-summer-program/
LOCATION:Protege Dance Company\, 682 Monarch Ave. Unit 5\, 6\, 8 & 9\, Ajax\, ON\, L1S 4S2\, Canada
END:VEVENT
BEGIN:VEVENT
DTSTART;VALUE=DATE:20240722
DTEND;VALUE=DATE:20240810
DTSTAMP:20260421T161536
CREATED:20240726T100529Z
LAST-MODIFIED:20240726T100529Z
UID:7779-1721606400-1723247999@ontariodance.com
SUMMARY:Ottawa Dance Centre Schools - Interlude Collaborative Summer Dance Program
DESCRIPTION:
URL:https://ontariodance.com/event/ottawa-dance-centre-schools-interlude-collaborative-summer-dance-program/
LOCATION:Ottawa Dance Centre Schools\, Ottawa\, ON\, Canada
END:VEVENT
BEGIN:VEVENT
DTSTART;VALUE=DATE:20240729
DTEND;VALUE=DATE:20240811
DTSTAMP:20260421T161536
CREATED:20240215T114135Z
LAST-MODIFIED:20240215T114135Z
UID:4674-1722211200-1723334399@ontariodance.com
SUMMARY:RWB School - Dance Intensive
DESCRIPTION:For almost 80 years\, the Royal Winnipeg Ballet School has been inspiring young artists and supporting them in the pursuit of their goals. Under the direction of School Director Stéphane Léonard\, the RWB School is well-known across Canada and around the world for providing excellence in dance education. The School’s state-of the-art facility\, located in historic downtown Winnipeg\, is home to the more than 1\,500 students annually who make up the Professional and Recreational Divisions of the School. The connection to the RWB Company and the subsequent visibility of students and exposure to the eye of Artistic Director André Lewis is among the School’s many strengths.
URL:https://ontariodance.com/event/rwb-school-dance-intensive/
LOCATION:RWB School\, 380 Graham Avenue\, Winnipeg\, R3C 4K2\, Canada
END:VEVENT
BEGIN:VEVENT
DTSTART;VALUE=DATE:20240805
DTEND;VALUE=DATE:20240806
DTSTAMP:20260421T161536
CREATED:20240603T120658Z
LAST-MODIFIED:20240603T120658Z
UID:6560-1722816000-1722902399@ontariodance.com
SUMMARY:Holly Hughes Dance Academy - Summer Turns\, Jumps & Combos 9
DESCRIPTION:
URL:https://ontariodance.com/event/holly-hughes-dance-academy-summer-turns-jumps-combos-9/
LOCATION:Holly Hughes Dance Academy\, Guelph\, ON\, Canada
END:VEVENT
BEGIN:VEVENT
DTSTART;VALUE=DATE:20240805
DTEND;VALUE=DATE:20240810
DTSTAMP:20260421T161536
CREATED:20240228T123421Z
LAST-MODIFIED:20240228T123421Z
UID:4845-1722816000-1723247999@ontariodance.com
SUMMARY:Clarke Dance Productions - Summer Dance Camp 4
DESCRIPTION:We offer quality dance classes in Whitby\, Ontario. Featuring small class sizes\, qualified and educated adult instructors\, classes for ages 18 months to adult\, and a beautifully clean facility!
URL:https://ontariodance.com/event/clarke-dance-productions-summer-dance-camp-4/
LOCATION:Clarke Dance Productions\, 1450 Hopkins St.\, Whitby\, L1N 2C3\, Canada
END:VEVENT
BEGIN:VEVENT
DTSTART;VALUE=DATE:20240805
DTEND;VALUE=DATE:20240810
DTSTAMP:20260421T161536
CREATED:20240611T123409Z
LAST-MODIFIED:20240611T123409Z
UID:6741-1722816000-1723247999@ontariodance.com
SUMMARY:Creative Connexions Performing Arts Centre - Summer Camp Week 4
DESCRIPTION:
URL:https://ontariodance.com/event/creative-connexions-performing-arts-centre-summer-camp-week-4/
LOCATION:Creative Connexions Performing Arts Centre\, Ajax\, ON\, Canada
END:VEVENT
END:VCALENDAR