BEGIN:VCALENDAR
VERSION:2.0
PRODID:-//OntarioDance.com - ECPv6.1.2.2//NONSGML v1.0//EN
CALSCALE:GREGORIAN
METHOD:PUBLISH
X-WR-CALNAME:OntarioDance.com
X-ORIGINAL-URL:https://ontariodance.com
X-WR-CALDESC:Events for OntarioDance.com
REFRESH-INTERVAL;VALUE=DURATION:PT1H
X-Robots-Tag:noindex
X-PUBLISHED-TTL:PT1H
BEGIN:VTIMEZONE
TZID:America/Toronto
BEGIN:DAYLIGHT
TZOFFSETFROM:-0500
TZOFFSETTO:-0400
TZNAME:EDT
DTSTART:20240310T070000
END:DAYLIGHT
BEGIN:STANDARD
TZOFFSETFROM:-0400
TZOFFSETTO:-0500
TZNAME:EST
DTSTART:20241103T060000
END:STANDARD
END:VTIMEZONE
BEGIN:VEVENT
DTSTART;VALUE=DATE:20240710
DTEND;VALUE=DATE:20240829
DTSTAMP:20260421T161522
CREATED:20240726T114151Z
LAST-MODIFIED:20240726T114151Z
UID:7842-1720569600-1724889599@ontariodance.com
SUMMARY:Dance FX Studio - Summer Vibes
DESCRIPTION:
URL:https://ontariodance.com/event/dance-fx-studio-summer-vibes/
LOCATION:Dance FX Studio\, St. Catharines\, ON\, Canada
END:VEVENT
BEGIN:VEVENT
DTSTART;VALUE=DATE:20240716
DTEND;VALUE=DATE:20240821
DTSTAMP:20260421T161522
CREATED:20240524T024012Z
LAST-MODIFIED:20240524T024012Z
UID:6478-1721088000-1724198399@ontariodance.com
SUMMARY:Protege Dance Company - Short & Sweet Summer Program
DESCRIPTION:At Protégé Dance Company\, they hold themselves to the highest professional standards. Their team of educators\, choreographers\, directors\, and personnel is dedicated to maintaining a level of excellence in all aspects of their work. They value and embrace diversity\, welcoming individuals from all backgrounds to join their community.
URL:https://ontariodance.com/event/protege-dance-company-short-sweet-summer-program/
LOCATION:Protege Dance Company\, 682 Monarch Ave. Unit 5\, 6\, 8 & 9\, Ajax\, ON\, L1S 4S2\, Canada
END:VEVENT
BEGIN:VEVENT
DTSTART;VALUE=DATE:20240812
DTEND;VALUE=DATE:20240824
DTSTAMP:20260421T161522
CREATED:20240726T101505Z
LAST-MODIFIED:20240726T101505Z
UID:7786-1723420800-1724457599@ontariodance.com
SUMMARY:Balletomane - Vocational Intensive Summer School Realize Your Potential
DESCRIPTION:
URL:https://ontariodance.com/event/balletomane-vocational-intensive-summer-school-realize-your-potential/
LOCATION:Balletomane\, Oakville\, ON\, Canada
END:VEVENT
BEGIN:VEVENT
DTSTART;VALUE=DATE:20240813
DTEND;VALUE=DATE:20240820
DTSTAMP:20260421T161522
CREATED:20240717T065258Z
LAST-MODIFIED:20240717T065258Z
UID:7601-1723507200-1724111999@ontariodance.com
SUMMARY:Jessica's Dance Innovations - Summer Series 5
DESCRIPTION:
URL:https://ontariodance.com/event/jessicas-dance-innovations-summer-series-5/
LOCATION:Jessica’s Dance Innovations\, Brampton\, ON\, Canada
END:VEVENT
END:VCALENDAR