BEGIN:VCALENDAR
VERSION:2.0
PRODID:-//OntarioDance.com - ECPv6.1.2.2//NONSGML v1.0//EN
CALSCALE:GREGORIAN
METHOD:PUBLISH
X-WR-CALNAME:OntarioDance.com
X-ORIGINAL-URL:https://ontariodance.com
X-WR-CALDESC:Events for OntarioDance.com
REFRESH-INTERVAL;VALUE=DURATION:PT1H
X-Robots-Tag:noindex
X-PUBLISHED-TTL:PT1H
BEGIN:VTIMEZONE
TZID:America/Toronto
BEGIN:DAYLIGHT
TZOFFSETFROM:-0500
TZOFFSETTO:-0400
TZNAME:EDT
DTSTART:20240310T070000
END:DAYLIGHT
BEGIN:STANDARD
TZOFFSETFROM:-0400
TZOFFSETTO:-0500
TZNAME:EST
DTSTART:20241103T060000
END:STANDARD
BEGIN:DAYLIGHT
TZOFFSETFROM:-0500
TZOFFSETTO:-0400
TZNAME:EDT
DTSTART:20250309T070000
END:DAYLIGHT
BEGIN:STANDARD
TZOFFSETFROM:-0400
TZOFFSETTO:-0500
TZNAME:EST
DTSTART:20251102T060000
END:STANDARD
END:VTIMEZONE
BEGIN:VEVENT
DTSTART;VALUE=DATE:20240710
DTEND;VALUE=DATE:20240829
DTSTAMP:20260421T145528
CREATED:20240726T114151Z
LAST-MODIFIED:20240726T114151Z
UID:7842-1720569600-1724889599@ontariodance.com
SUMMARY:Dance FX Studio - Summer Vibes
DESCRIPTION:
URL:https://ontariodance.com/event/dance-fx-studio-summer-vibes/
LOCATION:Dance FX Studio\, St. Catharines\, ON\, Canada
END:VEVENT
BEGIN:VEVENT
DTSTART;VALUE=DATE:20240819
DTEND;VALUE=DATE:20240922
DTSTAMP:20260421T145528
CREATED:20240709T111314Z
LAST-MODIFIED:20240709T111314Z
UID:7264-1724025600-1726963199@ontariodance.com
SUMMARY:Tap Dance Centre - Tap Syllabus Teacher's Certification Course with Kim Chalovich
DESCRIPTION:
URL:https://ontariodance.com/event/tap-dance-centre-tap-syllabus-teachers-certification-course-with-kim-chalovich/
LOCATION:Tap Dance Centre\, Mississauga\, ON\, Canada
END:VEVENT
BEGIN:VEVENT
DTSTART;VALUE=DATE:20240819
DTEND;VALUE=DATE:20250331
DTSTAMP:20260421T145528
CREATED:20240819T102314Z
LAST-MODIFIED:20240819T102314Z
UID:8574-1724025600-1743379199@ontariodance.com
SUMMARY:International Fever Dance Championships - Markham 2025
DESCRIPTION:
URL:https://ontariodance.com/event/international-fever-dance-championships-markham-2025/
LOCATION:International Fever Dance Championships\, Ottawa\, Canada
END:VEVENT
BEGIN:VEVENT
DTSTART;VALUE=DATE:20240821
DTEND;VALUE=DATE:20250512
DTSTAMP:20260421T145528
CREATED:20240821T085114Z
LAST-MODIFIED:20240821T085114Z
UID:8649-1724198400-1747007999@ontariodance.com
SUMMARY:MOVE The Ultimate Dance Competition - Hamilton
DESCRIPTION:
URL:https://ontariodance.com/event/move-the-ultimate-dance-competition-hamilton/
LOCATION:MOVE The Ultimate Dance Competition\, Toronto\, ON\, Canada
END:VEVENT
BEGIN:VEVENT
DTSTART;VALUE=DATE:20240826
DTEND;VALUE=DATE:20240829
DTSTAMP:20260421T145528
CREATED:20240212T132412Z
LAST-MODIFIED:20240212T132412Z
UID:4619-1724630400-1724889599@ontariodance.com
SUMMARY:The Dance Element - Emerging Artists Dance Intensive
DESCRIPTION:Milton’s finest in quality dance training.\n\n\nTheir facility has 3 beautiful and spacious dance studios all with closed circuit t.v viewing for parents in the foyer and ample natural light flowing in through wall to wall windows. Their faculty are all certified and experienced instructors who have a passion for dance\, they love to teach.
URL:https://ontariodance.com/event/the-dance-element-emerging-artists-dance-intensive/
LOCATION:The Dance Element Studio\, 330 Bronte St. S Unit 215\, Milton\, ON\, L9T 7X1\, Canada
END:VEVENT
BEGIN:VEVENT
DTSTART;VALUE=DATE:20240826
DTEND;VALUE=DATE:20240831
DTSTAMP:20260421T145528
CREATED:20240709T105122Z
LAST-MODIFIED:20240709T105122Z
UID:7256-1724630400-1725062399@ontariodance.com
SUMMARY:Sound in Motion - Summer Dance Intensive
DESCRIPTION:
URL:https://ontariodance.com/event/sound-in-motion-summer-dance-intensive/
LOCATION:Sound in Motion\, London\, ON\, Canada
END:VEVENT
BEGIN:VEVENT
DTSTART;VALUE=DATE:20240826
DTEND;VALUE=DATE:20240831
DTSTAMP:20260421T145528
CREATED:20240726T101755Z
LAST-MODIFIED:20240726T101755Z
UID:7790-1724630400-1725062399@ontariodance.com
SUMMARY:Balletomane - Nursery & Primary A ‘ Barbie’ Themed Summer Camp
DESCRIPTION:
URL:https://ontariodance.com/event/balletomane-nursery-primary-a-barbie-themed-summer-camp/
LOCATION:Balletomane\, Oakville\, ON\, Canada
END:VEVENT
BEGIN:VEVENT
DTSTART;VALUE=DATE:20240828
DTEND;VALUE=DATE:20240829
DTSTAMP:20260421T145528
CREATED:20240604T113600Z
LAST-MODIFIED:20240604T113600Z
UID:6608-1724803200-1724889599@ontariodance.com
SUMMARY:Holly Hughes Dance Academy - Summer Conditioning & Technique 6
DESCRIPTION:
URL:https://ontariodance.com/event/holly-hughes-dance-academy-summer-conditioning-technique-6/
LOCATION:Holly Hughes Dance Academy\, Guelph\, ON\, Canada
END:VEVENT
END:VCALENDAR