BEGIN:VCALENDAR
VERSION:2.0
PRODID:-//OntarioDance.com - ECPv6.1.2.2//NONSGML v1.0//EN
CALSCALE:GREGORIAN
METHOD:PUBLISH
X-ORIGINAL-URL:https://ontariodance.com
X-WR-CALDESC:Events for OntarioDance.com
REFRESH-INTERVAL;VALUE=DURATION:PT1H
X-Robots-Tag:noindex
X-PUBLISHED-TTL:PT1H
BEGIN:VTIMEZONE
TZID:America/Toronto
BEGIN:DAYLIGHT
TZOFFSETFROM:-0500
TZOFFSETTO:-0400
TZNAME:EDT
DTSTART:20240310T070000
END:DAYLIGHT
BEGIN:STANDARD
TZOFFSETFROM:-0400
TZOFFSETTO:-0500
TZNAME:EST
DTSTART:20241103T060000
END:STANDARD
BEGIN:DAYLIGHT
TZOFFSETFROM:-0500
TZOFFSETTO:-0400
TZNAME:EDT
DTSTART:20250309T070000
END:DAYLIGHT
BEGIN:STANDARD
TZOFFSETFROM:-0400
TZOFFSETTO:-0500
TZNAME:EST
DTSTART:20251102T060000
END:STANDARD
END:VTIMEZONE
BEGIN:VEVENT
DTSTART;VALUE=DATE:20240819
DTEND;VALUE=DATE:20250331
DTSTAMP:20260421T072328
CREATED:20240819T102314Z
LAST-MODIFIED:20240819T102314Z
UID:8574-1724025600-1743379199@ontariodance.com
SUMMARY:International Fever Dance Championships - Markham 2025
DESCRIPTION:
URL:https://ontariodance.com/event/international-fever-dance-championships-markham-2025/
LOCATION:International Fever Dance Championships\, Ottawa\, Canada
END:VEVENT
BEGIN:VEVENT
DTSTART;VALUE=DATE:20240821
DTEND;VALUE=DATE:20250512
DTSTAMP:20260421T072328
CREATED:20240821T085114Z
LAST-MODIFIED:20240821T085114Z
UID:8649-1724198400-1747007999@ontariodance.com
SUMMARY:MOVE The Ultimate Dance Competition - Hamilton
DESCRIPTION:
URL:https://ontariodance.com/event/move-the-ultimate-dance-competition-hamilton/
LOCATION:MOVE The Ultimate Dance Competition\, Toronto\, ON\, Canada
END:VEVENT
BEGIN:VEVENT
DTSTART;VALUE=DATE:20250221
DTEND;VALUE=DATE:20250224
DTSTAMP:20260421T072328
CREATED:20240731T071212Z
LAST-MODIFIED:20240731T071212Z
UID:7979-1740096000-1740355199@ontariodance.com
SUMMARY:Bedazzled Dance - Richmond Hill 1
DESCRIPTION:Bedazzled is one of North America’s leading Dance Competitions. We pride ourselves in providing a safe\, fun\, friendly\, inclusive atmosphere for all our dancers\, studios and families. We know how hard our directors and dancers work\, and the long hours of dedication that goes into all the routines that we see on our stage\, which is why here at Bedazzled recognizing all our dancers and expanding our overalls is something we take pride in. With over 155 overalls per event\, there is no one who does it quite like Bedazzled. Qualified judges\, customized awards\, live streamed events\, MC mark awards and SO MUCH MORE offered each weekend. We want our dancers leaving our competition proud\, smiling\, and with memories to last a lifetime. Bedazzled is an experience you DON’T want to miss\, join the fun and register for one of our events!
URL:https://ontariodance.com/event/bedazzled-dance-richmond-hill-1/
LOCATION:Richmond Hill Centre For the Arts\, 10268 Yonge Street\, Richmond Hill\, ON\, L4C 3B7\, Canada
ORGANIZER;CN="Bedazzled%20Dance":MAILTO:bedazzled@bellnet.ca
END:VEVENT
BEGIN:VEVENT
DTSTART;VALUE=DATE:20250221
DTEND;VALUE=DATE:20250224
DTSTAMP:20260421T072328
CREATED:20240816T103841Z
LAST-MODIFIED:20240816T103841Z
UID:8521-1740096000-1740355199@ontariodance.com
SUMMARY:This is it Dance Competition - Ottawa
DESCRIPTION:
URL:https://ontariodance.com/event/this-is-it-dance-competition-ottawa/
LOCATION:This is it Dance Competition\, Ottawa\, ON\, Canada
END:VEVENT
BEGIN:VEVENT
DTSTART;VALUE=DATE:20250221
DTEND;VALUE=DATE:20250224
DTSTAMP:20260421T072328
CREATED:20240903T023930Z
LAST-MODIFIED:20240903T023930Z
UID:9034-1740096000-1740355199@ontariodance.com
SUMMARY:Shooting Stars Dance Competition  - Barrie
DESCRIPTION:
URL:https://ontariodance.com/event/shooting-stars-dance-competition-barrie/
LOCATION:Shooting Stars Dance Competition\, Uxbridge\, ON\, Canada
END:VEVENT
BEGIN:VEVENT
DTSTART;VALUE=DATE:20250221
DTEND;VALUE=DATE:20250224
DTSTAMP:20260421T072328
CREATED:20240905T123330Z
LAST-MODIFIED:20240905T123330Z
UID:9116-1740096000-1740355199@ontariodance.com
SUMMARY:The Dance Rage Competition - Hamilton
DESCRIPTION:
URL:https://ontariodance.com/event/the-dance-rage-competition-hamilton/
LOCATION:The Dance Rage Competition\, Kitchener\, ON\, Canada
END:VEVENT
BEGIN:VEVENT
DTSTART;VALUE=DATE:20250222
DTEND;VALUE=DATE:20250224
DTSTAMP:20260421T072328
CREATED:20240819T102030Z
LAST-MODIFIED:20240819T102030Z
UID:8567-1740182400-1740355199@ontariodance.com
SUMMARY:International Fever Dance Championships - SOLO HEAT: Burlington 2025
DESCRIPTION:
URL:https://ontariodance.com/event/international-fever-dance-championships-solo-heat-burlington-2025/
LOCATION:International Fever Dance Championships\, Ottawa\, Canada
END:VEVENT
END:VCALENDAR