BEGIN:VCALENDAR
VERSION:2.0
PRODID:-//OntarioDance.com - ECPv6.1.2.2//NONSGML v1.0//EN
CALSCALE:GREGORIAN
METHOD:PUBLISH
X-ORIGINAL-URL:https://ontariodance.com
X-WR-CALDESC:Events for OntarioDance.com
REFRESH-INTERVAL;VALUE=DURATION:PT1H
X-Robots-Tag:noindex
X-PUBLISHED-TTL:PT1H
BEGIN:VTIMEZONE
TZID:America/Toronto
BEGIN:DAYLIGHT
TZOFFSETFROM:-0500
TZOFFSETTO:-0400
TZNAME:EDT
DTSTART:20240310T070000
END:DAYLIGHT
BEGIN:STANDARD
TZOFFSETFROM:-0400
TZOFFSETTO:-0500
TZNAME:EST
DTSTART:20241103T060000
END:STANDARD
BEGIN:DAYLIGHT
TZOFFSETFROM:-0500
TZOFFSETTO:-0400
TZNAME:EDT
DTSTART:20250309T070000
END:DAYLIGHT
BEGIN:STANDARD
TZOFFSETFROM:-0400
TZOFFSETTO:-0500
TZNAME:EST
DTSTART:20251102T060000
END:STANDARD
END:VTIMEZONE
BEGIN:VEVENT
DTSTART;VALUE=DATE:20240819
DTEND;VALUE=DATE:20250331
DTSTAMP:20260423T054558
CREATED:20240819T102314Z
LAST-MODIFIED:20240819T102314Z
UID:8574-1724025600-1743379199@ontariodance.com
SUMMARY:International Fever Dance Championships - Markham 2025
DESCRIPTION:
URL:https://ontariodance.com/event/international-fever-dance-championships-markham-2025/
LOCATION:International Fever Dance Championships\, Ottawa\, Canada
END:VEVENT
BEGIN:VEVENT
DTSTART;VALUE=DATE:20240821
DTEND;VALUE=DATE:20250512
DTSTAMP:20260423T054558
CREATED:20240821T085114Z
LAST-MODIFIED:20240821T085114Z
UID:8649-1724198400-1747007999@ontariodance.com
SUMMARY:MOVE The Ultimate Dance Competition - Hamilton
DESCRIPTION:
URL:https://ontariodance.com/event/move-the-ultimate-dance-competition-hamilton/
LOCATION:MOVE The Ultimate Dance Competition\, Toronto\, ON\, Canada
END:VEVENT
BEGIN:VEVENT
DTSTART;VALUE=DATE:20250327
DTEND;VALUE=DATE:20250331
DTSTAMP:20260423T054558
CREATED:20240816T111418Z
LAST-MODIFIED:20240816T111418Z
UID:8541-1743033600-1743379199@ontariodance.com
SUMMARY:Xtreme Dance Champions - Alliston
DESCRIPTION:
URL:https://ontariodance.com/event/xtreme-dance-champions-alliston-5/
LOCATION:Xtreme Dance Champions\, Alliston\, ON\, Canada
ORGANIZER;CN="Xtreme%20Dance%20Champions":MAILTO:info@xtremedance.ca
END:VEVENT
BEGIN:VEVENT
DTSTART;VALUE=DATE:20250327
DTEND;VALUE=DATE:20250331
DTSTAMP:20260423T054558
CREATED:20240820T075345Z
LAST-MODIFIED:20240820T075345Z
UID:8612-1743033600-1743379199@ontariodance.com
SUMMARY:Inspire Dance Challenge - Brampton
DESCRIPTION:
URL:https://ontariodance.com/event/inspire-dance-challenge-brampton/
LOCATION:Inspire Dance Challenge\, Cambridge\, ON\, Canada
END:VEVENT
BEGIN:VEVENT
DTSTART;VALUE=DATE:20250327
DTEND;VALUE=DATE:20250331
DTSTAMP:20260423T054558
CREATED:20240826T075858Z
LAST-MODIFIED:20240826T075858Z
UID:8744-1743033600-1743379199@ontariodance.com
SUMMARY:On The Floor - Brantford
DESCRIPTION:
URL:https://ontariodance.com/event/on-the-floor-brantford/
LOCATION:On The Floor\, Markham\, ON\, Canada
END:VEVENT
BEGIN:VEVENT
DTSTART;VALUE=DATE:20250327
DTEND;VALUE=DATE:20250331
DTSTAMP:20260423T054558
CREATED:20240827T082926Z
LAST-MODIFIED:20240827T082926Z
UID:8804-1743033600-1743379199@ontariodance.com
SUMMARY:Luv 2 Dance - Blue Mountain 1
DESCRIPTION:
URL:https://ontariodance.com/event/luv-2-dance-blue-mountain-1/
LOCATION:Luv 2 Dance\, Mississauga\,\, ON\, Canada
END:VEVENT
BEGIN:VEVENT
DTSTART;VALUE=DATE:20250327
DTEND;VALUE=DATE:20250331
DTSTAMP:20260423T054558
CREATED:20240830T033054Z
LAST-MODIFIED:20240830T033054Z
UID:8874-1743033600-1743379199@ontariodance.com
SUMMARY:Shine Dance Competitions - Chatham
DESCRIPTION:
URL:https://ontariodance.com/event/shine-dance-competitions-chatham/
LOCATION:Shine Dance Competitions\, Thornhill\, ON\, Canada
END:VEVENT
BEGIN:VEVENT
DTSTART;VALUE=DATE:20250327
DTEND;VALUE=DATE:20250331
DTSTAMP:20260423T054558
CREATED:20240830T033200Z
LAST-MODIFIED:20240830T033200Z
UID:8878-1743033600-1743379199@ontariodance.com
SUMMARY:Shine Dance Competitions - Hamilton
DESCRIPTION:
URL:https://ontariodance.com/event/shine-dance-competitions-hamilton/
LOCATION:Shine Dance Competitions\, Thornhill\, ON\, Canada
ORGANIZER;CN="Shine%20Dance%20Competition":MAILTO:info@shinedance.com
END:VEVENT
BEGIN:VEVENT
DTSTART;VALUE=DATE:20250327
DTEND;VALUE=DATE:20250331
DTSTAMP:20260423T054558
CREATED:20240902T082324Z
LAST-MODIFIED:20240902T082324Z
UID:9020-1743033600-1743379199@ontariodance.com
SUMMARY:SHOCK Dance Challenge - St. Catharines 1
DESCRIPTION:
URL:https://ontariodance.com/event/shock-dance-challenge-st-catharines-1-3/
LOCATION:SHOCK Dance Challenge\, Caledon\, ON\, Canada
END:VEVENT
BEGIN:VEVENT
DTSTART;VALUE=DATE:20250327
DTEND;VALUE=DATE:20250331
DTSTAMP:20260423T054558
CREATED:20240904T074642Z
LAST-MODIFIED:20240904T074642Z
UID:9064-1743033600-1743379199@ontariodance.com
SUMMARY:Star Beat Dance Champions - Richmond Hill
DESCRIPTION:
URL:https://ontariodance.com/event/star-beat-dance-champions-richmond-hill/
LOCATION:Star Beat Dance Champions\, Hamilton\, ON\, Canada
END:VEVENT
BEGIN:VEVENT
DTSTART;VALUE=DATE:20250327
DTEND;VALUE=DATE:20250331
DTSTAMP:20260423T054558
CREATED:20240905T032224Z
LAST-MODIFIED:20240905T032224Z
UID:9098-1743033600-1743379199@ontariodance.com
SUMMARY:Terpsichore Dance Celebration - Niagara #1
DESCRIPTION:
URL:https://ontariodance.com/event/terpsichore-dance-celebration-niagara-1/
LOCATION:Terpsichore Dance Celebration\, Niagara Falls\, ON\, Canada
ORGANIZER;CN="Terpsichore%20Dance%20Celebration":MAILTO:info@terpsichore.ca
END:VEVENT
BEGIN:VEVENT
DTSTART;VALUE=DATE:20250327
DTEND;VALUE=DATE:20250331
DTSTAMP:20260423T054558
CREATED:20240912T031034Z
LAST-MODIFIED:20240912T031034Z
UID:9320-1743033600-1743379199@ontariodance.com
SUMMARY:KARV Dance Challenge - Hamilton
DESCRIPTION:
URL:https://ontariodance.com/event/karv-dance-challenge-hamilton-3/
LOCATION:KARV Dance Challenge\, Thornton\, ON\, Canada
END:VEVENT
BEGIN:VEVENT
DTSTART;VALUE=DATE:20250327
DTEND;VALUE=DATE:20250331
DTSTAMP:20260423T054558
CREATED:20240913T030254Z
LAST-MODIFIED:20240913T030254Z
UID:9337-1743033600-1743379199@ontariodance.com
SUMMARY:Glow Dance Competition - Blue Mountain
DESCRIPTION:
URL:https://ontariodance.com/event/glow-dance-competition-blue-mountain/
LOCATION:Glow Dance Competition\, Mississauga\, ON\, Canada
END:VEVENT
BEGIN:VEVENT
DTSTART;VALUE=DATE:20250327
DTEND;VALUE=DATE:20250331
DTSTAMP:20260423T054558
CREATED:20240919T101644Z
LAST-MODIFIED:20240919T101644Z
UID:9502-1743033600-1743379199@ontariodance.com
SUMMARY:RUNWAY Dance Connection - Niagara Falls
DESCRIPTION:
URL:https://ontariodance.com/event/runway-dance-connection-niagara-falls/
LOCATION:RUNWAY Dance Connection\, Richmond Hill\, ON\, Canada
END:VEVENT
END:VCALENDAR