BEGIN:VCALENDAR
VERSION:2.0
PRODID:-//OntarioDance.com - ECPv6.1.2.2//NONSGML v1.0//EN
CALSCALE:GREGORIAN
METHOD:PUBLISH
X-WR-CALNAME:OntarioDance.com
X-ORIGINAL-URL:https://ontariodance.com
X-WR-CALDESC:Events for OntarioDance.com
REFRESH-INTERVAL;VALUE=DURATION:PT1H
X-Robots-Tag:noindex
X-PUBLISHED-TTL:PT1H
BEGIN:VTIMEZONE
TZID:America/Toronto
BEGIN:DAYLIGHT
TZOFFSETFROM:-0500
TZOFFSETTO:-0400
TZNAME:EDT
DTSTART:20260308T070000
END:DAYLIGHT
BEGIN:STANDARD
TZOFFSETFROM:-0400
TZOFFSETTO:-0500
TZNAME:EST
DTSTART:20261101T060000
END:STANDARD
BEGIN:DAYLIGHT
TZOFFSETFROM:-0500
TZOFFSETTO:-0400
TZNAME:EDT
DTSTART:20270314T070000
END:DAYLIGHT
BEGIN:STANDARD
TZOFFSETFROM:-0400
TZOFFSETTO:-0500
TZNAME:EST
DTSTART:20271107T060000
END:STANDARD
END:VTIMEZONE
BEGIN:VEVENT
DTSTART;VALUE=DATE:20260326
DTEND;VALUE=DATE:20270330
DTSTAMP:20260421T085013
CREATED:20251001T074015Z
LAST-MODIFIED:20251001T074015Z
UID:13978-1774483200-1806364799@ontariodance.com
SUMMARY:Shine Dance Competitions - Niagara
DESCRIPTION:
URL:https://ontariodance.com/event/shine-dance-competitions-niagara-2/
LOCATION:Shine Dance Competitions\, Thornhill\, ON\, Canada
END:VEVENT
BEGIN:VEVENT
DTSTART;VALUE=DATE:20260417
DTEND;VALUE=DATE:20270420
DTSTAMP:20260421T085013
CREATED:20250611T134759Z
LAST-MODIFIED:20250611T135749Z
UID:12433-1776384000-1808179199@ontariodance.com
SUMMARY:RUNWAY Dance Connection - Waterloo
DESCRIPTION:Inspire all dancers to be their best\, have fun and make lasting friendships in a creative\, family friendly environment. \n‍Passion. Encouragement. Confidence. \n‍Join our RUNWAY Dance Family and ‘Reach New Heights’
URL:https://ontariodance.com/event/runway-dance-connection-waterloo-2/
LOCATION:RUNWAY Dance Connection\, Richmond Hill\, ON\, Canada
END:VEVENT
BEGIN:VEVENT
DTSTART;VALUE=DATE:20260422
DTEND;VALUE=DATE:20270426
DTSTAMP:20260421T085013
CREATED:20260403T165412Z
LAST-MODIFIED:20260403T165412Z
UID:15728-1776816000-1808697599@ontariodance.com
SUMMARY:Bedazzled Dance Champions - Burlington
DESCRIPTION:
URL:https://ontariodance.com/event/bedazzled-dance-champions-burlington-2/
LOCATION:Burlington
ORGANIZER;CN="Bedazzled%20Dance":MAILTO:bedazzled@bellnet.ca
END:VEVENT
BEGIN:VEVENT
DTSTART;VALUE=DATE:20260522
DTEND;VALUE=DATE:20270526
DTSTAMP:20260421T085013
CREATED:20240806T093056Z
LAST-MODIFIED:20250612T112207Z
UID:8279-1779408000-1811289599@ontariodance.com
SUMMARY:Breaking Bounds Dance - Alliston
DESCRIPTION:Annie Wood’s immense pride and excitement are evident as she brings forth this competition\, offering the dance community an exceptional platform to celebrate dance education’s progress. Breaking Bounds Dance Challenge is Annie’s dream come true\, fueled by her unwavering passion for dance and the entire community involved in studio and competition dance life. Annie’s remarkable devotion to care and excellence in the dance industry sets her apart\, evident in all of her produced events. \nThank you for taking part in our event and sharing your love for dance with us!
URL:https://ontariodance.com/event/breaking-bounds-dance-alliston/
LOCATION:Nottawasaga Inn Resort & Conference Centre\, 6015 Highway 89\, Alliston\, ON\, L9R 1A4\, Canada
ORGANIZER;CN="Breaking%20Bounds%20Dance":MAILTO:info@breakingboundsdance.com
END:VEVENT
BEGIN:VEVENT
DTSTART;VALUE=DATE:20260528
DTEND;VALUE=DATE:20260601
DTSTAMP:20260421T085013
CREATED:20250605T145515Z
LAST-MODIFIED:20250605T145515Z
UID:11910-1779926400-1780271999@ontariodance.com
SUMMARY:View Dance Challenge - London
DESCRIPTION:VIEW Dance Challenge is Canada’s top dance competition\, which is celebrating its 10th year of production. VIEW’s primary objective has always been to provide an exceptional dance experience that stands out from the rest\, by offering a platform for young and aspiring dancers to celebrate their passion for dance. VIEW has become a community and a second home for dancers from around the world. Over the past decade\, VIEW has evolved and grown through innovative and creative approaches. \nVIEW is an internationally recognized dance competition\, known for its professionalism\, uniqueness\, and reputation. It currently operates in nine Canadian provinces and three different countries\, with plans to expand even further. The VIEW family has also grown significantly\, which is evident in the exceptional roster of event directors\, staff\, and adjudicators who all share a common goal of dedicating their skills to the art of dance.
URL:https://ontariodance.com/event/view-dance-challenge-london-4/
LOCATION:RBC Place London\, RBC Place London 300 York Street\, London\, ON\, N6B 1P8\, Canada
ORGANIZER;CN="View%20Dance%20Challenge":MAILTO:info@viewdancechallenge.com
END:VEVENT
BEGIN:VEVENT
DTSTART;VALUE=DATE:20260528
DTEND;VALUE=DATE:20260601
DTSTAMP:20260421T085013
CREATED:20250605T165955Z
LAST-MODIFIED:20250605T165955Z
UID:11960-1779926400-1780271999@ontariodance.com
SUMMARY:Breaking Bounds Dance - Niagara Falls
DESCRIPTION:Annie Wood’s immense pride and excitement are evident as she brings forth this competition\, offering the dance community an exceptional platform to celebrate dance education’s progress. Breaking Bounds Dance Challenge is Annie’s dream come true\, fueled by her unwavering passion for dance and the entire community involved in studio and competition dance life. Annie’s remarkable devotion to care and excellence in the dance industry sets her apart\, evident in all of her produced events. \nThank you for taking part in our event and sharing your love for dance with us!
URL:https://ontariodance.com/event/breaking-bounds-dance-niagara-falls-4/
LOCATION:The Americana Conference Resort and Spa\, 8444 Lundy's Lane\, Niagara Falls\, ON\, L2H 1H4\, Canada
ORGANIZER;CN="Breaking%20Bounds%20Dance":MAILTO:info@breakingboundsdance.com
END:VEVENT
BEGIN:VEVENT
DTSTART;VALUE=DATE:20260528
DTEND;VALUE=DATE:20260601
DTSTAMP:20260421T085013
CREATED:20250609T151802Z
LAST-MODIFIED:20250609T151802Z
UID:12174-1779926400-1780271999@ontariodance.com
SUMMARY:Star Beat Dance Champions -  Niagara Falls 3
DESCRIPTION:
URL:https://ontariodance.com/event/star-beat-dance-champions-niagara-falls-3-2/
END:VEVENT
BEGIN:VEVENT
DTSTART;VALUE=DATE:20260528
DTEND;VALUE=DATE:20260601
DTSTAMP:20260421T085013
CREATED:20250611T121733Z
LAST-MODIFIED:20250611T121733Z
UID:12367-1779926400-1780271999@ontariodance.com
SUMMARY:Inspire Dance Challenge - Collingwood
DESCRIPTION:Inspire us with your work\, your artistry & your attitude. Be grateful for the opportunity of being here. You are amongst the 1% of society that will likely go on to do great things beyond the stage because in part of your experiences on the stage. Enjoy the stage dancers!
URL:https://ontariodance.com/event/inspire-dance-challenge-collingwood-3/
LOCATION:Inspire Dance Challenge\, Cambridge\, ON\, Canada
END:VEVENT
BEGIN:VEVENT
DTSTART;VALUE=DATE:20260528
DTEND;VALUE=DATE:20260601
DTSTAMP:20260421T085013
CREATED:20251001T082249Z
LAST-MODIFIED:20251001T082249Z
UID:14016-1779926400-1780271999@ontariodance.com
SUMMARY:View Dance Challenge - London
DESCRIPTION:
URL:https://ontariodance.com/event/view-dance-challenge-london-5/
LOCATION:View Dance Challenge\, ON\, Canada
ORGANIZER;CN="View%20Dance%20Challenge":MAILTO:info@viewdancechallenge.com
END:VEVENT
BEGIN:VEVENT
DTSTART;VALUE=DATE:20260528
DTEND;VALUE=DATE:20260601
DTSTAMP:20260421T085013
CREATED:20251002T072921Z
LAST-MODIFIED:20251002T072921Z
UID:14203-1779926400-1780271999@ontariodance.com
SUMMARY:Inspire Dance Challenge - Collingwood
DESCRIPTION:
URL:https://ontariodance.com/event/inspire-dance-challenge-collingwood-4/
LOCATION:Inspire Dance Challenge\, Cambridge\, ON\, Canada
END:VEVENT
BEGIN:VEVENT
DTSTART;VALUE=DATE:20260528
DTEND;VALUE=DATE:20260601
DTSTAMP:20260421T085013
CREATED:20251002T095605Z
LAST-MODIFIED:20251002T095605Z
UID:14274-1779926400-1780271999@ontariodance.com
SUMMARY:Star Beat Dance Champions - Niagara Falls #3
DESCRIPTION:
URL:https://ontariodance.com/event/star-beat-dance-champions-niagara-falls-3-3/
LOCATION:Star Beat Dance Champions\, Hamilton\, ON\, Canada
ORGANIZER;CN="Star%20Beat%20Dance%20Champions":MAILTO:contact@starbeatdance.com
END:VEVENT
BEGIN:VEVENT
DTSTART;VALUE=DATE:20260529
DTEND;VALUE=DATE:20260601
DTSTAMP:20260421T085013
CREATED:20250611T130250Z
LAST-MODIFIED:20250611T130250Z
UID:12398-1780012800-1780271999@ontariodance.com
SUMMARY:Shine Dance Competitions - London
DESCRIPTION:As we look ahead to our next season\, we are extending a heartfelt invitation to you and your talented dancers to join Shine Dance Competitions. \nWe understand the significance of selecting the perfect competition for your studio families and take the responsibility of hosting an event they will want to return to\, year-after-year\, very seriously.
URL:https://ontariodance.com/event/shine-dance-competitions-london-2/
LOCATION:Shine Dance Competitions\, Thornhill\, ON\, Canada
END:VEVENT
BEGIN:VEVENT
DTSTART;VALUE=DATE:20260529
DTEND;VALUE=DATE:20260601
DTSTAMP:20260421T085013
CREATED:20251001T075219Z
LAST-MODIFIED:20251001T075219Z
UID:13996-1780012800-1780271999@ontariodance.com
SUMMARY:Shine Dance Competitions - London
DESCRIPTION:
URL:https://ontariodance.com/event/shine-dance-competitions-london-3/
LOCATION:Shine Dance Competitions\, Thornhill\, ON\, Canada
END:VEVENT
END:VCALENDAR