BEGIN:VCALENDAR
VERSION:2.0
PRODID:-//OntarioDance.com - ECPv6.1.2.2//NONSGML v1.0//EN
CALSCALE:GREGORIAN
METHOD:PUBLISH
X-ORIGINAL-URL:https://ontariodance.com
X-WR-CALDESC:Events for OntarioDance.com
REFRESH-INTERVAL;VALUE=DURATION:PT1H
X-Robots-Tag:noindex
X-PUBLISHED-TTL:PT1H
BEGIN:VTIMEZONE
TZID:America/Toronto
BEGIN:DAYLIGHT
TZOFFSETFROM:-0500
TZOFFSETTO:-0400
TZNAME:EDT
DTSTART:20260308T070000
END:DAYLIGHT
BEGIN:STANDARD
TZOFFSETFROM:-0400
TZOFFSETTO:-0500
TZNAME:EST
DTSTART:20261101T060000
END:STANDARD
BEGIN:DAYLIGHT
TZOFFSETFROM:-0500
TZOFFSETTO:-0400
TZNAME:EDT
DTSTART:20270314T070000
END:DAYLIGHT
BEGIN:STANDARD
TZOFFSETFROM:-0400
TZOFFSETTO:-0500
TZNAME:EST
DTSTART:20271107T060000
END:STANDARD
END:VTIMEZONE
BEGIN:VEVENT
DTSTART;VALUE=DATE:20260326
DTEND;VALUE=DATE:20270330
DTSTAMP:20260421T105934
CREATED:20251001T074015Z
LAST-MODIFIED:20251001T074015Z
UID:13978-1774483200-1806364799@ontariodance.com
SUMMARY:Shine Dance Competitions - Niagara
DESCRIPTION:
URL:https://ontariodance.com/event/shine-dance-competitions-niagara-2/
LOCATION:Shine Dance Competitions\, Thornhill\, ON\, Canada
END:VEVENT
BEGIN:VEVENT
DTSTART;VALUE=DATE:20260417
DTEND;VALUE=DATE:20270420
DTSTAMP:20260421T105934
CREATED:20250611T134759Z
LAST-MODIFIED:20250611T135749Z
UID:12433-1776384000-1808179199@ontariodance.com
SUMMARY:RUNWAY Dance Connection - Waterloo
DESCRIPTION:Inspire all dancers to be their best\, have fun and make lasting friendships in a creative\, family friendly environment. \n‍Passion. Encouragement. Confidence. \n‍Join our RUNWAY Dance Family and ‘Reach New Heights’
URL:https://ontariodance.com/event/runway-dance-connection-waterloo-2/
LOCATION:RUNWAY Dance Connection\, Richmond Hill\, ON\, Canada
END:VEVENT
BEGIN:VEVENT
DTSTART;VALUE=DATE:20260422
DTEND;VALUE=DATE:20270426
DTSTAMP:20260421T105934
CREATED:20260403T165412Z
LAST-MODIFIED:20260403T165412Z
UID:15728-1776816000-1808697599@ontariodance.com
SUMMARY:Bedazzled Dance Champions - Burlington
DESCRIPTION:
URL:https://ontariodance.com/event/bedazzled-dance-champions-burlington-2/
LOCATION:Burlington
ORGANIZER;CN="Bedazzled%20Dance":MAILTO:bedazzled@bellnet.ca
END:VEVENT
BEGIN:VEVENT
DTSTART;VALUE=DATE:20260522
DTEND;VALUE=DATE:20270526
DTSTAMP:20260421T105934
CREATED:20240806T093056Z
LAST-MODIFIED:20250612T112207Z
UID:8279-1779408000-1811289599@ontariodance.com
SUMMARY:Breaking Bounds Dance - Alliston
DESCRIPTION:Annie Wood’s immense pride and excitement are evident as she brings forth this competition\, offering the dance community an exceptional platform to celebrate dance education’s progress. Breaking Bounds Dance Challenge is Annie’s dream come true\, fueled by her unwavering passion for dance and the entire community involved in studio and competition dance life. Annie’s remarkable devotion to care and excellence in the dance industry sets her apart\, evident in all of her produced events. \nThank you for taking part in our event and sharing your love for dance with us!
URL:https://ontariodance.com/event/breaking-bounds-dance-alliston/
LOCATION:Nottawasaga Inn Resort & Conference Centre\, 6015 Highway 89\, Alliston\, ON\, L9R 1A4\, Canada
ORGANIZER;CN="Breaking%20Bounds%20Dance":MAILTO:info@breakingboundsdance.com
END:VEVENT
BEGIN:VEVENT
DTSTART;VALUE=DATE:20270225
DTEND;VALUE=DATE:20270301
DTSTAMP:20260421T105934
CREATED:20260414T180849Z
LAST-MODIFIED:20260414T180849Z
UID:16051-1803513600-1803859199@ontariodance.com
SUMMARY:SHOCK Dance Challenge - Niagara
DESCRIPTION:
URL:https://ontariodance.com/event/shock-dance-challenge-niagara/
LOCATION:Central Community Centre\, 680 York Road\, Niagara-on-the-Lake\, ON\, L0S 1J0\, Canada
END:VEVENT
BEGIN:VEVENT
DTSTART;VALUE=DATE:20270225
DTEND;VALUE=DATE:20270301
DTSTAMP:20260421T105934
CREATED:20260414T185431Z
LAST-MODIFIED:20260414T185431Z
UID:16087-1803513600-1803859199@ontariodance.com
SUMMARY:Star Beat Dance Champions - Toronto 2
DESCRIPTION:
URL:https://ontariodance.com/event/star-beat-dance-champions-toronto-2-2/
END:VEVENT
BEGIN:VEVENT
DTSTART;VALUE=DATE:20270226
DTEND;VALUE=DATE:20270301
DTSTAMP:20260421T105934
CREATED:20260403T155125Z
LAST-MODIFIED:20260403T155125Z
UID:15690-1803600000-1803859199@ontariodance.com
SUMMARY:Rhythm Revolution Dance Competition - Brantford 1
DESCRIPTION:We are honoured to announce that we will be continuing the legacy of Rhythm Dance\, where dance was always done right! \nWith Donna and Nancy’s blessing\, we can’t wait to infuse new energy into a dance competition that so many of us hold dear to our hearts. \n​It’s time to awaken the rhythm within and join the \nRHYTHM REVOLUTION \nIt promises to be a game-changer & we can’t wait for you to be a part of it.
URL:https://ontariodance.com/event/rhythm-revolution-dance-competition-brantford-1/
LOCATION:Sanderson Centre\, 88 Dalhousie Street\, Brantford\, ON\, N3T 2J2\, Canada
END:VEVENT
BEGIN:VEVENT
DTSTART;VALUE=DATE:20270226
DTEND;VALUE=DATE:20270301
DTSTAMP:20260421T105934
CREATED:20260407T103940Z
LAST-MODIFIED:20260407T103940Z
UID:15832-1803600000-1803859199@ontariodance.com
SUMMARY:LNK by Dancefest Canada - Hamilton
DESCRIPTION:
URL:https://ontariodance.com/event/lnk-by-dancefest-canada-hamilton-3/
LOCATION:LNK by Dancefest Canada\, Barrie\, ON\, Canada
END:VEVENT
BEGIN:VEVENT
DTSTART;VALUE=DATE:20270226
DTEND;VALUE=DATE:20270301
DTSTAMP:20260421T105934
CREATED:20260407T105948Z
LAST-MODIFIED:20260407T105948Z
UID:15862-1803600000-1803859199@ontariodance.com
SUMMARY:Elevation Dance Challenge - Port Perry
DESCRIPTION:At Elevation Dance Challenge\, we believe dance competitions are about more than winning trophies. We are committed to providing an event that leaves everyone feeling acknowledged\, recognized\, and appreciated. Our competitions inspire dancers of all levels to reach for their dreams\, offering a platform where their hard work and dedication can truly shine.
URL:https://ontariodance.com/event/elevation-dance-challenge-port-perry/
LOCATION:Elevation Dance Challenge\, Milton\, ON\, Canada
ORGANIZER;CN="Elevation%20Dance%20Challenge":MAILTO:info@elevationdancechallenge.ca
END:VEVENT
END:VCALENDAR