BEGIN:VCALENDAR
VERSION:2.0
PRODID:-//OntarioDance.com - ECPv6.1.2.2//NONSGML v1.0//EN
CALSCALE:GREGORIAN
METHOD:PUBLISH
X-WR-CALNAME:OntarioDance.com
X-ORIGINAL-URL:https://ontariodance.com
X-WR-CALDESC:Events for OntarioDance.com
REFRESH-INTERVAL;VALUE=DURATION:PT1H
X-Robots-Tag:noindex
X-PUBLISHED-TTL:PT1H
BEGIN:VTIMEZONE
TZID:America/Toronto
BEGIN:DAYLIGHT
TZOFFSETFROM:-0500
TZOFFSETTO:-0400
TZNAME:EDT
DTSTART:20260308T070000
END:DAYLIGHT
BEGIN:STANDARD
TZOFFSETFROM:-0400
TZOFFSETTO:-0500
TZNAME:EST
DTSTART:20261101T060000
END:STANDARD
BEGIN:DAYLIGHT
TZOFFSETFROM:-0500
TZOFFSETTO:-0400
TZNAME:EDT
DTSTART:20270314T070000
END:DAYLIGHT
BEGIN:STANDARD
TZOFFSETFROM:-0400
TZOFFSETTO:-0500
TZNAME:EST
DTSTART:20271107T060000
END:STANDARD
END:VTIMEZONE
BEGIN:VEVENT
DTSTART;VALUE=DATE:20260422
DTEND;VALUE=DATE:20270426
DTSTAMP:20260421T140019
CREATED:20260403T165412Z
LAST-MODIFIED:20260403T165412Z
UID:15728-1776816000-1808697599@ontariodance.com
SUMMARY:Bedazzled Dance Champions - Burlington
DESCRIPTION:
URL:https://ontariodance.com/event/bedazzled-dance-champions-burlington-2/
LOCATION:Burlington
ORGANIZER;CN="Bedazzled%20Dance":MAILTO:bedazzled@bellnet.ca
END:VEVENT
BEGIN:VEVENT
DTSTART;VALUE=DATE:20260522
DTEND;VALUE=DATE:20270526
DTSTAMP:20260421T140019
CREATED:20240806T093056Z
LAST-MODIFIED:20250612T112207Z
UID:8279-1779408000-1811289599@ontariodance.com
SUMMARY:Breaking Bounds Dance - Alliston
DESCRIPTION:Annie Wood’s immense pride and excitement are evident as she brings forth this competition\, offering the dance community an exceptional platform to celebrate dance education’s progress. Breaking Bounds Dance Challenge is Annie’s dream come true\, fueled by her unwavering passion for dance and the entire community involved in studio and competition dance life. Annie’s remarkable devotion to care and excellence in the dance industry sets her apart\, evident in all of her produced events. \nThank you for taking part in our event and sharing your love for dance with us!
URL:https://ontariodance.com/event/breaking-bounds-dance-alliston/
LOCATION:Nottawasaga Inn Resort & Conference Centre\, 6015 Highway 89\, Alliston\, ON\, L9R 1A4\, Canada
ORGANIZER;CN="Breaking%20Bounds%20Dance":MAILTO:info@breakingboundsdance.com
END:VEVENT
BEGIN:VEVENT
DTSTART;VALUE=DATE:20270421
DTEND;VALUE=DATE:20270424
DTSTAMP:20260421T140019
CREATED:20260403T151229Z
LAST-MODIFIED:20260403T151229Z
UID:15685-1808265600-1808524799@ontariodance.com
SUMMARY:Dance Attack Competition - Mississauga 2
DESCRIPTION:DANCE ATTACK Workshops is built around helping students\, parents and studios learn from the best and have fun! The days of traveling all around Canada and USA and enormous bills at the end of weekend are gone! \nDANCE ATTACK comes to your city and your studio.  I see first hand the challenges for families as students want to see the familiar names and learn from the best. With rising travel expenses\, accommodation and food costs\, our goal is to provide the same experience you will get from a big city workshop for half the cost and be within driving distance.
URL:https://ontariodance.com/event/dance-attack-competition-mississauga-2-2/
LOCATION:Hilton Mississauga/Meadowvale\, 6750 Mississauga Road\, Mississauga\, ON\, L5N 2L3\, Canada
ORGANIZER;CN="Dance%20Attack":MAILTO:kent@dance-attack.com
END:VEVENT
BEGIN:VEVENT
DTSTART;VALUE=DATE:20270421
DTEND;VALUE=DATE:20270426
DTSTAMP:20260421T140019
CREATED:20260414T182817Z
LAST-MODIFIED:20260414T182817Z
UID:16070-1808265600-1808697599@ontariodance.com
SUMMARY:SHOCK Dance Challenge - Halifax 1
DESCRIPTION:
URL:https://ontariodance.com/event/shock-dance-challenge-halifax-1-2/
LOCATION:Bella Rose Arts Centre\, 283 Thomas Raddall Dr\, Halifax\, ON\, NS B3S 1R1\, Canada
END:VEVENT
END:VCALENDAR