BEGIN:VCALENDAR
VERSION:2.0
PRODID:-//OntarioDance.com - ECPv6.1.2.2//NONSGML v1.0//EN
CALSCALE:GREGORIAN
METHOD:PUBLISH
X-WR-CALNAME:OntarioDance.com
X-ORIGINAL-URL:https://ontariodance.com
X-WR-CALDESC:Events for OntarioDance.com
REFRESH-INTERVAL;VALUE=DURATION:PT1H
X-Robots-Tag:noindex
X-PUBLISHED-TTL:PT1H
BEGIN:VTIMEZONE
TZID:America/Toronto
BEGIN:DAYLIGHT
TZOFFSETFROM:-0500
TZOFFSETTO:-0400
TZNAME:EDT
DTSTART:20260308T070000
END:DAYLIGHT
BEGIN:STANDARD
TZOFFSETFROM:-0400
TZOFFSETTO:-0500
TZNAME:EST
DTSTART:20261101T060000
END:STANDARD
BEGIN:DAYLIGHT
TZOFFSETFROM:-0500
TZOFFSETTO:-0400
TZNAME:EDT
DTSTART:20270314T070000
END:DAYLIGHT
BEGIN:STANDARD
TZOFFSETFROM:-0400
TZOFFSETTO:-0500
TZNAME:EST
DTSTART:20271107T060000
END:STANDARD
END:VTIMEZONE
BEGIN:VEVENT
DTSTART;VALUE=DATE:20260422
DTEND;VALUE=DATE:20270426
DTSTAMP:20260421T140041
CREATED:20260403T165412Z
LAST-MODIFIED:20260403T165412Z
UID:15728-1776816000-1808697599@ontariodance.com
SUMMARY:Bedazzled Dance Champions - Burlington
DESCRIPTION:
URL:https://ontariodance.com/event/bedazzled-dance-champions-burlington-2/
LOCATION:Burlington
ORGANIZER;CN="Bedazzled%20Dance":MAILTO:bedazzled@bellnet.ca
END:VEVENT
BEGIN:VEVENT
DTSTART;VALUE=DATE:20260522
DTEND;VALUE=DATE:20270526
DTSTAMP:20260421T140041
CREATED:20240806T093056Z
LAST-MODIFIED:20250612T112207Z
UID:8279-1779408000-1811289599@ontariodance.com
SUMMARY:Breaking Bounds Dance - Alliston
DESCRIPTION:Annie Wood’s immense pride and excitement are evident as she brings forth this competition\, offering the dance community an exceptional platform to celebrate dance education’s progress. Breaking Bounds Dance Challenge is Annie’s dream come true\, fueled by her unwavering passion for dance and the entire community involved in studio and competition dance life. Annie’s remarkable devotion to care and excellence in the dance industry sets her apart\, evident in all of her produced events. \nThank you for taking part in our event and sharing your love for dance with us!
URL:https://ontariodance.com/event/breaking-bounds-dance-alliston/
LOCATION:Nottawasaga Inn Resort & Conference Centre\, 6015 Highway 89\, Alliston\, ON\, L9R 1A4\, Canada
ORGANIZER;CN="Breaking%20Bounds%20Dance":MAILTO:info@breakingboundsdance.com
END:VEVENT
BEGIN:VEVENT
DTSTART;VALUE=DATE:20270421
DTEND;VALUE=DATE:20270426
DTSTAMP:20260421T140041
CREATED:20260414T182817Z
LAST-MODIFIED:20260414T182817Z
UID:16070-1808265600-1808697599@ontariodance.com
SUMMARY:SHOCK Dance Challenge - Halifax 1
DESCRIPTION:
URL:https://ontariodance.com/event/shock-dance-challenge-halifax-1-2/
LOCATION:Bella Rose Arts Centre\, 283 Thomas Raddall Dr\, Halifax\, ON\, NS B3S 1R1\, Canada
END:VEVENT
BEGIN:VEVENT
DTSTART;VALUE=DATE:20270422
DTEND;VALUE=DATE:20270426
DTSTAMP:20260421T140041
CREATED:20260403T145837Z
LAST-MODIFIED:20260403T145837Z
UID:15675-1808352000-1808697599@ontariodance.com
SUMMARY:Dance Attack Competition - St Catharines 3
DESCRIPTION:DANCE ATTACK Workshops is built around helping students\, parents and studios learn from the best and have fun! The days of traveling all around Canada and USA and enormous bills at the end of weekend are gone! \nDANCE ATTACK comes to your city and your studio.  I see first hand the challenges for families as students want to see the familiar names and learn from the best. With rising travel expenses\, accommodation and food costs\, our goal is to provide the same experience you will get from a big city workshop for half the cost and be within driving distance.
URL:https://ontariodance.com/event/dance-attack-competition-st-catharines-3/
LOCATION:Holiday Inn & Suites St. Catharines\, 327 Ontario Street\, St. Catharines\, ON\, L2R 5L3\, Canada
ORGANIZER;CN="Dance%20Attack":MAILTO:kent@dance-attack.com
END:VEVENT
BEGIN:VEVENT
DTSTART;VALUE=DATE:20270422
DTEND;VALUE=DATE:20270426
DTSTAMP:20260421T140041
CREATED:20260403T171906Z
LAST-MODIFIED:20260403T171906Z
UID:15750-1808352000-1808697599@ontariodance.com
SUMMARY:The Knockout Dance Challenge - Gatineau
DESCRIPTION:At The Knockout Dance Challenge\, dancers and studios have the opportunity to demonstrate their immense talents and\, along the way\, win awards and cash scholarships in multiple dance categories\nand age divisions. And\, of course\, don’t forget that special TKO punch that makes The Knockout Dance Challenge so unique and will bring audiences to their fee
URL:https://ontariodance.com/event/the-knockout-dance-challenge-gatineau-3/
LOCATION:Gatineau
END:VEVENT
BEGIN:VEVENT
DTSTART;VALUE=DATE:20270422
DTEND;VALUE=DATE:20270426
DTSTAMP:20260421T140041
CREATED:20260407T102603Z
LAST-MODIFIED:20260407T102603Z
UID:15812-1808352000-1808697599@ontariodance.com
SUMMARY:Bedazzled Dance Champions - Burlington
DESCRIPTION:Our main focus is to provide a fun\, safe\, positive and inclusive atmosphere for all our dancers\, studios and families.
URL:https://ontariodance.com/event/bedazzled-dance-champions-burlington-3/
LOCATION:Bedazzled Dance Champions\, ON\, Canada
END:VEVENT
BEGIN:VEVENT
DTSTART;VALUE=DATE:20270422
DTEND;VALUE=DATE:20270426
DTSTAMP:20260421T140041
CREATED:20260407T103407Z
LAST-MODIFIED:20260407T103407Z
UID:15825-1808352000-1808697599@ontariodance.com
SUMMARY:International Fever Dance Championships - Burlington 2
DESCRIPTION:Fever International Dance Championships is a competitive dance experience that prides itself on supporting the integrity and growth of studio developed dance. Moreover\, introducing its player’s to industry professionals placed primarily to focus on fostering talent.
URL:https://ontariodance.com/event/international-fever-dance-championships-burlington-2-2/
LOCATION:International Fever Dance Championships\, Ottawa\, Canada
END:VEVENT
BEGIN:VEVENT
DTSTART;VALUE=DATE:20270422
DTEND;VALUE=DATE:20270426
DTSTAMP:20260421T140041
CREATED:20260407T105156Z
LAST-MODIFIED:20260407T105156Z
UID:15850-1808352000-1808697599@ontariodance.com
SUMMARY:Dance Attack Competition - St. Catharines 3
DESCRIPTION:DANCE ATTACK has been providing world class workshops since 2008\, bringing some of the biggest dance industry names\, while providing top notch entertainment. In 2015\,  DANCE ATTACK expanded to offer the TORONTO DANCE TEACHER EXPO in which 600+ studio directors and teachers all across Canada come together for an exciting and uplifting three days of instruction. We then expanded in 2016 to offer THE CALGARY DANCE TEACHER EXPO which it provided the same aspects as its sister Expo in Toronto!
URL:https://ontariodance.com/event/dance-attack-competition-st-catharines-3-2/
LOCATION:Dance Attack Competition\, Ontario\, Canada
END:VEVENT
BEGIN:VEVENT
DTSTART;VALUE=DATE:20270422
DTEND;VALUE=DATE:20270426
DTSTAMP:20260421T140041
CREATED:20260409T095731Z
LAST-MODIFIED:20260409T095731Z
UID:15911-1808352000-1808697599@ontariodance.com
SUMMARY:MOVE The Ultimate Dance Competition - Niagara Falls
DESCRIPTION:At MOVE\, we create a positive\, supportive environment within a competitive setting. With over 17 years in the competition industry\, we bring professionalism\, experience\, and genuine care to every city we visit.
URL:https://ontariodance.com/event/move-the-ultimate-dance-competition-niagara-falls-2/
LOCATION:MOVE The Ultimate Dance Competition\, Toronto\, ON\, Canada
END:VEVENT
BEGIN:VEVENT
DTSTART;VALUE=DATE:20270422
DTEND;VALUE=DATE:20270426
DTSTAMP:20260421T140041
CREATED:20260414T172345Z
LAST-MODIFIED:20260414T172345Z
UID:16020-1808352000-1808697599@ontariodance.com
SUMMARY:Shine Dance Competitions - Gatineau 2
DESCRIPTION:
URL:https://ontariodance.com/event/shine-dance-competitions-gatineau-2/
LOCATION:Canadian Museum of History\, 100 Laurier Street\, Gatineau\, QC\, K1A 0M8\, Canada
ORGANIZER;CN="Shine%20Dance%20Competition":MAILTO:info@shinedance.com
END:VEVENT
BEGIN:VEVENT
DTSTART;VALUE=DATE:20270422
DTEND;VALUE=DATE:20270426
DTSTAMP:20260421T140041
CREATED:20260414T173235Z
LAST-MODIFIED:20260414T173235Z
UID:16028-1808352000-1808697599@ontariodance.com
SUMMARY:Shine Dance Competitions - Cobourg 2
DESCRIPTION:
URL:https://ontariodance.com/event/shine-dance-competitions-cobourg-2-2/
LOCATION:Cobourg Community Centre\, 750 D'Arcy Street\, Cobourg\, ON\, K9A 0G1\, Canada
ORGANIZER;CN="Shine%20Dance%20Competition":MAILTO:info@shinedance.com
END:VEVENT
BEGIN:VEVENT
DTSTART;VALUE=DATE:20270422
DTEND;VALUE=DATE:20270426
DTSTAMP:20260421T140041
CREATED:20260415T132752Z
LAST-MODIFIED:20260415T132752Z
UID:16107-1808352000-1808697599@ontariodance.com
SUMMARY:Star Beat Dance Champions - Richmond Hill 2
DESCRIPTION:
URL:https://ontariodance.com/event/star-beat-dance-champions-richmond-hill-2-2/
END:VEVENT
BEGIN:VEVENT
DTSTART;VALUE=DATE:20270422
DTEND;VALUE=DATE:20270426
DTSTAMP:20260421T140041
CREATED:20260415T135413Z
LAST-MODIFIED:20260415T135413Z
UID:16121-1808352000-1808697599@ontariodance.com
SUMMARY:The Ultimate Dance Connection - Toronto
DESCRIPTION:
URL:https://ontariodance.com/event/the-ultimate-dance-connection-toronto-6/
LOCATION:York University\, 4700 Keele Street\, Toronto\, ON\, M3J 1P3\, Canada
END:VEVENT
BEGIN:VEVENT
DTSTART;VALUE=DATE:20270422
DTEND;VALUE=DATE:20270426
DTSTAMP:20260421T140041
CREATED:20260415T140639Z
LAST-MODIFIED:20260415T140639Z
UID:16127-1808352000-1808697599@ontariodance.com
SUMMARY:Glow Dance Competition - Blue Mountain 1
DESCRIPTION:We’ve been deep in preparation for an epic Nationals this summer\, but starting today\, we’re kicking off a wave of exciting announcements for our 2026 𝓡𝓮𝓰𝓲𝓸𝓷𝓪𝓵 𝓢𝓮𝓪𝓼𝓸𝓷… and trust us\, you won’t want to miss what’s coming!
URL:https://ontariodance.com/event/glow-dance-competition-blue-mountain-1-2/
END:VEVENT
BEGIN:VEVENT
DTSTART;VALUE=DATE:20270423
DTEND;VALUE=DATE:20270426
DTSTAMP:20260421T140041
CREATED:20260409T100933Z
LAST-MODIFIED:20260409T100933Z
UID:15925-1808438400-1808697599@ontariodance.com
SUMMARY:Purpose Dance Competition - London
DESCRIPTION:
URL:https://ontariodance.com/event/purpose-dance-competition-london-2/
LOCATION:MOVE The Ultimate Dance Competition\, Toronto\, ON\, Canada
END:VEVENT
BEGIN:VEVENT
DTSTART;VALUE=DATE:20270423
DTEND;VALUE=DATE:20270426
DTSTAMP:20260421T140041
CREATED:20260409T102940Z
LAST-MODIFIED:20260409T102940Z
UID:15950-1808438400-1808697599@ontariodance.com
SUMMARY:Phoenix Dance Competition - Kitchener
DESCRIPTION:Phoenix Dance Competition is designed to offer a dynamic and evolving experience for dancers\, providing an environment that promotes growth and improvement. The competition features THE PIT\, a unique element that blends competition with valuable training and feedback.
URL:https://ontariodance.com/event/phoenix-dance-competition-kitchener-4/
LOCATION:Phoenix Dance Competition\, ON\, Canada
END:VEVENT
END:VCALENDAR