BEGIN:VCALENDAR
VERSION:2.0
PRODID:-//OntarioDance.com - ECPv6.1.2.2//NONSGML v1.0//EN
CALSCALE:GREGORIAN
METHOD:PUBLISH
X-ORIGINAL-URL:https://ontariodance.com
X-WR-CALDESC:Events for OntarioDance.com
REFRESH-INTERVAL;VALUE=DURATION:PT1H
X-Robots-Tag:noindex
X-PUBLISHED-TTL:PT1H
BEGIN:VTIMEZONE
TZID:America/Toronto
BEGIN:DAYLIGHT
TZOFFSETFROM:-0500
TZOFFSETTO:-0400
TZNAME:EDT
DTSTART:20270314T070000
END:DAYLIGHT
BEGIN:STANDARD
TZOFFSETFROM:-0400
TZOFFSETTO:-0500
TZNAME:EST
DTSTART:20271107T060000
END:STANDARD
END:VTIMEZONE
BEGIN:VEVENT
DTSTART;VALUE=DATE:20270702
DTEND;VALUE=DATE:20270710
DTSTAMP:20260421T165207
CREATED:20260403T165558Z
LAST-MODIFIED:20260403T165558Z
UID:15731-1814486400-1815177599@ontariodance.com
SUMMARY:Bedazzled Dance Champions - Blue Mountain
DESCRIPTION:Finals & Pageant
URL:https://ontariodance.com/event/bedazzled-dance-champions-blue-mountain/
LOCATION:Blue Mountain
ORGANIZER;CN="Bedazzled%20Dance":MAILTO:bedazzled@bellnet.ca
END:VEVENT
END:VCALENDAR