BEGIN:VCALENDAR
VERSION:2.0
PRODID:-//OntarioDance.com - ECPv6.1.2.2//NONSGML v1.0//EN
CALSCALE:GREGORIAN
METHOD:PUBLISH
X-WR-CALNAME:OntarioDance.com
X-ORIGINAL-URL:https://ontariodance.com
X-WR-CALDESC:Events for OntarioDance.com
REFRESH-INTERVAL;VALUE=DURATION:PT1H
X-Robots-Tag:noindex
X-PUBLISHED-TTL:PT1H
BEGIN:VTIMEZONE
TZID:America/Toronto
BEGIN:DAYLIGHT
TZOFFSETFROM:-0500
TZOFFSETTO:-0400
TZNAME:EDT
DTSTART:20220313T070000
END:DAYLIGHT
BEGIN:STANDARD
TZOFFSETFROM:-0400
TZOFFSETTO:-0500
TZNAME:EST
DTSTART:20221106T060000
END:STANDARD
END:VTIMEZONE
BEGIN:VEVENT
DTSTART;VALUE=DATE:20220924
DTEND;VALUE=DATE:20220926
DTSTAMP:20260425T125227
CREATED:20230411T021313Z
LAST-MODIFIED:20230411T120753Z
UID:154-1663977600-1664150399@ontariodance.com
SUMMARY:Terpsichore Dance Celebration - Toronto 1
DESCRIPTION:Terpsichore is a place where dancers of all skill levels\, body types\, and backgrounds come together to celebrate their love of dance. We strive to foster a safe\, positive\, and inclusive space for all dancers. Our goal this convention season is to encourage\, unify and inspire young dancers nation-wide.
URL:https://ontariodance.com/event/terpsichore-canada-toronto/
LOCATION:Hilton Toronto Airport Hotel & Suites\, 5875 Airport Road\, Mississauga\, ON\, L4V 1N1\, Canada
END:VEVENT
END:VCALENDAR