BEGIN:VCALENDAR
VERSION:2.0
PRODID:-//OntarioDance.com - ECPv6.1.2.2//NONSGML v1.0//EN
CALSCALE:GREGORIAN
METHOD:PUBLISH
X-ORIGINAL-URL:https://ontariodance.com
X-WR-CALDESC:Events for OntarioDance.com
REFRESH-INTERVAL;VALUE=DURATION:PT1H
X-Robots-Tag:noindex
X-PUBLISHED-TTL:PT1H
BEGIN:VTIMEZONE
TZID:America/Toronto
BEGIN:DAYLIGHT
TZOFFSETFROM:-0500
TZOFFSETTO:-0400
TZNAME:EDT
DTSTART:20260308T070000
END:DAYLIGHT
BEGIN:STANDARD
TZOFFSETFROM:-0400
TZOFFSETTO:-0500
TZNAME:EST
DTSTART:20261101T060000
END:STANDARD
BEGIN:DAYLIGHT
TZOFFSETFROM:-0500
TZOFFSETTO:-0400
TZNAME:EDT
DTSTART:20270314T070000
END:DAYLIGHT
BEGIN:STANDARD
TZOFFSETFROM:-0400
TZOFFSETTO:-0500
TZNAME:EST
DTSTART:20271107T060000
END:STANDARD
END:VTIMEZONE
BEGIN:VEVENT
DTSTART;VALUE=DATE:20260522
DTEND;VALUE=DATE:20270526
DTSTAMP:20260421T165934
CREATED:20240806T093056Z
LAST-MODIFIED:20250612T112207Z
UID:8279-1779408000-1811289599@ontariodance.com
SUMMARY:Breaking Bounds Dance - Alliston
DESCRIPTION:Annie Wood’s immense pride and excitement are evident as she brings forth this competition\, offering the dance community an exceptional platform to celebrate dance education’s progress. Breaking Bounds Dance Challenge is Annie’s dream come true\, fueled by her unwavering passion for dance and the entire community involved in studio and competition dance life. Annie’s remarkable devotion to care and excellence in the dance industry sets her apart\, evident in all of her produced events. \nThank you for taking part in our event and sharing your love for dance with us!
URL:https://ontariodance.com/event/breaking-bounds-dance-alliston/
LOCATION:Nottawasaga Inn Resort & Conference Centre\, 6015 Highway 89\, Alliston\, ON\, L9R 1A4\, Canada
ORGANIZER;CN="Breaking%20Bounds%20Dance":MAILTO:info@breakingboundsdance.com
END:VEVENT
BEGIN:VEVENT
DTSTART;VALUE=DATE:20270506
DTEND;VALUE=DATE:20270510
DTSTAMP:20260421T165934
CREATED:20260403T165021Z
LAST-MODIFIED:20260403T165021Z
UID:15723-1809561600-1809907199@ontariodance.com
SUMMARY:Bedazzled Dance Champions - Blue Mountain 2
DESCRIPTION:
URL:https://ontariodance.com/event/bedazzled-dance-champions-blue-mountain-2-2/
LOCATION:Blue Mountain
ORGANIZER;CN="Bedazzled%20Dance":MAILTO:bedazzled@bellnet.ca
END:VEVENT
BEGIN:VEVENT
DTSTART;VALUE=DATE:20270506
DTEND;VALUE=DATE:20270510
DTSTAMP:20260421T165934
CREATED:20260403T171612Z
LAST-MODIFIED:20260403T171612Z
UID:15747-1809561600-1809907199@ontariodance.com
SUMMARY:The Knockout Dance Challenge - Kitchener 2
DESCRIPTION:At The Knockout Dance Challenge\, dancers and studios have the opportunity to demonstrate their immense talents and\, along the way\, win awards and cash scholarships in multiple dance categories\nand age divisions. And\, of course\, don’t forget that special TKO punch that makes The Knockout Dance Challenge so unique and will bring audiences to their fee
URL:https://ontariodance.com/event/the-knockout-dance-challenge-kitchener-2-4/
LOCATION:Kitchener\, Kitchener\, ON\, Canada
END:VEVENT
BEGIN:VEVENT
DTSTART;VALUE=DATE:20270506
DTEND;VALUE=DATE:20270510
DTSTAMP:20260421T165934
CREATED:20260407T102646Z
LAST-MODIFIED:20260407T102646Z
UID:15814-1809561600-1809907199@ontariodance.com
SUMMARY:Bedazzled Dance Champions - Blue Mountain 2
DESCRIPTION:Our main focus is to provide a fun\, safe\, positive and inclusive atmosphere for all our dancers\, studios and families.
URL:https://ontariodance.com/event/bedazzled-dance-champions-blue-mountain-2-3/
LOCATION:Bedazzled Dance Champions\, ON\, Canada
END:VEVENT
BEGIN:VEVENT
DTSTART;VALUE=DATE:20270506
DTEND;VALUE=DATE:20270510
DTSTAMP:20260421T165934
CREATED:20260407T103609Z
LAST-MODIFIED:20260407T103609Z
UID:15828-1809561600-1809907199@ontariodance.com
SUMMARY:International Fever Dance Championships - Hamilton
DESCRIPTION:Fever International Dance Championships is a competitive dance experience that prides itself on supporting the integrity and growth of studio developed dance. Moreover\, introducing its player’s to industry professionals placed primarily to focus on fostering talent.
URL:https://ontariodance.com/event/international-fever-dance-championships-hamilton-2/
LOCATION:International Fever Dance Championships\, Ottawa\, Canada
END:VEVENT
BEGIN:VEVENT
DTSTART;VALUE=DATE:20270506
DTEND;VALUE=DATE:20270510
DTSTAMP:20260421T165934
CREATED:20260409T095924Z
LAST-MODIFIED:20260409T095924Z
UID:15913-1809561600-1809907199@ontariodance.com
SUMMARY:MOVE The Ultimate Dance Competition - Hamilton
DESCRIPTION:At MOVE\, we create a positive\, supportive environment within a competitive setting. With over 17 years in the competition industry\, we bring professionalism\, experience\, and genuine care to every city we visit.
URL:https://ontariodance.com/event/move-the-ultimate-dance-competition-hamilton-3/
LOCATION:MOVE The Ultimate Dance Competition\, Toronto\, ON\, Canada
END:VEVENT
BEGIN:VEVENT
DTSTART;VALUE=DATE:20270506
DTEND;VALUE=DATE:20270510
DTSTAMP:20260421T165934
CREATED:20260409T103746Z
LAST-MODIFIED:20260409T103746Z
UID:15960-1809561600-1809907199@ontariodance.com
SUMMARY:The Knockout Dance Challenge - Kitchener 2
DESCRIPTION:
URL:https://ontariodance.com/event/the-knockout-dance-challenge-kitchener-2-5/
LOCATION:The Knockout Dance Challenge\, Bradford\, ON\, Canada
END:VEVENT
BEGIN:VEVENT
DTSTART;VALUE=DATE:20270506
DTEND;VALUE=DATE:20270510
DTSTAMP:20260421T165934
CREATED:20260414T175049Z
LAST-MODIFIED:20260414T175049Z
UID:16038-1809561600-1809907199@ontariodance.com
SUMMARY:Shine Dance Competitions - Niagara 2
DESCRIPTION:
URL:https://ontariodance.com/event/shine-dance-competitions-niagara-2-2/
LOCATION:Central Niagara Community Venue\, 680 York Rd\, Niagara-on-the-Lake\, ON L0S 1J0\, Canada\, ON\, Canada
ORGANIZER;CN="Shine%20Dance%20Competition":MAILTO:info@shinedance.com
END:VEVENT
BEGIN:VEVENT
DTSTART;VALUE=DATE:20270506
DTEND;VALUE=DATE:20270510
DTSTAMP:20260421T165934
CREATED:20260414T175855Z
LAST-MODIFIED:20260414T175855Z
UID:16044-1809561600-1809907199@ontariodance.com
SUMMARY:Shine Dance Competitions - St. Catharines
DESCRIPTION:
URL:https://ontariodance.com/event/shine-dance-competitions-st-catharines-4/
LOCATION:First Ontario PAC\, 250 St Paul St\, St. Catharines\, ON L2R 3M2\, Canada\, ON\, Canada
ORGANIZER;CN="Shine%20Dance%20Competition":MAILTO:info@shinedance.com
END:VEVENT
BEGIN:VEVENT
DTSTART;VALUE=DATE:20270506
DTEND;VALUE=DATE:20270510
DTSTAMP:20260421T165934
CREATED:20260414T182614Z
LAST-MODIFIED:20260414T182614Z
UID:16068-1809561600-1809907199@ontariodance.com
SUMMARY:SHOCK Dance Challenge - Mississauga 2
DESCRIPTION:
URL:https://ontariodance.com/event/shock-dance-challenge-mississauga-2-7/
LOCATION:Hilton Toronto Airport Hotel & Suites\, 5875 Airport Road\, Mississauga\, ON\, L4V 1N1\, Canada
END:VEVENT
BEGIN:VEVENT
DTSTART;VALUE=DATE:20270506
DTEND;VALUE=DATE:20270510
DTSTAMP:20260421T165934
CREATED:20260415T133321Z
LAST-MODIFIED:20260415T133321Z
UID:16115-1809561600-1809907199@ontariodance.com
SUMMARY:Star Beat Dance Champions - Hamilton 1
DESCRIPTION:
URL:https://ontariodance.com/event/star-beat-dance-champions-hamilton-1-3/
END:VEVENT
BEGIN:VEVENT
DTSTART;VALUE=DATE:20270506
DTEND;VALUE=DATE:20270510
DTSTAMP:20260421T165934
CREATED:20260415T141000Z
LAST-MODIFIED:20260415T141000Z
UID:16133-1809561600-1809907199@ontariodance.com
SUMMARY:Glow Dance Competition - St Catherines
DESCRIPTION:We’ve been deep in preparation for an epic Nationals this summer\, but starting today\, we’re kicking off a wave of exciting announcements for our 2026 𝓡𝓮𝓰𝓲𝓸𝓷𝓪𝓵 𝓢𝓮𝓪𝓼𝓸𝓷… and trust us\, you won’t want to miss what’s coming!
URL:https://ontariodance.com/event/glow-dance-competition-st-catherines/
END:VEVENT
BEGIN:VEVENT
DTSTART;VALUE=DATE:20270507
DTEND;VALUE=DATE:20270510
DTSTAMP:20260421T165934
CREATED:20260403T151008Z
LAST-MODIFIED:20260403T151008Z
UID:15683-1809648000-1809907199@ontariodance.com
SUMMARY:Dance Attack Competition - Mississauga 1
DESCRIPTION:DANCE ATTACK Workshops is built around helping students\, parents and studios learn from the best and have fun! The days of traveling all around Canada and USA and enormous bills at the end of weekend are gone! \nDANCE ATTACK comes to your city and your studio.  I see first hand the challenges for families as students want to see the familiar names and learn from the best. With rising travel expenses\, accommodation and food costs\, our goal is to provide the same experience you will get from a big city workshop for half the cost and be within driving distance.
URL:https://ontariodance.com/event/dance-attack-competition-mississauga-1-2/
LOCATION:Hilton Mississauga/Meadowvale\, 6750 Mississauga Road\, Mississauga\, ON\, L5N 2L3\, Canada
ORGANIZER;CN="Dance%20Attack":MAILTO:kent@dance-attack.com
END:VEVENT
BEGIN:VEVENT
DTSTART;VALUE=DATE:20270507
DTEND;VALUE=DATE:20270510
DTSTAMP:20260421T165934
CREATED:20260407T105141Z
LAST-MODIFIED:20260407T105141Z
UID:15852-1809648000-1809907199@ontariodance.com
SUMMARY:Dance Attack Competition - Mississauga 1
DESCRIPTION:DANCE ATTACK has been providing world class workshops since 2008\, bringing some of the biggest dance industry names\, while providing top notch entertainment. In 2015\,  DANCE ATTACK expanded to offer the TORONTO DANCE TEACHER EXPO in which 600+ studio directors and teachers all across Canada come together for an exciting and uplifting three days of instruction. We then expanded in 2016 to offer THE CALGARY DANCE TEACHER EXPO which it provided the same aspects as its sister Expo in Toronto!
URL:https://ontariodance.com/event/dance-attack-competition-mississauga-1-3/
LOCATION:Dance Attack Competition\, Ontario\, Canada
END:VEVENT
BEGIN:VEVENT
DTSTART;VALUE=DATE:20270507
DTEND;VALUE=DATE:20270510
DTSTAMP:20260421T165934
CREATED:20260409T102028Z
LAST-MODIFIED:20260409T102028Z
UID:15937-1809648000-1809907199@ontariodance.com
SUMMARY:Kick It Up Dance Competition - Niagara Falls 2
DESCRIPTION:At the heart of Kick It Up is a family who knows the dance world inside and out. With over 18 years spent immersed in the competitive dance scene alongside their daughters\, The Raymond family set out to build something truly special: a dance competition where joy\, encouragement\, and community take centre stage.
URL:https://ontariodance.com/event/kick-it-up-dance-competition-niagara-falls-2-2/
LOCATION:Kick It Up Dance\, Mississauga\, ON\, Canada
ORGANIZER;CN="Kick%20It%20Up%20Dance":MAILTO:info@kickitup.ca
END:VEVENT
BEGIN:VEVENT
DTSTART;VALUE=DATE:20270507
DTEND;VALUE=DATE:20270510
DTSTAMP:20260421T165934
CREATED:20260409T102330Z
LAST-MODIFIED:20260409T102330Z
UID:15940-1809648000-1809907199@ontariodance.com
SUMMARY:Kick It Up Dance Competition - Blue Mountain 3
DESCRIPTION:At the heart of Kick It Up is a family who knows the dance world inside and out. With over 18 years spent immersed in the competitive dance scene alongside their daughters\, The Raymond family set out to build something truly special: a dance competition where joy\, encouragement\, and community take centre stage.
URL:https://ontariodance.com/event/kick-it-up-dance-competition-blue-mountain-3-2/
LOCATION:Kick It Up Dance\, Mississauga\, ON\, Canada
ORGANIZER;CN="Kick%20It%20Up%20Dance":MAILTO:info@kickitup.ca
END:VEVENT
BEGIN:VEVENT
DTSTART;VALUE=DATE:20270512
DTEND;VALUE=DATE:20270517
DTSTAMP:20260421T165934
CREATED:20260414T182935Z
LAST-MODIFIED:20260414T182935Z
UID:16072-1810080000-1810511999@ontariodance.com
SUMMARY:SHOCK Dance Challenge - Halifax 2
DESCRIPTION:
URL:https://ontariodance.com/event/shock-dance-challenge-halifax-2-2/
LOCATION:Spatz Theatre\, 1855 Trollope Street.\, Halifax\, ON\, NS B3H 0A4\, Canada
END:VEVENT
BEGIN:VEVENT
DTSTART;VALUE=DATE:20270513
DTEND;VALUE=DATE:20270517
DTSTAMP:20260421T165934
CREATED:20260403T150705Z
LAST-MODIFIED:20260403T150705Z
UID:15681-1810166400-1810511999@ontariodance.com
SUMMARY:Dance Attack Competition - Cobourg
DESCRIPTION:DANCE ATTACK Workshops is built around helping students\, parents and studios learn from the best and have fun! The days of traveling all around Canada and USA and enormous bills at the end of weekend are gone! \nDANCE ATTACK comes to your city and your studio.  I see first hand the challenges for families as students want to see the familiar names and learn from the best. With rising travel expenses\, accommodation and food costs\, our goal is to provide the same experience you will get from a big city workshop for half the cost and be within driving distance.
URL:https://ontariodance.com/event/dance-attack-competition-cobourg/
LOCATION:Cobourg Community Centre\, 750 D'Arcy Street\, Cobourg\, ON\, K9A 0G1\, Canada
ORGANIZER;CN="Dance%20Attack":MAILTO:kent@dance-attack.com
END:VEVENT
BEGIN:VEVENT
DTSTART;VALUE=DATE:20270513
DTEND;VALUE=DATE:20270517
DTSTAMP:20260421T165934
CREATED:20260403T164405Z
LAST-MODIFIED:20260403T164405Z
UID:15715-1810166400-1810511999@ontariodance.com
SUMMARY:Bedazzled Dance Champions - Guelph 2
DESCRIPTION:
URL:https://ontariodance.com/event/bedazzled-dance-champions-guelph-2-2/
LOCATION:Guelph
ORGANIZER;CN="Bedazzled%20Dance":MAILTO:bedazzled@bellnet.ca
END:VEVENT
BEGIN:VEVENT
DTSTART;VALUE=DATE:20270513
DTEND;VALUE=DATE:20270517
DTSTAMP:20260421T165934
CREATED:20260407T102814Z
LAST-MODIFIED:20260407T102814Z
UID:15818-1810166400-1810511999@ontariodance.com
SUMMARY:Bedazzled Dance Champions - Guelph 2
DESCRIPTION:Our main focus is to provide a fun\, safe\, positive and inclusive atmosphere for all our dancers\, studios and families.
URL:https://ontariodance.com/event/bedazzled-dance-champions-guelph-2-3/
LOCATION:Bedazzled Dance Champions\, ON\, Canada
END:VEVENT
BEGIN:VEVENT
DTSTART;VALUE=DATE:20270513
DTEND;VALUE=DATE:20270517
DTSTAMP:20260421T165934
CREATED:20260407T103550Z
LAST-MODIFIED:20260407T103550Z
UID:15829-1810166400-1810511999@ontariodance.com
SUMMARY:International Fever Dance Championships - Niagara Falls
DESCRIPTION:Fever International Dance Championships is a competitive dance experience that prides itself on supporting the integrity and growth of studio developed dance. Moreover\, introducing its player’s to industry professionals placed primarily to focus on fostering talent.
URL:https://ontariodance.com/event/international-fever-dance-championships-niagara-falls-2/
LOCATION:International Fever Dance Championships\, Ottawa\, Canada
END:VEVENT
BEGIN:VEVENT
DTSTART;VALUE=DATE:20270513
DTEND;VALUE=DATE:20270517
DTSTAMP:20260421T165934
CREATED:20260407T105347Z
LAST-MODIFIED:20260407T105347Z
UID:15856-1810166400-1810511999@ontariodance.com
SUMMARY:Dance Attack Competition - Cobourg
DESCRIPTION:DANCE ATTACK has been providing world class workshops since 2008\, bringing some of the biggest dance industry names\, while providing top notch entertainment. In 2015\,  DANCE ATTACK expanded to offer the TORONTO DANCE TEACHER EXPO in which 600+ studio directors and teachers all across Canada come together for an exciting and uplifting three days of instruction. We then expanded in 2016 to offer THE CALGARY DANCE TEACHER EXPO which it provided the same aspects as its sister Expo in Toronto!
URL:https://ontariodance.com/event/dance-attack-competition-cobourg-3/
LOCATION:Dance Attack Competition\, Ontario\, Canada
END:VEVENT
BEGIN:VEVENT
DTSTART;VALUE=DATE:20270513
DTEND;VALUE=DATE:20270517
DTSTAMP:20260421T165934
CREATED:20260407T110309Z
LAST-MODIFIED:20260407T110309Z
UID:15873-1810166400-1810511999@ontariodance.com
SUMMARY:Elevation Dance Challenge - Hamilton 3
DESCRIPTION:At Elevation Dance Challenge\, we believe dance competitions are about more than winning trophies. We are committed to providing an event that leaves everyone feeling acknowledged\, recognized\, and appreciated. Our competitions inspire dancers of all levels to reach for their dreams\, offering a platform where their hard work and dedication can truly shine.
URL:https://ontariodance.com/event/elevation-dance-challenge-hamilton-3-2/
LOCATION:Elevation Dance Challenge\, Milton\, ON\, Canada
ORGANIZER;CN="Elevation%20Dance%20Challenge":MAILTO:info@elevationdancechallenge.ca
END:VEVENT
BEGIN:VEVENT
DTSTART;VALUE=DATE:20270513
DTEND;VALUE=DATE:20270517
DTSTAMP:20260421T165934
CREATED:20260409T102318Z
LAST-MODIFIED:20260409T102318Z
UID:15941-1810166400-1810511999@ontariodance.com
SUMMARY:Kick It Up Dance Competition - Blue Mountain 4
DESCRIPTION:At the heart of Kick It Up is a family who knows the dance world inside and out. With over 18 years spent immersed in the competitive dance scene alongside their daughters\, The Raymond family set out to build something truly special: a dance competition where joy\, encouragement\, and community take centre stage.
URL:https://ontariodance.com/event/kick-it-up-dance-competition-blue-mountain-4/
LOCATION:Kick It Up Dance\, Mississauga\, ON\, Canada
ORGANIZER;CN="Kick%20It%20Up%20Dance":MAILTO:info@kickitup.ca
END:VEVENT
BEGIN:VEVENT
DTSTART;VALUE=DATE:20270513
DTEND;VALUE=DATE:20270517
DTSTAMP:20260421T165934
CREATED:20260409T104039Z
LAST-MODIFIED:20260409T104039Z
UID:15963-1810166400-1810511999@ontariodance.com
SUMMARY:The Knockout Dance Challenge - Niagara Falls 2
DESCRIPTION:At The Knockout Dance Challenge\, dancers and studios have the opportunity to demonstrate their immense talents and\, along the way\, win awards and cash scholarships in multiple dance categories and age divisions. And\, of course\, don’t forget that special TKO punch that makes The Knockout Dance Challenge so unique and will bring audiences to their feet: The Main Event is our EXCITING dance off that takes place on the final day of competition. 
URL:https://ontariodance.com/event/the-knockout-dance-challenge-niagara-falls-2-2/
LOCATION:The Knockout Dance Challenge\, Bradford\, ON\, Canada
ORGANIZER;CN="The%20Knockout%20Dance%20Challenge":MAILTO:info@theknockoutdance.com
END:VEVENT
BEGIN:VEVENT
DTSTART;VALUE=DATE:20270513
DTEND;VALUE=DATE:20270517
DTSTAMP:20260421T165934
CREATED:20260414T180147Z
LAST-MODIFIED:20260414T180147Z
UID:16047-1810166400-1810511999@ontariodance.com
SUMMARY:Shine Dance Competitions - Kingston
DESCRIPTION:
URL:https://ontariodance.com/event/shine-dance-competitions-kingston-4/
LOCATION:St. Lawrence College\, 100 Portsmouth Avenue\, Kingston\, ON\, K7L 5A6\, Canada
ORGANIZER;CN="Shine%20Dance%20Competition":MAILTO:info@shinedance.com
END:VEVENT
BEGIN:VEVENT
DTSTART;VALUE=DATE:20270513
DTEND;VALUE=DATE:20270517
DTSTAMP:20260421T165934
CREATED:20260415T133829Z
LAST-MODIFIED:20260415T133829Z
UID:16117-1810166400-1810511999@ontariodance.com
SUMMARY:Star Beat Dance Champions - Hamilton 2
DESCRIPTION:
URL:https://ontariodance.com/event/star-beat-dance-champions-hamilton-2-4/
END:VEVENT
BEGIN:VEVENT
DTSTART;VALUE=DATE:20270514
DTEND;VALUE=DATE:20270517
DTSTAMP:20260421T165934
CREATED:20260407T104304Z
LAST-MODIFIED:20260407T104304Z
UID:15837-1810252800-1810511999@ontariodance.com
SUMMARY:LNK by Dancefest Canada - Toronto 2
DESCRIPTION:
URL:https://ontariodance.com/event/lnk-by-dancefest-canada-toronto-2-2/
LOCATION:LNK by Dancefest Canada\, Barrie\, ON\, Canada
END:VEVENT
BEGIN:VEVENT
DTSTART;VALUE=DATE:20270520
DTEND;VALUE=DATE:20270524
DTSTAMP:20260421T165934
CREATED:20260403T171325Z
LAST-MODIFIED:20260403T171345Z
UID:15742-1810771200-1811116799@ontariodance.com
SUMMARY:The Knockout Dance Challenge - Toronto 2
DESCRIPTION:At The Knockout Dance Challenge\, dancers and studios have the opportunity to demonstrate their immense talents and\, along the way\, win awards and cash scholarships in multiple dance categories\nand age divisions. And\, of course\, don’t forget that special TKO punch that makes The Knockout Dance Challenge so unique and will bring audiences to their fee
URL:https://ontariodance.com/event/the-knockout-dance-challenge-toronto-2-6/
LOCATION:Toronto Ontario\, Toronto\, Ontario\, Canada
END:VEVENT
BEGIN:VEVENT
DTSTART;VALUE=DATE:20270520
DTEND;VALUE=DATE:20270524
DTSTAMP:20260421T165934
CREATED:20260407T102835Z
LAST-MODIFIED:20260407T102835Z
UID:15819-1810771200-1811116799@ontariodance.com
SUMMARY:Bedazzled Dance Champions - Oakville 2
DESCRIPTION:Our main focus is to provide a fun\, safe\, positive and inclusive atmosphere for all our dancers\, studios and families.
URL:https://ontariodance.com/event/bedazzled-dance-champions-oakville-2-2/
LOCATION:Bedazzled Dance Champions\, ON\, Canada
END:VEVENT
END:VCALENDAR