BEGIN:VCALENDAR
VERSION:2.0
PRODID:-//OntarioDance.com - ECPv6.1.2.2//NONSGML v1.0//EN
CALSCALE:GREGORIAN
METHOD:PUBLISH
X-ORIGINAL-URL:https://ontariodance.com
X-WR-CALDESC:Events for OntarioDance.com
REFRESH-INTERVAL;VALUE=DURATION:PT1H
X-Robots-Tag:noindex
X-PUBLISHED-TTL:PT1H
BEGIN:VTIMEZONE
TZID:America/Toronto
BEGIN:DAYLIGHT
TZOFFSETFROM:-0500
TZOFFSETTO:-0400
TZNAME:EDT
DTSTART:20270314T070000
END:DAYLIGHT
BEGIN:STANDARD
TZOFFSETFROM:-0400
TZOFFSETTO:-0500
TZNAME:EST
DTSTART:20271107T060000
END:STANDARD
END:VTIMEZONE
BEGIN:VEVENT
DTSTART;VALUE=DATE:20270226
DTEND;VALUE=DATE:20270301
DTSTAMP:20260420T214112
CREATED:20260407T105948Z
LAST-MODIFIED:20260407T105948Z
UID:15862-1803600000-1803859199@ontariodance.com
SUMMARY:Elevation Dance Challenge - Port Perry
DESCRIPTION:At Elevation Dance Challenge\, we believe dance competitions are about more than winning trophies. We are committed to providing an event that leaves everyone feeling acknowledged\, recognized\, and appreciated. Our competitions inspire dancers of all levels to reach for their dreams\, offering a platform where their hard work and dedication can truly shine.
URL:https://ontariodance.com/event/elevation-dance-challenge-port-perry/
LOCATION:Elevation Dance Challenge\, Milton\, ON\, Canada
ORGANIZER;CN="Elevation%20Dance%20Challenge":MAILTO:info@elevationdancechallenge.ca
END:VEVENT
BEGIN:VEVENT
DTSTART;VALUE=DATE:20270304
DTEND;VALUE=DATE:20270308
DTSTAMP:20260420T214112
CREATED:20260402T145444Z
LAST-MODIFIED:20260402T145444Z
UID:15662-1804118400-1804463999@ontariodance.com
SUMMARY:Dance Attack Competition - London
DESCRIPTION:DANCE ATTACK Workshops is built around helping students\, parents and studios learn from the best and have fun! The days of traveling all around Canada and USA and enormous bills at the end of weekend are gone! \nDANCE ATTACK comes to your city and your studio.  I see first hand the challenges for families as students want to see the familiar names and learn from the best. With rising travel expenses\, accommodation and food costs\, our goal is to provide the same experience you will get from a big city workshop for half the cost and be within driving distance.v
URL:https://ontariodance.com/event/dance-attack-competition-london-2/
LOCATION:Centennial Hall\, 550 Wellington Street\, London\, ON\, N6A 3P9\, Canada
END:VEVENT
BEGIN:VEVENT
DTSTART;VALUE=DATE:20270304
DTEND;VALUE=DATE:20270308
DTSTAMP:20260420T214112
CREATED:20260403T164139Z
LAST-MODIFIED:20260403T164139Z
UID:15711-1804118400-1804463999@ontariodance.com
SUMMARY:Bedazzled Dance Champions - Guelph
DESCRIPTION:
URL:https://ontariodance.com/event/bedazzled-dance-champions-guelph/
LOCATION:Guelph
ORGANIZER;CN="Bedazzled%20Dance":MAILTO:bedazzled@bellnet.ca
END:VEVENT
BEGIN:VEVENT
DTSTART;VALUE=DATE:20270304
DTEND;VALUE=DATE:20270308
DTSTAMP:20260420T214112
CREATED:20260407T102013Z
LAST-MODIFIED:20260407T102013Z
UID:15803-1804118400-1804463999@ontariodance.com
SUMMARY:Bedazzled Dance Champions - Guelph 1
DESCRIPTION:Our main focus is to provide a fun\, safe\, positive and inclusive atmosphere for all our dancers\, studios and families.
URL:https://ontariodance.com/event/bedazzled-dance-champions-guelph-1-2/
LOCATION:Bedazzled Dance Champions\, ON\, Canada
END:VEVENT
BEGIN:VEVENT
DTSTART;VALUE=DATE:20270304
DTEND;VALUE=DATE:20270308
DTSTAMP:20260420T214112
CREATED:20260407T104622Z
LAST-MODIFIED:20260407T104622Z
UID:15842-1804118400-1804463999@ontariodance.com
SUMMARY:Dance Attack Competition - London
DESCRIPTION:DANCE ATTACK has been providing world class workshops since 2008\, bringing some of the biggest dance industry names\, while providing top notch entertainment. In 2015\,  DANCE ATTACK expanded to offer the TORONTO DANCE TEACHER EXPO in which 600+ studio directors and teachers all across Canada come together for an exciting and uplifting three days of instruction. We then expanded in 2016 to offer THE CALGARY DANCE TEACHER EXPO which it provided the same aspects as its sister Expo in Toronto!
URL:https://ontariodance.com/event/dance-attack-competition-london-3/
LOCATION:Dance Attack Competition\, Ontario\, Canada
END:VEVENT
BEGIN:VEVENT
DTSTART;VALUE=DATE:20270304
DTEND;VALUE=DATE:20270308
DTSTAMP:20260420T214112
CREATED:20260414T181106Z
LAST-MODIFIED:20260414T181106Z
UID:16053-1804118400-1804463999@ontariodance.com
SUMMARY:SHOCK Dance Challenge - Toronto
DESCRIPTION:
URL:https://ontariodance.com/event/shock-dance-challenge-toronto-4/
LOCATION:Toronto Airport Marriott Hotel\, Grand Ballroom 901 Dixon Road\, Toronto\, ON\, M9W 1J5\, Canada
END:VEVENT
BEGIN:VEVENT
DTSTART;VALUE=DATE:20270304
DTEND;VALUE=DATE:20270308
DTSTAMP:20260420T214112
CREATED:20260414T185557Z
LAST-MODIFIED:20260414T185557Z
UID:16089-1804118400-1804463999@ontariodance.com
SUMMARY:Star Beat Dance Champions - Burlington
DESCRIPTION:
URL:https://ontariodance.com/event/star-beat-dance-champions-burlington-6/
LOCATION:ON
END:VEVENT
BEGIN:VEVENT
DTSTART;VALUE=DATE:20270310
DTEND;VALUE=DATE:20270311
DTSTAMP:20260420T214112
CREATED:20260414T183626Z
LAST-MODIFIED:20260414T183626Z
UID:16079-1804636800-1804723199@ontariodance.com
SUMMARY:SHOCK Dance Challenge - Moncton
DESCRIPTION:The Convention
URL:https://ontariodance.com/event/shock-dance-challenge-moncton-2/
LOCATION:Casino New Brunswick\, 21 Casino Dr\, Moncton\, Moncton\, ON\, NB E1G 0R7\, Canada
END:VEVENT
BEGIN:VEVENT
DTSTART;VALUE=DATE:20270311
DTEND;VALUE=DATE:20270315
DTSTAMP:20260420T214112
CREATED:20260414T181328Z
LAST-MODIFIED:20260414T181328Z
UID:16055-1804723200-1805068799@ontariodance.com
SUMMARY:SHOCK Dance Challenge - Moncton
DESCRIPTION:
URL:https://ontariodance.com/event/shock-dance-challenge-moncton/
LOCATION:Casino New Brunswick\, 21 Casino Dr\, Moncton\, Moncton\, ON\, NB E1G 0R7\, Canada
END:VEVENT
BEGIN:VEVENT
DTSTART;VALUE=DATE:20270312
DTEND;VALUE=DATE:20270315
DTSTAMP:20260420T214112
CREATED:20260403T162155Z
LAST-MODIFIED:20260403T162155Z
UID:15701-1804809600-1805068799@ontariodance.com
SUMMARY:Adrenaline Dance - Toronto
DESCRIPTION:We are proud to be the industry’s first YPAD Certified Dance Convention dating back to 2020. In addition\, we work closely other organizations focused on social accountability\, including Dance Education Equity Association. Our unique partnerships have strengthened our foundation and offered countless young dancers a safe\, equitable\, and inclusive environment to explore\, challenge\, and expand their potential as artists and athletes.
URL:https://ontariodance.com/event/adrenaline-dance-toronto/
LOCATION:Toronto Ontario\, Toronto\, Ontario\, Canada
ORGANIZER;CN="Adrenaline%20Dance":MAILTO:ADRENALINE@AMPLIFIEDPRO.NET
END:VEVENT
BEGIN:VEVENT
DTSTART;VALUE=DATE:20270312
DTEND;VALUE=DATE:20270316
DTSTAMP:20260420T214112
CREATED:20260409T102739Z
LAST-MODIFIED:20260409T102807Z
UID:15946-1804809600-1805155199@ontariodance.com
SUMMARY:Phoenix Dance Competition - Ottawa
DESCRIPTION:Phoenix Dance Competition is designed to offer a dynamic and evolving experience for dancers\, providing an environment that promotes growth and improvement. The competition features THE PIT\, a unique element that blends competition with valuable training and feedback.
URL:https://ontariodance.com/event/phoenix-dance-competition-ottawa-3/
LOCATION:Phoenix Dance Competition\, ON\, Canada
END:VEVENT
BEGIN:VEVENT
DTSTART;VALUE=DATE:20270318
DTEND;VALUE=DATE:20270322
DTSTAMP:20260420T214112
CREATED:20260409T102918Z
LAST-MODIFIED:20260409T102918Z
UID:15949-1805328000-1805673599@ontariodance.com
SUMMARY:Phoenix Dance Competition - Hamilton
DESCRIPTION:Phoenix Dance Competition is designed to offer a dynamic and evolving experience for dancers\, providing an environment that promotes growth and improvement. The competition features THE PIT\, a unique element that blends competition with valuable training and feedback.
URL:https://ontariodance.com/event/phoenix-dance-competition-hamilton-3/
LOCATION:Phoenix Dance Competition\, ON\, Canada
END:VEVENT
BEGIN:VEVENT
DTSTART;VALUE=DATE:20270319
DTEND;VALUE=DATE:20270322
DTSTAMP:20260420T214112
CREATED:20260414T172127Z
LAST-MODIFIED:20260414T172127Z
UID:16018-1805414400-1805673599@ontariodance.com
SUMMARY:Shine Dance Competitions - Gatineau 1
DESCRIPTION:
URL:https://ontariodance.com/event/shine-dance-competitions-gatineau-1/
LOCATION:Canadian Museum of History\, 100 Laurier Street\, Gatineau\, QC\, K1A 0M8\, Canada
ORGANIZER;CN="Shine%20Dance%20Competition":MAILTO:info@shinedance.com
END:VEVENT
BEGIN:VEVENT
DTSTART;VALUE=DATE:20270326
DTEND;VALUE=DATE:20270328
DTSTAMP:20260420T214112
CREATED:20260409T101608Z
LAST-MODIFIED:20260409T101638Z
UID:15929-1806019200-1806191999@ontariodance.com
SUMMARY:Kick It Up Dance Competition - Blue Mountain 1
DESCRIPTION:At the heart of Kick It Up is a family who knows the dance world inside and out. With over 18 years spent immersed in the competitive dance scene alongside their daughters\, The Raymond family set out to build something truly special: a dance competition where joy\, encouragement\, and community take centre stage.
URL:https://ontariodance.com/event/kick-it-up-dance-competition-blue-mountain-1-2/
LOCATION:Kick It Up Dance\, Mississauga\, ON\, Canada
ORGANIZER;CN="Kick%20It%20Up%20Dance":MAILTO:info@kickitup.ca
END:VEVENT
BEGIN:VEVENT
DTSTART;VALUE=DATE:20270401
DTEND;VALUE=DATE:20270404
DTSTAMP:20260420T214112
CREATED:20260407T110820Z
LAST-MODIFIED:20260407T110820Z
UID:15877-1806537600-1806796799@ontariodance.com
SUMMARY:Entertain Us Dance Competition - Niagara Falls
DESCRIPTION:At ENTERTAIN US\, we are focused on providing a fun and welcoming dance competition. \nOur goal is to accomplish everything we can to create an environment which supports our young aspiring dancers.
URL:https://ontariodance.com/event/entertain-us-dance-competition-niagara-falls/
LOCATION:Entertain Us Dance Competition\, Lindsay\, ON\, Canada
END:VEVENT
BEGIN:VEVENT
DTSTART;VALUE=DATE:20270401
DTEND;VALUE=DATE:20270405
DTSTAMP:20260420T214112
CREATED:20260402T150432Z
LAST-MODIFIED:20260402T150432Z
UID:15664-1806537600-1806883199@ontariodance.com
SUMMARY:Dance Attack Competition - St Catharines 1
DESCRIPTION:DANCE ATTACK Workshops is built around helping students\, parents and studios learn from the best and have fun! The days of traveling all around Canada and USA and enormous bills at the end of weekend are gone! \nDANCE ATTACK comes to your city and your studio.  I see first hand the challenges for families as students want to see the familiar names and learn from the best. With rising travel expenses\, accommodation and food costs\, our goal is to provide the same experience you will get from a big city workshop for half the cost and be within driving distance.v
URL:https://ontariodance.com/event/dance-attack-competition-st-catharines-1-2/
LOCATION:Holiday Inn & Suites St. Catharines\, 327 Ontario Street\, St. Catharines\, ON\, L2R 5L3\, Canada
END:VEVENT
BEGIN:VEVENT
DTSTART;VALUE=DATE:20270401
DTEND;VALUE=DATE:20270405
DTSTAMP:20260420T214112
CREATED:20260403T164713Z
LAST-MODIFIED:20260403T164713Z
UID:15717-1806537600-1806883199@ontariodance.com
SUMMARY:Bedazzled Dance Champions - Oakville
DESCRIPTION:
URL:https://ontariodance.com/event/bedazzled-dance-champions-oakville-2/
LOCATION:oakville
ORGANIZER;CN="Bedazzled%20Dance":MAILTO:bedazzled@bellnet.ca
END:VEVENT
BEGIN:VEVENT
DTSTART;VALUE=DATE:20270401
DTEND;VALUE=DATE:20270405
DTSTAMP:20260420T214112
CREATED:20260403T170910Z
LAST-MODIFIED:20260403T170910Z
UID:15740-1806537600-1806883199@ontariodance.com
SUMMARY:The Knockout Dance Challenge - Toronto 1
DESCRIPTION:At The Knockout Dance Challenge\, dancers and studios have the opportunity to demonstrate their immense talents and\, along the way\, win awards and cash scholarships in multiple dance categories\nand age divisions. And\, of course\, don’t forget that special TKO punch that makes The Knockout Dance Challenge so unique and will bring audiences to their fee
URL:https://ontariodance.com/event/the-knockout-dance-challenge-toronto-1-5/
LOCATION:Toronto Ontario\, Toronto\, Ontario\, Canada
END:VEVENT
BEGIN:VEVENT
DTSTART;VALUE=DATE:20270401
DTEND;VALUE=DATE:20270405
DTSTAMP:20260420T214112
CREATED:20260407T102106Z
LAST-MODIFIED:20260407T102106Z
UID:15806-1806537600-1806883199@ontariodance.com
SUMMARY:Bedazzled Dance Champions - Oakville
DESCRIPTION:Our main focus is to provide a fun\, safe\, positive and inclusive atmosphere for all our dancers\, studios and families.
URL:https://ontariodance.com/event/bedazzled-dance-champions-oakville-3/
LOCATION:Bedazzled Dance Champions\, ON\, Canada
END:VEVENT
BEGIN:VEVENT
DTSTART;VALUE=DATE:20270401
DTEND;VALUE=DATE:20270405
DTSTAMP:20260420T214112
CREATED:20260407T104824Z
LAST-MODIFIED:20260407T104824Z
UID:15844-1806537600-1806883199@ontariodance.com
SUMMARY:Dance Attack Competition - St. Catharines 1
DESCRIPTION:DANCE ATTACK has been providing world class workshops since 2008\, bringing some of the biggest dance industry names\, while providing top notch entertainment. In 2015\,  DANCE ATTACK expanded to offer the TORONTO DANCE TEACHER EXPO in which 600+ studio directors and teachers all across Canada come together for an exciting and uplifting three days of instruction. We then expanded in 2016 to offer THE CALGARY DANCE TEACHER EXPO which it provided the same aspects as its sister Expo in Toronto!
URL:https://ontariodance.com/event/dance-attack-competition-st-catharines-1-3/
LOCATION:Dance Attack Competition\, Ontario\, Canada
END:VEVENT
BEGIN:VEVENT
DTSTART;VALUE=DATE:20270401
DTEND;VALUE=DATE:20270405
DTSTAMP:20260420T214112
CREATED:20260407T110001Z
LAST-MODIFIED:20260407T110001Z
UID:15863-1806537600-1806883199@ontariodance.com
SUMMARY:Elevation Dance Challenge - Milton 1
DESCRIPTION:At Elevation Dance Challenge\, we believe dance competitions are about more than winning trophies. We are committed to providing an event that leaves everyone feeling acknowledged\, recognized\, and appreciated. Our competitions inspire dancers of all levels to reach for their dreams\, offering a platform where their hard work and dedication can truly shine.
URL:https://ontariodance.com/event/elevation-dance-challenge-milton-1-5/
LOCATION:Elevation Dance Challenge\, Milton\, ON\, Canada
ORGANIZER;CN="Elevation%20Dance%20Challenge":MAILTO:info@elevationdancechallenge.ca
END:VEVENT
BEGIN:VEVENT
DTSTART;VALUE=DATE:20270401
DTEND;VALUE=DATE:20270405
DTSTAMP:20260420T214112
CREATED:20260409T101842Z
LAST-MODIFIED:20260409T101842Z
UID:15932-1806537600-1806883199@ontariodance.com
SUMMARY:Kick It Up Dance Competition - Niagara Falls 1
DESCRIPTION:At the heart of Kick It Up is a family who knows the dance world inside and out. With over 18 years spent immersed in the competitive dance scene alongside their daughters\, The Raymond family set out to build something truly special: a dance competition where joy\, encouragement\, and community take centre stage.
URL:https://ontariodance.com/event/kick-it-up-dance-competition-niagara-falls-1-2/
LOCATION:Kick It Up Dance\, Mississauga\, ON\, Canada
END:VEVENT
BEGIN:VEVENT
DTSTART;VALUE=DATE:20270401
DTEND;VALUE=DATE:20270405
DTSTAMP:20260420T214112
CREATED:20260409T103314Z
LAST-MODIFIED:20260409T103314Z
UID:15953-1806537600-1806883199@ontariodance.com
SUMMARY:The Knockout Dance Challenge - Toronto 1
DESCRIPTION:At The Knockout Dance Challenge\, dancers and studios have the opportunity to demonstrate their immense talents and\, along the way\, win awards and cash scholarships in multiple dance categories and age divisions. And\, of course\, don’t forget that special TKO punch that makes The Knockout Dance Challenge so unique and will bring audiences to their feet: The Main Event is our EXCITING dance off that takes place on the final day of competition. 
URL:https://ontariodance.com/event/the-knockout-dance-challenge-toronto-1-6/
LOCATION:The Knockout Dance Challenge\, Bradford\, ON\, Canada
END:VEVENT
BEGIN:VEVENT
DTSTART;VALUE=DATE:20270401
DTEND;VALUE=DATE:20270405
DTSTAMP:20260420T214112
CREATED:20260414T172748Z
LAST-MODIFIED:20260414T172748Z
UID:16024-1806537600-1806883199@ontariodance.com
SUMMARY:Shine Dance Competitions - Chatham
DESCRIPTION:
URL:https://ontariodance.com/event/shine-dance-competitions-chatham-4/
LOCATION:Chatham Capitol Theatre\, 238 King Street West\, Chatham\, ON\, N7M 1E7\, Canada
ORGANIZER;CN="Shine%20Dance%20Competition":MAILTO:info@shinedance.com
END:VEVENT
BEGIN:VEVENT
DTSTART;VALUE=DATE:20270401
DTEND;VALUE=DATE:20270405
DTSTAMP:20260420T214112
CREATED:20260414T172939Z
LAST-MODIFIED:20260414T172939Z
UID:16026-1806537600-1806883199@ontariodance.com
SUMMARY:Shine Dance Competitions - Cobourg 1
DESCRIPTION:
URL:https://ontariodance.com/event/shine-dance-competitions-cobourg-1/
LOCATION:Cobourg Community Centre\, 750 D'Arcy Street\, Cobourg\, ON\, K9A 0G1\, Canada
ORGANIZER;CN="Shine%20Dance%20Competition":MAILTO:info@shinedance.com
END:VEVENT
BEGIN:VEVENT
DTSTART;VALUE=DATE:20270401
DTEND;VALUE=DATE:20270405
DTSTAMP:20260420T214112
CREATED:20260414T181537Z
LAST-MODIFIED:20260414T181838Z
UID:16057-1806537600-1806883199@ontariodance.com
SUMMARY:SHOCK Dance Challenge - St.Catharines 1
DESCRIPTION:
URL:https://ontariodance.com/event/shock-dance-challenge-st-catharines-1-7/
LOCATION:FirstOntario Performing Arts Centre\, 250 St Paul Street\, St. Catharines\, ON\, L2R 3M2\, Canada
END:VEVENT
BEGIN:VEVENT
DTSTART;VALUE=DATE:20270401
DTEND;VALUE=DATE:20270405
DTSTAMP:20260420T214112
CREATED:20260415T132300Z
LAST-MODIFIED:20260415T132315Z
UID:16100-1806537600-1806883199@ontariodance.com
SUMMARY:Star Beat Dance Champions - Scarbrough 1
DESCRIPTION:
URL:https://ontariodance.com/event/star-beat-dance-champions-scarbrough/
LOCATION:ON
END:VEVENT
BEGIN:VEVENT
DTSTART;VALUE=DATE:20270401
DTEND;VALUE=DATE:20270409
DTSTAMP:20260420T214112
CREATED:20260407T112002Z
LAST-MODIFIED:20260407T112002Z
UID:15884-1806537600-1807228799@ontariodance.com
SUMMARY:OnStage Dance Competition - Ottawa 1
DESCRIPTION:To provide a top quality dance competition experience where participants are inspired to achieve excellence and are recognized for their dedication to hard work\, in a rewarding and fun environment while enhancing their OnStage presence in a positive atmosphere.
URL:https://ontariodance.com/event/onstage-dance-competition-ottawa-1-5/
LOCATION:OnStage Dance Competition\, Ottawa\, ON\, Canada
END:VEVENT
BEGIN:VEVENT
DTSTART;VALUE=DATE:20270402
DTEND;VALUE=DATE:20270405
DTSTAMP:20260420T214112
CREATED:20260407T103319Z
LAST-MODIFIED:20260407T103319Z
UID:15824-1806624000-1806883199@ontariodance.com
SUMMARY:International Fever Dance Championships - Burlington 1
DESCRIPTION:Fever International Dance Championships is a competitive dance experience that prides itself on supporting the integrity and growth of studio developed dance. Moreover\, introducing its player’s to industry professionals placed primarily to focus on fostering talent.
URL:https://ontariodance.com/event/international-fever-dance-championships-burlington-1-2/
LOCATION:International Fever Dance Championships\, Ottawa\, Canada
END:VEVENT
BEGIN:VEVENT
DTSTART;VALUE=DATE:20270402
DTEND;VALUE=DATE:20270405
DTSTAMP:20260420T214112
CREATED:20260409T100433Z
LAST-MODIFIED:20260409T100433Z
UID:15919-1806624000-1806883199@ontariodance.com
SUMMARY:Purpose Dance Competition - Hamilton
DESCRIPTION:An innovative competition experience for dancers that is both fun and educational.
URL:https://ontariodance.com/event/purpose-dance-competition-hamilton-4/
LOCATION:Purpose Dance Competition\, Woodbridge\, ON\, Canada
END:VEVENT
END:VCALENDAR