BEGIN:VCALENDAR
VERSION:2.0
PRODID:-//OntarioDance.com - ECPv6.1.2.2//NONSGML v1.0//EN
CALSCALE:GREGORIAN
METHOD:PUBLISH
X-ORIGINAL-URL:https://ontariodance.com
X-WR-CALDESC:Events for OntarioDance.com
REFRESH-INTERVAL;VALUE=DURATION:PT1H
X-Robots-Tag:noindex
X-PUBLISHED-TTL:PT1H
BEGIN:VTIMEZONE
TZID:America/Toronto
BEGIN:DAYLIGHT
TZOFFSETFROM:-0500
TZOFFSETTO:-0400
TZNAME:EDT
DTSTART:20270314T070000
END:DAYLIGHT
BEGIN:STANDARD
TZOFFSETFROM:-0400
TZOFFSETTO:-0500
TZNAME:EST
DTSTART:20271107T060000
END:STANDARD
END:VTIMEZONE
BEGIN:VEVENT
DTSTART;VALUE=DATE:20270408
DTEND;VALUE=DATE:20270412
DTSTAMP:20260421T020605
CREATED:20260407T104114Z
LAST-MODIFIED:20260407T104114Z
UID:15834-1807142400-1807487999@ontariodance.com
SUMMARY:LNK by Dancefest Canada - Thunder Bay
DESCRIPTION:
URL:https://ontariodance.com/event/lnk-by-dancefest-canada-thunder-bay-3/
LOCATION:LNK by Dancefest Canada\, Barrie\, ON\, Canada
END:VEVENT
BEGIN:VEVENT
DTSTART;VALUE=DATE:20270408
DTEND;VALUE=DATE:20270412
DTSTAMP:20260421T020605
CREATED:20260407T110011Z
LAST-MODIFIED:20260407T110011Z
UID:15864-1807142400-1807487999@ontariodance.com
SUMMARY:Elevation Dance Challenge - Milton 2
DESCRIPTION:At Elevation Dance Challenge\, we believe dance competitions are about more than winning trophies. We are committed to providing an event that leaves everyone feeling acknowledged\, recognized\, and appreciated. Our competitions inspire dancers of all levels to reach for their dreams\, offering a platform where their hard work and dedication can truly shine.
URL:https://ontariodance.com/event/elevation-dance-challenge-milton-2-4/
LOCATION:Elevation Dance Challenge\, Milton\, ON\, Canada
ORGANIZER;CN="Elevation%20Dance%20Challenge":MAILTO:info@elevationdancechallenge.ca
END:VEVENT
BEGIN:VEVENT
DTSTART;VALUE=DATE:20270408
DTEND;VALUE=DATE:20270412
DTSTAMP:20260421T020605
CREATED:20260407T111954Z
LAST-MODIFIED:20260407T111954Z
UID:15885-1807142400-1807487999@ontariodance.com
SUMMARY:OnStage Dance Competition - Ottawa 2
DESCRIPTION:To provide a top quality dance competition experience where participants are inspired to achieve excellence and are recognized for their dedication to hard work\, in a rewarding and fun environment while enhancing their OnStage presence in a positive atmosphere.
URL:https://ontariodance.com/event/onstage-dance-competition-ottawa-2-6/
LOCATION:OnStage Dance Competition\, Ottawa\, ON\, Canada
END:VEVENT
BEGIN:VEVENT
DTSTART;VALUE=DATE:20270408
DTEND;VALUE=DATE:20270412
DTSTAMP:20260421T020605
CREATED:20260409T100004Z
LAST-MODIFIED:20260409T100004Z
UID:15914-1807142400-1807487999@ontariodance.com
SUMMARY:MOVE The Ultimate Dance Competition - Toronto
DESCRIPTION:At MOVE\, we create a positive\, supportive environment within a competitive setting. With over 17 years in the competition industry\, we bring professionalism\, experience\, and genuine care to every city we visit.
URL:https://ontariodance.com/event/move-the-ultimate-dance-competition-toronto-4/
LOCATION:MOVE The Ultimate Dance Competition\, Toronto\, ON\, Canada
END:VEVENT
BEGIN:VEVENT
DTSTART;VALUE=DATE:20270408
DTEND;VALUE=DATE:20270412
DTSTAMP:20260421T020605
CREATED:20260409T103459Z
LAST-MODIFIED:20260409T103459Z
UID:15955-1807142400-1807487999@ontariodance.com
SUMMARY:The Knockout Dance Challenge - Kitchener 1
DESCRIPTION:At The Knockout Dance Challenge\, dancers and studios have the opportunity to demonstrate their immense talents and\, along the way\, win awards and cash scholarships in multiple dance categories and age divisions. And\, of course\, don’t forget that special TKO punch that makes The Knockout Dance Challenge so unique and will bring audiences to their feet: The Main Event is our EXCITING dance off that takes place on the final day of competition. 
URL:https://ontariodance.com/event/the-knockout-dance-challenge-kitchener-1-4/
LOCATION:The Knockout Dance Challenge\, Bradford\, ON\, Canada
ORGANIZER;CN="The%20Knockout%20Dance%20Challenge":MAILTO:info@theknockoutdance.com
END:VEVENT
BEGIN:VEVENT
DTSTART;VALUE=DATE:20270408
DTEND;VALUE=DATE:20270412
DTSTAMP:20260421T020605
CREATED:20260414T182202Z
LAST-MODIFIED:20260414T182202Z
UID:16062-1807142400-1807487999@ontariodance.com
SUMMARY:SHOCK Dance Challenge - St.Catharines 3
DESCRIPTION:
URL:https://ontariodance.com/event/shock-dance-challenge-st-catharines-3-5/
LOCATION:FirstOntario Performing Arts Centre\, 250 St Paul Street\, St. Catharines\, ON\, L2R 3M2\, Canada
END:VEVENT
BEGIN:VEVENT
DTSTART;VALUE=DATE:20270408
DTEND;VALUE=DATE:20270412
DTSTAMP:20260421T020605
CREATED:20260415T132432Z
LAST-MODIFIED:20260415T132432Z
UID:16103-1807142400-1807487999@ontariodance.com
SUMMARY:Star Beat Dance Champions - Scarbrough 2
DESCRIPTION:
URL:https://ontariodance.com/event/star-beat-dance-champions-scarbrough-2/
LOCATION:ON
END:VEVENT
BEGIN:VEVENT
DTSTART;VALUE=DATE:20270409
DTEND;VALUE=DATE:20270412
DTSTAMP:20260421T020605
CREATED:20260403T150154Z
LAST-MODIFIED:20260403T150154Z
UID:15677-1807228800-1807487999@ontariodance.com
SUMMARY:Dance Attack Competition - Brantford
DESCRIPTION:DANCE ATTACK Workshops is built around helping students\, parents and studios learn from the best and have fun! The days of traveling all around Canada and USA and enormous bills at the end of weekend are gone! \nDANCE ATTACK comes to your city and your studio.  I see first hand the challenges for families as students want to see the familiar names and learn from the best. With rising travel expenses\, accommodation and food costs\, our goal is to provide the same experience you will get from a big city workshop for half the cost and be within driving distance.
URL:https://ontariodance.com/event/dance-attack-competition-brantford-2/
LOCATION:Sanderson Centre\, 88 Dalhousie Street\, Brantford\, ON\, N3T 2J2\, Canada
ORGANIZER;CN="Dance%20Attack":MAILTO:kent@dance-attack.com
END:VEVENT
BEGIN:VEVENT
DTSTART;VALUE=DATE:20270409
DTEND;VALUE=DATE:20270412
DTSTAMP:20260421T020605
CREATED:20260407T104847Z
LAST-MODIFIED:20260407T104847Z
UID:15845-1807228800-1807487999@ontariodance.com
SUMMARY:Dance Attack Competition - Brantford
DESCRIPTION:DANCE ATTACK has been providing world class workshops since 2008\, bringing some of the biggest dance industry names\, while providing top notch entertainment. In 2015\,  DANCE ATTACK expanded to offer the TORONTO DANCE TEACHER EXPO in which 600+ studio directors and teachers all across Canada come together for an exciting and uplifting three days of instruction. We then expanded in 2016 to offer THE CALGARY DANCE TEACHER EXPO which it provided the same aspects as its sister Expo in Toronto!
URL:https://ontariodance.com/event/dance-attack-competition-brantford-3/
LOCATION:Dance Attack Competition\, Ontario\, Canada
END:VEVENT
BEGIN:VEVENT
DTSTART;VALUE=DATE:20270409
DTEND;VALUE=DATE:20270412
DTSTAMP:20260421T020605
CREATED:20260409T100633Z
LAST-MODIFIED:20260409T100633Z
UID:15921-1807228800-1807487999@ontariodance.com
SUMMARY:Purpose Dance Competition - Guelph
DESCRIPTION:An innovative competition experience for dancers that is both fun and educational.
URL:https://ontariodance.com/event/purpose-dance-competition-guelph-3/
LOCATION:Purpose Dance Competition\, Woodbridge\, ON\, Canada
END:VEVENT
BEGIN:VEVENT
DTSTART;VALUE=DATE:20270409
DTEND;VALUE=DATE:20270412
DTSTAMP:20260421T020605
CREATED:20260409T101849Z
LAST-MODIFIED:20260409T101849Z
UID:15933-1807228800-1807487999@ontariodance.com
SUMMARY:Kick It Up Dance Competition - Hamilton
DESCRIPTION:At the heart of Kick It Up is a family who knows the dance world inside and out. With over 18 years spent immersed in the competitive dance scene alongside their daughters\, The Raymond family set out to build something truly special: a dance competition where joy\, encouragement\, and community take centre stage.
URL:https://ontariodance.com/event/kick-it-up-dance-competition-hamilton-2/
LOCATION:Kick It Up Dance\, Mississauga\, ON\, Canada
ORGANIZER;CN="Kick%20It%20Up%20Dance":MAILTO:info@kickitup.ca
END:VEVENT
BEGIN:VEVENT
DTSTART;VALUE=DATE:20270409
DTEND;VALUE=DATE:20270412
DTSTAMP:20260421T020605
CREATED:20260414T173941Z
LAST-MODIFIED:20260414T173941Z
UID:16030-1807228800-1807487999@ontariodance.com
SUMMARY:Shine Dance Competitions - Belleville
DESCRIPTION:
URL:https://ontariodance.com/event/shine-dance-competitions-belleville-3/
LOCATION:The Empire Theatre\, 321 Front Street\, Belleville\, ON\, K8N 2Z9\, Canada
END:VEVENT
BEGIN:VEVENT
DTSTART;VALUE=DATE:20270409
DTEND;VALUE=DATE:20270412
DTSTAMP:20260421T020605
CREATED:20260414T174123Z
LAST-MODIFIED:20260414T174123Z
UID:16032-1807228800-1807487999@ontariodance.com
SUMMARY:Shine Dance Competitions - North Bay
DESCRIPTION:
URL:https://ontariodance.com/event/shine-dance-competitions-north-bay-4/
LOCATION:The Capitol Centre\, 150 Main Street East\, North Bay\,\, ON\, P1B 1A8\, Canada
ORGANIZER;CN="Shine%20Dance%20Competition":MAILTO:info@shinedance.com
END:VEVENT
BEGIN:VEVENT
DTSTART;VALUE=DATE:20270415
DTEND;VALUE=DATE:20270419
DTSTAMP:20260421T020605
CREATED:20260403T165206Z
LAST-MODIFIED:20260403T165206Z
UID:15725-1807747200-1808092799@ontariodance.com
SUMMARY:Bedazzled Dance Champions - Niagara Falls
DESCRIPTION:
URL:https://ontariodance.com/event/bedazzled-dance-champions-niagara-falls-2/
LOCATION:Niagara Falls
ORGANIZER;CN="Bedazzled%20Dance":MAILTO:bedazzled@bellnet.ca
END:VEVENT
BEGIN:VEVENT
DTSTART;VALUE=DATE:20270415
DTEND;VALUE=DATE:20270419
DTSTAMP:20260421T020605
CREATED:20260403T171741Z
LAST-MODIFIED:20260403T171741Z
UID:15749-1807747200-1808092799@ontariodance.com
SUMMARY:The Knockout Dance Challenge - London
DESCRIPTION:At The Knockout Dance Challenge\, dancers and studios have the opportunity to demonstrate their immense talents and\, along the way\, win awards and cash scholarships in multiple dance categories\nand age divisions. And\, of course\, don’t forget that special TKO punch that makes The Knockout Dance Challenge so unique and will bring audiences to their fee
URL:https://ontariodance.com/event/the-knockout-dance-challenge-london-6/
LOCATION:London\, Ontario\, London\, ON\, Canada
END:VEVENT
BEGIN:VEVENT
DTSTART;VALUE=DATE:20270415
DTEND;VALUE=DATE:20270419
DTSTAMP:20260421T020605
CREATED:20260407T102244Z
LAST-MODIFIED:20260407T102244Z
UID:15809-1807747200-1808092799@ontariodance.com
SUMMARY:Bedazzled Dance Champions - Niagara Falls
DESCRIPTION:Our main focus is to provide a fun\, safe\, positive and inclusive atmosphere for all our dancers\, studios and families.
URL:https://ontariodance.com/event/bedazzled-dance-champions-niagara-falls-3/
LOCATION:Bedazzled Dance Champions\, ON\, Canada
END:VEVENT
BEGIN:VEVENT
DTSTART;VALUE=DATE:20270415
DTEND;VALUE=DATE:20270419
DTSTAMP:20260421T020605
CREATED:20260407T104858Z
LAST-MODIFIED:20260407T104858Z
UID:15846-1807747200-1808092799@ontariodance.com
SUMMARY:Dance Attack Competition - St. Catharines 2
DESCRIPTION:DANCE ATTACK has been providing world class workshops since 2008\, bringing some of the biggest dance industry names\, while providing top notch entertainment. In 2015\,  DANCE ATTACK expanded to offer the TORONTO DANCE TEACHER EXPO in which 600+ studio directors and teachers all across Canada come together for an exciting and uplifting three days of instruction. We then expanded in 2016 to offer THE CALGARY DANCE TEACHER EXPO which it provided the same aspects as its sister Expo in Toronto!
URL:https://ontariodance.com/event/dance-attack-competition-st-catharines-2-3/
LOCATION:Dance Attack Competition\, Ontario\, Canada
END:VEVENT
BEGIN:VEVENT
DTSTART;VALUE=DATE:20270415
DTEND;VALUE=DATE:20270419
DTSTAMP:20260421T020605
CREATED:20260407T110303Z
LAST-MODIFIED:20260407T110303Z
UID:15868-1807747200-1808092799@ontariodance.com
SUMMARY:Elevation Dance Challenge - Pickering
DESCRIPTION:At Elevation Dance Challenge\, we believe dance competitions are about more than winning trophies. We are committed to providing an event that leaves everyone feeling acknowledged\, recognized\, and appreciated. Our competitions inspire dancers of all levels to reach for their dreams\, offering a platform where their hard work and dedication can truly shine.
URL:https://ontariodance.com/event/elevation-dance-challenge-pickering/
LOCATION:Elevation Dance Challenge\, Milton\, ON\, Canada
ORGANIZER;CN="Elevation%20Dance%20Challenge":MAILTO:info@elevationdancechallenge.ca
END:VEVENT
BEGIN:VEVENT
DTSTART;VALUE=DATE:20270415
DTEND;VALUE=DATE:20270419
DTSTAMP:20260421T020605
CREATED:20260409T103503Z
LAST-MODIFIED:20260409T103503Z
UID:15956-1807747200-1808092799@ontariodance.com
SUMMARY:The Knockout Dance Challenge - London
DESCRIPTION:At The Knockout Dance Challenge\, dancers and studios have the opportunity to demonstrate their immense talents and\, along the way\, win awards and cash scholarships in multiple dance categories and age divisions. And\, of course\, don’t forget that special TKO punch that makes The Knockout Dance Challenge so unique and will bring audiences to their feet: The Main Event is our EXCITING dance off that takes place on the final day of competition. 
URL:https://ontariodance.com/event/the-knockout-dance-challenge-london-7/
LOCATION:The Knockout Dance Challenge\, Bradford\, ON\, Canada
END:VEVENT
BEGIN:VEVENT
DTSTART;VALUE=DATE:20270415
DTEND;VALUE=DATE:20270419
DTSTAMP:20260421T020605
CREATED:20260414T174623Z
LAST-MODIFIED:20260414T174623Z
UID:16034-1807747200-1808092799@ontariodance.com
SUMMARY:Shine Dance Competitions - Niagara 1
DESCRIPTION:
URL:https://ontariodance.com/event/shine-dance-competitions-niagara-1/
LOCATION:Central Niagara Community Venue\, 680 York Rd\, Niagara-on-the-Lake\, ON L0S 1J0\, Canada\, ON\, Canada
ORGANIZER;CN="Shine%20Dance%20Competition":MAILTO:info@shinedance.com
END:VEVENT
BEGIN:VEVENT
DTSTART;VALUE=DATE:20270415
DTEND;VALUE=DATE:20270419
DTSTAMP:20260421T020605
CREATED:20260414T175318Z
LAST-MODIFIED:20260414T175318Z
UID:16040-1807747200-1808092799@ontariodance.com
SUMMARY:Shine Dance Competitions - Hamilton
DESCRIPTION:
URL:https://ontariodance.com/event/shine-dance-competitions-hamilton-4/
LOCATION:Hamilton Convention Centre\, 1 Summers Lane\, Hamilton\, ON\, L8P 4Y2\, Canada
ORGANIZER;CN="Shine%20Dance%20Competition":MAILTO:info@shinedance.com
END:VEVENT
BEGIN:VEVENT
DTSTART;VALUE=DATE:20270415
DTEND;VALUE=DATE:20270419
DTSTAMP:20260421T020605
CREATED:20260414T182506Z
LAST-MODIFIED:20260414T182506Z
UID:16066-1807747200-1808092799@ontariodance.com
SUMMARY:SHOCK Dance Challenge - Mississauga 1
DESCRIPTION:
URL:https://ontariodance.com/event/shock-dance-challenge-mississauga-1-6/
LOCATION:Hilton Toronto Airport Hotel & Suites\, 5875 Airport Road\, Mississauga\, ON\, L4V 1N1\, Canada
END:VEVENT
BEGIN:VEVENT
DTSTART;VALUE=DATE:20270415
DTEND;VALUE=DATE:20270419
DTSTAMP:20260421T020605
CREATED:20260415T132631Z
LAST-MODIFIED:20260415T132631Z
UID:16105-1807747200-1808092799@ontariodance.com
SUMMARY:Star Beat Dance Champions - Richmond Hill 1
DESCRIPTION:
URL:https://ontariodance.com/event/star-beat-dance-champions-richmond-hill-1/
LOCATION:ON
END:VEVENT
BEGIN:VEVENT
DTSTART;VALUE=DATE:20270415
DTEND;VALUE=DATE:20270419
DTSTAMP:20260421T020605
CREATED:20260415T134916Z
LAST-MODIFIED:20260415T134916Z
UID:16119-1807747200-1808092799@ontariodance.com
SUMMARY:The Ultimate Dance Connection - London
DESCRIPTION:
URL:https://ontariodance.com/event/the-ultimate-dance-connection-london-7/
LOCATION:RBC Place London\, RBC Place London 300 York Street\, London\, ON\, N6B 1P8\, Canada
END:VEVENT
BEGIN:VEVENT
DTSTART;VALUE=DATE:20270416
DTEND;VALUE=DATE:20270419
DTSTAMP:20260421T020605
CREATED:20260403T154840Z
LAST-MODIFIED:20260403T154840Z
UID:15688-1807833600-1808092799@ontariodance.com
SUMMARY:Rhythm Revolution Dance Competition - Guelph
DESCRIPTION:We are honoured to announce that we will be continuing the legacy of Rhythm Dance\, where dance was always done right! \nWith Donna and Nancy’s blessing\, we can’t wait to infuse new energy into a dance competition that so many of us hold dear to our hearts. \n​It’s time to awaken the rhythm within and join the \nRHYTHM REVOLUTION \nIt promises to be a game-changer & we can’t wait for you to be a part of it.
URL:https://ontariodance.com/event/rhythm-revolution-dance-competition-guelph-2/
LOCATION:River Run Centre\, 35 Woolwich St\, Guelph\, ON\, N1H 3V1\, Canada
END:VEVENT
BEGIN:VEVENT
DTSTART;VALUE=DATE:20270416
DTEND;VALUE=DATE:20270419
DTSTAMP:20260421T020605
CREATED:20260407T104125Z
LAST-MODIFIED:20260407T104125Z
UID:15835-1807833600-1808092799@ontariodance.com
SUMMARY:LNK by Dancefest Canada - Toronto
DESCRIPTION:
URL:https://ontariodance.com/event/lnk-by-dancefest-canada-toronto-3/
LOCATION:LNK by Dancefest Canada\, Barrie\, ON\, Canada
END:VEVENT
BEGIN:VEVENT
DTSTART;VALUE=DATE:20270416
DTEND;VALUE=DATE:20270419
DTSTAMP:20260421T020605
CREATED:20260407T111132Z
LAST-MODIFIED:20260407T111132Z
UID:15880-1807833600-1808092799@ontariodance.com
SUMMARY:Entertain Us Dance Competition - Kitchener
DESCRIPTION:At ENTERTAIN US\, we are focused on providing a fun and welcoming dance competition. \nOur goal is to accomplish everything we can to create an environment which supports our young aspiring dancers.
URL:https://ontariodance.com/event/entertain-us-dance-competition-kitchener-2/
LOCATION:Entertain Us Dance Competition\, Lindsay\, ON\, Canada
END:VEVENT
BEGIN:VEVENT
DTSTART;VALUE=DATE:20270416
DTEND;VALUE=DATE:20270419
DTSTAMP:20260421T020605
CREATED:20260409T100639Z
LAST-MODIFIED:20260409T100639Z
UID:15922-1807833600-1808092799@ontariodance.com
SUMMARY:Purpose Dance Competition - Brantford
DESCRIPTION:An innovative competition experience for dancers that is both fun and educational.
URL:https://ontariodance.com/event/purpose-dance-competition-brantford-3/
LOCATION:Purpose Dance Competition\, Woodbridge\, ON\, Canada
END:VEVENT
BEGIN:VEVENT
DTSTART;VALUE=DATE:20270421
DTEND;VALUE=DATE:20270424
DTSTAMP:20260421T020605
CREATED:20260403T151229Z
LAST-MODIFIED:20260403T151229Z
UID:15685-1808265600-1808524799@ontariodance.com
SUMMARY:Dance Attack Competition - Mississauga 2
DESCRIPTION:DANCE ATTACK Workshops is built around helping students\, parents and studios learn from the best and have fun! The days of traveling all around Canada and USA and enormous bills at the end of weekend are gone! \nDANCE ATTACK comes to your city and your studio.  I see first hand the challenges for families as students want to see the familiar names and learn from the best. With rising travel expenses\, accommodation and food costs\, our goal is to provide the same experience you will get from a big city workshop for half the cost and be within driving distance.
URL:https://ontariodance.com/event/dance-attack-competition-mississauga-2-2/
LOCATION:Hilton Mississauga/Meadowvale\, 6750 Mississauga Road\, Mississauga\, ON\, L5N 2L3\, Canada
ORGANIZER;CN="Dance%20Attack":MAILTO:kent@dance-attack.com
END:VEVENT
BEGIN:VEVENT
DTSTART;VALUE=DATE:20270421
DTEND;VALUE=DATE:20270426
DTSTAMP:20260421T020605
CREATED:20260414T182817Z
LAST-MODIFIED:20260414T182817Z
UID:16070-1808265600-1808697599@ontariodance.com
SUMMARY:SHOCK Dance Challenge - Halifax 1
DESCRIPTION:
URL:https://ontariodance.com/event/shock-dance-challenge-halifax-1-2/
LOCATION:Bella Rose Arts Centre\, 283 Thomas Raddall Dr\, Halifax\, ON\, NS B3S 1R1\, Canada
END:VEVENT
END:VCALENDAR