BEGIN:VCALENDAR
VERSION:2.0
PRODID:-//OntarioDance.com - ECPv6.1.2.2//NONSGML v1.0//EN
CALSCALE:GREGORIAN
METHOD:PUBLISH
X-ORIGINAL-URL:https://ontariodance.com
X-WR-CALDESC:Events for OntarioDance.com
REFRESH-INTERVAL;VALUE=DURATION:PT1H
X-Robots-Tag:noindex
X-PUBLISHED-TTL:PT1H
BEGIN:VTIMEZONE
TZID:America/Toronto
BEGIN:DAYLIGHT
TZOFFSETFROM:-0500
TZOFFSETTO:-0400
TZNAME:EDT
DTSTART:20270314T070000
END:DAYLIGHT
BEGIN:STANDARD
TZOFFSETFROM:-0400
TZOFFSETTO:-0500
TZNAME:EST
DTSTART:20271107T060000
END:STANDARD
END:VTIMEZONE
BEGIN:VEVENT
DTSTART;VALUE=DATE:20270521
DTEND;VALUE=DATE:20270524
DTSTAMP:20260421T210942
CREATED:20260415T140009Z
LAST-MODIFIED:20260415T140009Z
UID:16125-1810857600-1811116799@ontariodance.com
SUMMARY:The Ultimate Dance Connection - Cobourg
DESCRIPTION:
URL:https://ontariodance.com/event/the-ultimate-dance-connection-cobourg-5/
LOCATION:Cobourg Community Centre\, 750 D'Arcy Street\, Cobourg\, ON\, K9A 0G1\, Canada
END:VEVENT
BEGIN:VEVENT
DTSTART;VALUE=DATE:20270527
DTEND;VALUE=DATE:20270531
DTSTAMP:20260421T210942
CREATED:20260403T155310Z
LAST-MODIFIED:20260403T155310Z
UID:15692-1811376000-1811721599@ontariodance.com
SUMMARY:Rhythm Revolution Dance Competition - Brantford 2
DESCRIPTION:We are honoured to announce that we will be continuing the legacy of Rhythm Dance\, where dance was always done right! \nWith Donna and Nancy’s blessing\, we can’t wait to infuse new energy into a dance competition that so many of us hold dear to our hearts. \n​It’s time to awaken the rhythm within and join the \nRHYTHM REVOLUTION \nIt promises to be a game-changer & we can’t wait for you to be a part of it.
URL:https://ontariodance.com/event/rhythm-revolution-dance-competition-brantford-2-2/
LOCATION:Sanderson Centre\, 88 Dalhousie Street\, Brantford\, ON\, N3T 2J2\, Canada
END:VEVENT
BEGIN:VEVENT
DTSTART;VALUE=DATE:20270527
DTEND;VALUE=DATE:20270531
DTSTAMP:20260421T210942
CREATED:20260409T102303Z
LAST-MODIFIED:20260409T102303Z
UID:15942-1811376000-1811721599@ontariodance.com
SUMMARY:Kick It Up Dance Competition - Blue Mountain 5
DESCRIPTION:At the heart of Kick It Up is a family who knows the dance world inside and out. With over 18 years spent immersed in the competitive dance scene alongside their daughters\, The Raymond family set out to build something truly special: a dance competition where joy\, encouragement\, and community take centre stage.
URL:https://ontariodance.com/event/kick-it-up-dance-competition-blue-mountain-5/
LOCATION:Kick It Up Dance\, Mississauga\, ON\, Canada
ORGANIZER;CN="Kick%20It%20Up%20Dance":MAILTO:info@kickitup.ca
END:VEVENT
BEGIN:VEVENT
DTSTART;VALUE=DATE:20270527
DTEND;VALUE=DATE:20270531
DTSTAMP:20260421T210942
CREATED:20260415T133152Z
LAST-MODIFIED:20260415T133152Z
UID:16113-1811376000-1811721599@ontariodance.com
SUMMARY:Star Beat Dance Champions - Niagara Falls 3
DESCRIPTION:
URL:https://ontariodance.com/event/star-beat-dance-champions-niagara-falls-3-4/
END:VEVENT
BEGIN:VEVENT
DTSTART;VALUE=DATE:20270528
DTEND;VALUE=DATE:20270531
DTSTAMP:20260421T210942
CREATED:20260414T180319Z
LAST-MODIFIED:20260414T180319Z
UID:16049-1811462400-1811721599@ontariodance.com
SUMMARY:Shine Dance Competitions - London
DESCRIPTION:
URL:https://ontariodance.com/event/shine-dance-competitions-london-4/
LOCATION:Centennial Hall\, 550 Wellington Street\, London\, ON\, N6A 3P9\, Canada
END:VEVENT
BEGIN:VEVENT
DTSTART;VALUE=DATE:20270702
DTEND;VALUE=DATE:20270710
DTSTAMP:20260421T210942
CREATED:20260403T165558Z
LAST-MODIFIED:20260403T165558Z
UID:15731-1814486400-1815177599@ontariodance.com
SUMMARY:Bedazzled Dance Champions - Blue Mountain
DESCRIPTION:Finals & Pageant
URL:https://ontariodance.com/event/bedazzled-dance-champions-blue-mountain/
LOCATION:Blue Mountain
ORGANIZER;CN="Bedazzled%20Dance":MAILTO:bedazzled@bellnet.ca
END:VEVENT
BEGIN:VEVENT
DTSTART;VALUE=DATE:20270705
DTEND;VALUE=DATE:20270712
DTSTAMP:20260421T210942
CREATED:20260414T183429Z
LAST-MODIFIED:20260414T183429Z
UID:16076-1814745600-1815350399@ontariodance.com
SUMMARY:SHOCK Dance Challenge - Niagara Falls
DESCRIPTION:
URL:https://ontariodance.com/event/shock-dance-challenge-niagara-falls/
LOCATION:The AfterShock
END:VEVENT
BEGIN:VEVENT
DTSTART;VALUE=DATE:20270925
DTEND;VALUE=DATE:20270927
DTSTAMP:20260421T210942
CREATED:20260414T183749Z
LAST-MODIFIED:20260414T183749Z
UID:16081-1821830400-1822003199@ontariodance.com
SUMMARY:SHOCK Dance Challenge - Mississauga
DESCRIPTION:The Convention
URL:https://ontariodance.com/event/shock-dance-challenge-mississauga-4/
LOCATION:Hilton Toronto Airport Hotel & Suites\, 5875 Airport Road\, Mississauga\, ON\, L4V 1N1\, Canada
END:VEVENT
BEGIN:VEVENT
DTSTART;VALUE=DATE:20271104
DTEND;VALUE=DATE:20271108
DTSTAMP:20260421T210942
CREATED:20260414T183101Z
LAST-MODIFIED:20260414T183101Z
UID:16074-1825286400-1825631999@ontariodance.com
SUMMARY:SHOCK Dance Challenge - Halifax 3
DESCRIPTION:
URL:https://ontariodance.com/event/shock-dance-challenge-halifax-3/
LOCATION:Spatz Theatre\, 1855 Trollope Street.\, Halifax\, ON\, NS B3H 0A4\, Canada
END:VEVENT
BEGIN:VEVENT
DTSTART;VALUE=DATE:20271106
DTEND;VALUE=DATE:20271107
DTSTAMP:20260421T210942
CREATED:20260414T183935Z
LAST-MODIFIED:20260414T183935Z
UID:16083-1825459200-1825545599@ontariodance.com
SUMMARY:SHOCK Dance Challenge -  Halifax
DESCRIPTION:The Convention
URL:https://ontariodance.com/event/shock-dance-challenge-halifax/
LOCATION:Spatz Theatre\, 1855 Trollope Street.\, Halifax\, ON\, NS B3H 0A4\, Canada
END:VEVENT
BEGIN:VEVENT
DTSTART;VALUE=DATE:20271106
DTEND;VALUE=DATE:20271109
DTSTAMP:20260421T210942
CREATED:20260403T170235Z
LAST-MODIFIED:20260403T170235Z
UID:15735-1825459200-1825718399@ontariodance.com
SUMMARY:Revive Dance - Toronto
DESCRIPTION:
URL:https://ontariodance.com/event/revive-dance-toronto/
LOCATION:Toronto Ontario\, Toronto\, Ontario\, Canada
END:VEVENT
BEGIN:VEVENT
DTSTART;VALUE=DATE:20271204
DTEND;VALUE=DATE:20271207
DTSTAMP:20260421T210942
CREATED:20260403T161137Z
LAST-MODIFIED:20260403T161137Z
UID:15696-1827878400-1828137599@ontariodance.com
SUMMARY:PRESS PLAY Dance - Toronto
DESCRIPTION:We are a collective of passionate artists dedicated to bringing world-class experiences to dancers of all levels and disciplines. Press Play Dance Convention blends education and artistry through premier workshops and electrifying competitions—pushing the boundaries of dance events.
URL:https://ontariodance.com/event/press-play-dance-toronto/
LOCATION:Toronto Ontario\, Toronto\, Ontario\, Canada
ORGANIZER;CN="Press%20Play%20Dance":MAILTO:info@pressplay.com
END:VEVENT
END:VCALENDAR