BEGIN:VCALENDAR
VERSION:2.0
PRODID:-//OntarioDance.com - ECPv6.1.2.2//NONSGML v1.0//EN
CALSCALE:GREGORIAN
METHOD:PUBLISH
X-WR-CALNAME:OntarioDance.com
X-ORIGINAL-URL:https://ontariodance.com
X-WR-CALDESC:Events for OntarioDance.com
REFRESH-INTERVAL;VALUE=DURATION:PT1H
X-Robots-Tag:noindex
X-PUBLISHED-TTL:PT1H
BEGIN:VTIMEZONE
TZID:America/Toronto
BEGIN:DAYLIGHT
TZOFFSETFROM:-0500
TZOFFSETTO:-0400
TZNAME:EDT
DTSTART:20230312T070000
END:DAYLIGHT
BEGIN:STANDARD
TZOFFSETFROM:-0400
TZOFFSETTO:-0500
TZNAME:EST
DTSTART:20231105T060000
END:STANDARD
END:VTIMEZONE
BEGIN:VEVENT
DTSTART;VALUE=DATE:20231005
DTEND;VALUE=DATE:20231010
DTSTAMP:20260424T103655
CREATED:20230417T123851Z
LAST-MODIFIED:20230417T123851Z
UID:373-1696464000-1696895999@ontariodance.com
SUMMARY:Canada Salsa and Bachata Congress - Toronto
DESCRIPTION:The Canadian Salsa Event of the Year!\nThis is the longest running event in Canada & one of the largest & most anticipated events in North America. There will be 50 artists from different countries\, 70 dance companies from around the world\, and 45 top-notch instructors attending. Workshops will be provided for individuals of all skill levels\, including beginner boot camps and intensive sessions for experts. You’ll have the opportunity to dance socially for 22 hours in three ballrooms\, while enjoying the musical stylings of 10 DJs. Additionally\, there will be 20 vendors present. The 16th Annual Canadian Championships\, featuring Professional\, Amateur\, and Pro-Am heats and showcases\, will also take place.
URL:https://ontariodance.com/event/canada-salsa-and-bachata-congress-toronto/
LOCATION:Fairmont Royal York\, 100 Front Street West\, Toronto\, ON\, M5J 1E3\, Canada
ORGANIZER;CN="Canada%20Salsa%20Congress":MAILTO:info@canadasalsacongress.com
END:VEVENT
BEGIN:VEVENT
DTSTART;VALUE=DATE:20231006
DTEND;VALUE=DATE:20231009
DTSTAMP:20260424T103655
CREATED:20230414T122008Z
LAST-MODIFIED:20230414T122008Z
UID:334-1696550400-1696809599@ontariodance.com
SUMMARY:Can-Am DanceSport Gala - Toronto
DESCRIPTION:The Can-Am DanceSport Gala is coming back to Toronto and it’s going to be an amazing event! This year’s competition will be the 13th edition of this spectacular international event\, and it will also feature the North American Championships! Dancers from all over the world will come together for this exciting competition.  Don’t miss out on this incredible event happening this fall!
URL:https://ontariodance.com/event/can-am-dancesport-gala-toronto/
ORGANIZER;CN="Can-Am%20Dancesport%20Gala":MAILTO:canam.dance@gmail.com
END:VEVENT
BEGIN:VEVENT
DTSTART;VALUE=DATE:20231014
DTEND;VALUE=DATE:20231015
DTSTAMP:20260424T103655
CREATED:20230905T124923Z
LAST-MODIFIED:20230906T081128Z
UID:1992-1697241600-1697327999@ontariodance.com
SUMMARY:Eastern Canadian Tap Conference - Mississauga
DESCRIPTION:The Tap Dance Centre started organically when director Kim Chalovich launched an underground tap dance studio (which operated informally for 10+ years in various locations) as a creative space for tap dancers young and old alike. The Tap Dance Centre is a unique rhythm hub where dancers come to train in tap dance\, step dance\, bucket drumming\, history\, performing with live music and more. \n  \n 
URL:https://ontariodance.com/event/tap-dance-centre/
LOCATION:Tap Dance Centre\, Mississauga\, ON\, Canada
ORGANIZER;CN="Tap%20Dance%20Centre":MAILTO:info@tapdancecentre.ca
END:VEVENT
BEGIN:VEVENT
DTSTART;VALUE=DATE:20231021
DTEND;VALUE=DATE:20231022
DTSTAMP:20260424T103655
CREATED:20231003T113417Z
LAST-MODIFIED:20231005T111324Z
UID:2827-1697846400-1697932799@ontariodance.com
SUMMARY:KARV Artistry Exchange - Hamilton
DESCRIPTION:KARV Dance Challenge aims to help young children carve out a positive and stimulating path in life by offering them a platform to express themselves creatively through movement and artistry. With over 20 years of experience in the dance industry and eight years of professionally organizing dance competitions\, Caitlin Decristoforo is driven to provide a competition that gives back to all the participants\, including dancers\, parents\, teachers\, and directors. KARV wants to offer the best dance competition experience in Canada to those who have dedicated countless hours to perfecting their craft. The organizers recognize that the memories created at the competition will shape the dancers into becoming the best versions of themselves. Ultimately\, KARV’s aim is to ensure that everyone who attends the competition has an unforgettable experience. \n  \nOctober 21. It is under KARV Artistry Exchange and is taking place at the Hamilton Convention Center. It is a dance convention.  Please let us know if you need any further information.
URL:https://ontariodance.com/event/karv-artistry-exchange-hamilton-1/
LOCATION:Hamilton Convention Centre\, 1 Summers Lane\, Hamilton\, ON\, L8P 4Y2\, Canada
ORGANIZER;CN="KARV%20Dance%20Challenge":MAILTO:caitlin@karvdancechallenge.com
END:VEVENT
BEGIN:VEVENT
DTSTART;TZID=America/Toronto:20231029T090000
DTEND;TZID=America/Toronto:20231029T180000
DTSTAMP:20260424T103655
CREATED:20231002T113742Z
LAST-MODIFIED:20231002T114323Z
UID:2819-1698570000-1698602400@ontariodance.com
SUMMARY:Sol Fall Intensive - Kitchener
DESCRIPTION:SOLIntensive is an immersive workshop program designed to empower dancers to explore a diverse range of styles. With the goal of developing your technique\, unleashing your creativity and fostering meaningful connections! Join the collective and experience the journey towards building a stronger\, more united dance community!
URL:https://ontariodance.com/event/sol-fall-intensive-kitchener/
LOCATION:Bingemans\, 425 Bingemans Centre Drive\, Kitchener\, ON\, N2B 3X7\, Canada
ORGANIZER;CN="Sol%20Dance%20Collective%20Inc":MAILTO:soldancecollective@gmail.com
END:VEVENT
END:VCALENDAR