BEGIN:VCALENDAR
VERSION:2.0
PRODID:-//OntarioDance.com - ECPv6.1.2.2//NONSGML v1.0//EN
CALSCALE:GREGORIAN
METHOD:PUBLISH
X-WR-CALNAME:OntarioDance.com
X-ORIGINAL-URL:https://ontariodance.com
X-WR-CALDESC:Events for OntarioDance.com
REFRESH-INTERVAL;VALUE=DURATION:PT1H
X-Robots-Tag:noindex
X-PUBLISHED-TTL:PT1H
BEGIN:VTIMEZONE
TZID:America/Toronto
BEGIN:DAYLIGHT
TZOFFSETFROM:-0500
TZOFFSETTO:-0400
TZNAME:EDT
DTSTART:20240310T070000
END:DAYLIGHT
BEGIN:STANDARD
TZOFFSETFROM:-0400
TZOFFSETTO:-0500
TZNAME:EST
DTSTART:20241103T060000
END:STANDARD
BEGIN:DAYLIGHT
TZOFFSETFROM:-0500
TZOFFSETTO:-0400
TZNAME:EDT
DTSTART:20250309T070000
END:DAYLIGHT
BEGIN:STANDARD
TZOFFSETFROM:-0400
TZOFFSETTO:-0500
TZNAME:EST
DTSTART:20251102T060000
END:STANDARD
END:VTIMEZONE
BEGIN:VEVENT
DTSTART;VALUE=DATE:20240819
DTEND;VALUE=DATE:20240922
DTSTAMP:20260421T132343
CREATED:20240709T111314Z
LAST-MODIFIED:20240709T111314Z
UID:7264-1724025600-1726963199@ontariodance.com
SUMMARY:Tap Dance Centre - Tap Syllabus Teacher's Certification Course with Kim Chalovich
DESCRIPTION:
URL:https://ontariodance.com/event/tap-dance-centre-tap-syllabus-teachers-certification-course-with-kim-chalovich/
LOCATION:Tap Dance Centre\, Mississauga\, ON\, Canada
END:VEVENT
BEGIN:VEVENT
DTSTART;VALUE=DATE:20240819
DTEND;VALUE=DATE:20250331
DTSTAMP:20260421T132343
CREATED:20240819T102314Z
LAST-MODIFIED:20240819T102314Z
UID:8574-1724025600-1743379199@ontariodance.com
SUMMARY:International Fever Dance Championships - Markham 2025
DESCRIPTION:
URL:https://ontariodance.com/event/international-fever-dance-championships-markham-2025/
LOCATION:International Fever Dance Championships\, Ottawa\, Canada
END:VEVENT
BEGIN:VEVENT
DTSTART;VALUE=DATE:20240821
DTEND;VALUE=DATE:20250512
DTSTAMP:20260421T132343
CREATED:20240821T085114Z
LAST-MODIFIED:20240821T085114Z
UID:8649-1724198400-1747007999@ontariodance.com
SUMMARY:MOVE The Ultimate Dance Competition - Hamilton
DESCRIPTION:
URL:https://ontariodance.com/event/move-the-ultimate-dance-competition-hamilton/
LOCATION:MOVE The Ultimate Dance Competition\, Toronto\, ON\, Canada
END:VEVENT
BEGIN:VEVENT
DTSTART;VALUE=DATE:20240903
DTEND;VALUE=DATE:20240906
DTSTAMP:20260421T132343
CREATED:20240524T014622Z
LAST-MODIFIED:20240524T014622Z
UID:6447-1725321600-1725580799@ontariodance.com
SUMMARY:Dance Inc - Mini Fall 2024 Intensive
DESCRIPTION:This is the perfect class for dancer’s trying to find their groove\, to help them choose their style. It is also a class sure to bring lots of smiles for the dancers that love taking every style! \nMINIS IN MOTION: Mini Fall Intensive\n3-Day Intensive\nBallet/Technique/Jazz/Tap/Acro/Hip Hop
URL:https://ontariodance.com/event/dance-inc-mini-fall-2024-intensive/
LOCATION:Dance Inc\, 530 Westney Rd S\, Ajax\, ON\, L1S 6W4\, Canada
END:VEVENT
BEGIN:VEVENT
DTSTART;VALUE=DATE:20240908
DTEND;VALUE=DATE:20240909
DTSTAMP:20260421T132343
CREATED:20240909T024904Z
LAST-MODIFIED:20240909T024904Z
UID:9239-1725753600-1725839999@ontariodance.com
SUMMARY:The Knockout Challenge - Toronto #1
DESCRIPTION:
URL:https://ontariodance.com/event/the-knockout-challenge-toronto-1/
LOCATION:The Knockout Challenge\, Bradford\, ON\, Canada
END:VEVENT
BEGIN:VEVENT
DTSTART;VALUE=DATE:20240927
DTEND;VALUE=DATE:20240928
DTSTAMP:20260421T132343
CREATED:20240920T064119Z
LAST-MODIFIED:20240920T064150Z
UID:9523-1727395200-1727481599@ontariodance.com
SUMMARY:Canadian Dance Expo - Ballet Edition
DESCRIPTION:
URL:https://ontariodance.com/event/canadian-dance-expo-ballet-edition/
LOCATION:Holiday Inn Burlington Hotel and Conference Centre\, 3063 S Service Road\, Burlington\, ON\, L7N 3E9\, Canada
ORGANIZER;CN="Canadian%20Dance%20Expo":MAILTO:jerome@canadiandanceexpo.com
END:VEVENT
BEGIN:VEVENT
DTSTART;VALUE=DATE:20240927
DTEND;VALUE=DATE:20240930
DTSTAMP:20260421T132343
CREATED:20240920T063717Z
LAST-MODIFIED:20240920T063717Z
UID:9519-1727395200-1727654399@ontariodance.com
SUMMARY:Jump Dance Convention
DESCRIPTION:
URL:https://ontariodance.com/event/jump-dance-convention/
LOCATION:Delta Hotels Toronto Airport and Conference Centre\, 655 Dixon Road\, Toronto\, ON\, M9W 1J3\, Canada
ORGANIZER;CN="Jump%20Dance%20Convention":MAILTO:info@jumptour.com
END:VEVENT
BEGIN:VEVENT
DTSTART;VALUE=DATE:20240928
DTEND;VALUE=DATE:20240929
DTSTAMP:20260421T132343
CREATED:20240920T064306Z
LAST-MODIFIED:20240920T064352Z
UID:9527-1727481600-1727567999@ontariodance.com
SUMMARY:Canadian Dance Expo - Contemp Edition
DESCRIPTION:
URL:https://ontariodance.com/event/canadian-dance-expo-contemp-edition/
LOCATION:Holiday Inn Burlington Hotel and Conference Centre\, 3063 S Service Road\, Burlington\, ON\, L7N 3E9\, Canada
ORGANIZER;CN="Canadian%20Dance%20Expo":MAILTO:jerome@canadiandanceexpo.com
END:VEVENT
BEGIN:VEVENT
DTSTART;VALUE=DATE:20240928
DTEND;VALUE=DATE:20240930
DTSTAMP:20260421T132343
CREATED:20240809T091751Z
LAST-MODIFIED:20240809T091751Z
UID:8332-1727481600-1727654399@ontariodance.com
SUMMARY:Dance Canada - London
DESCRIPTION:
URL:https://ontariodance.com/event/dance-canada-london-3/
LOCATION:London\, Ontario\, London\, ON\, Canada
ORGANIZER;CN="Dance%20Canada":MAILTO:jrkovarikdc@gmail.com
END:VEVENT
BEGIN:VEVENT
DTSTART;VALUE=DATE:20240928
DTEND;VALUE=DATE:20240930
DTSTAMP:20260421T132343
CREATED:20240826T124053Z
LAST-MODIFIED:20240826T124245Z
UID:8771-1727481600-1727654399@ontariodance.com
SUMMARY:Dance Canada - London Convention
DESCRIPTION:We are elated to bring you another year of hosting dance competitions. To everyone who has participated in the past years\, we are excited and appreciate having you back. Welcome to all new participants; we are thrilled to have you at our event. \nThe Dance Canada Family continues to be committed to providing a professional judging panel\, a fun positive environment and an opportunity to perform on stage and share your passion of dance. We encourage\, applaud and celebrate each dancer as we all learn and grow together.
URL:https://ontariodance.com/event/dance-canada/
LOCATION:Lamplighter Inn & Conference Centre\, 591 Wellington Road\, London\, ON\, N6C 4R3
ORGANIZER;CN="Dance%20Canada":MAILTO:jrkovarikdc@gmail.com
END:VEVENT
BEGIN:VEVENT
DTSTART;VALUE=DATE:20240929
DTEND;VALUE=DATE:20240930
DTSTAMP:20260421T132343
CREATED:20240829T070443Z
LAST-MODIFIED:20240829T070443Z
UID:8871-1727568000-1727654399@ontariodance.com
SUMMARY:Shock Dance Challenge - Convention 1
DESCRIPTION:Describing SHOCK as just another typical dance competition would be an inadequate representation. In the dance industry\, SHOCK is highly regarded and has gained significant recognition in a short amount of time. By offering a more intimate dance experience\, SHOCK is able to work closely and efficiently to ensure every aspect is taken care of. The SHOCK experience has been refined since its establishment in 2010\, ensuring that everyone who attends is eager to return. \nOperated by a team of enthusiastic and imaginative individuals\, SHOCK aims to provide the most exceptional dance competition experience possible. Picture a professionally managed dance competition that still maintains a relaxed and comfortable atmosphere – that’s precisely what you can expect from SHOCK!
URL:https://ontariodance.com/event/shock-dance-challenge-convention-1/
LOCATION:Hilton Toronto Airport Hotel & Suites\, 5875 Airport Road\, Mississauga\, ON\, L4V 1N1\, Canada
ORGANIZER;CN="Shock%20Dance%20Challenge":MAILTO:info@shockdancechallenge.com
END:VEVENT
BEGIN:VEVENT
DTSTART;VALUE=DATE:20240929
DTEND;VALUE=DATE:20240930
DTSTAMP:20260421T132343
CREATED:20240920T064410Z
LAST-MODIFIED:20240920T064410Z
UID:9530-1727568000-1727654399@ontariodance.com
SUMMARY:Canadian Dance Expo - Jazz Edition
DESCRIPTION:
URL:https://ontariodance.com/event/canadian-dance-expo-jazz-edition/
LOCATION:Holiday Inn Burlington Hotel and Conference Centre\, 3063 S Service Road\, Burlington\, ON\, L7N 3E9\, Canada
ORGANIZER;CN="Canadian%20Dance%20Expo":MAILTO:jerome@canadiandanceexpo.com
END:VEVENT
END:VCALENDAR